Uber Exif Photo
Make : NIKON CORPORATION
Camera Model Name : NIKON D200
Orientation : Horizontal (normal)
Software : Adobe Photoshop CS5 Windows
Modify Date : 2011:01:01 15:10:27
Exposure Time : 1/250
F Number : 11.0
Exposure Program : Manual
ISO : 100
Date/Time Original : 2010:07:27 18:24:25
Create Date : 2010:07:27 18:24:25
Shutter Speed Value : 1/250
Aperture Value : 11.0
Exposure Compensation : 0
Max Aperture Value : 4.0
Subject Distance : 0.45 m
Metering Mode : Multi-segment
Light Source : Flash
Flash : No Flash
Focal Length : 19.0 mm
Color Space : Uncalibrated
Exif Image Width : 2000
Exif Image Height : 1385
Sensing Method : One-chip color area
Scene Type : Directly photographed
CFA Pattern : [Green,Red][Blue,Green]
Custom Rendered : Normal
Exposure Mode : Manual
White Balance : Manual
Digital Zoom Ratio : 1
Focal Length In 35mm Format : 28 mm
Scene Capture Type : Standard
Gain Control : None
Contrast : Normal
Saturation : Normal
Sharpness : Normal
Subject Distance Range : Unknown
Profile Description : Adobe RGB (1998)
Creator Tool : Adobe Photoshop CS5 Windows
Rating : 0
Lens Info : 12-24mm f/4
Lens : 12.0-24.0 mm f/4.0
Image Number : 42511
Raw File Name : _BOB2299.NEF
Version : 6.0
Process Version : 5.7
Color Temperature : 6150
Tint : -9
Exposure : 0.00
Shadows : 4
Brightness : +76
Luminance Smoothing : 0
Color Noise Reduction : 25
Chromatic Aberration R : 0
Chromatic Aberration B : 0
Vignette Amount : 0
Shadow Tint : 0
Red Hue : 0
Red Saturation : 0
Green Hue : 0
Green Saturation : 0
Blue Hue : 0
Blue Saturation : 0
Fill Light : 33
Vibrance : 0
Highlight Recovery : 0
Clarity : 0
Defringe : 0
Hue Adjustment Red : 0
Hue Adjustment Orange : 0
Hue Adjustment Yellow : 0
Hue Adjustment Green : 0
Hue Adjustment Aqua : 0
Hue Adjustment Blue : 0
Hue Adjustment Purple : 0
Hue Adjustment Magenta : 0
Saturation Adjustment Red : 0
Saturation Adjustment Orange : 0
Saturation Adjustment Yellow : 0
Saturation Adjustment Green : 0
Saturation Adjustment Aqua : 0
Saturation Adjustment Blue : 0
Saturation Adjustment Purple : 0
Saturation Adjustment Magenta : 0
Luminance Adjustment Red : 0
Luminance Adjustment Orange : 0
Luminance Adjustment Yellow : 0
Luminance Adjustment Green : 0
Luminance Adjustment Aqua : 0
Luminance Adjustment Blue : 0
Luminance Adjustment Purple : 0
Luminance Adjustment Magenta : 0
Split Toning Shadow Hue : 0
Split Toning Shadow Saturation : 0
Split Toning Highlight Hue : 0
Split Toning Highlight Saturation : 0
Split Toning Balance : 0
Parametric Shadows : 0
Parametric Darks : 0
Parametric Lights : 0
Parametric Highlights : 0
Parametric Shadow Split : 25
Parametric Midtone Split : 50
Parametric Highlight Split : 75
Sharpen Radius : +1.0
Sharpen Detail : 25
Sharpen Edge Masking : 0
Post Crop Vignette Amount : 0
Grain Amount : 0
Color Noise Reduction Detail : 50
Convert To Grayscale : False
Tone Curve Name : Medium Contrast
Camera Profile : Adobe Standard
Has Settings : True
Has Crop : False
Already Applied : True
Sidecar For Extension : NEF
Color Mode : RGB
ICC Profile Name : Adobe RGB (1998)
Date Created : 2010:07:27 18:24:25.049
Format : image/jpeg
Tone Curve : 0, 0, 32, 22, 64, 56, 128, 128, 192, 196, 255, 255
Image Width : 300
Image Height : 208
Bits Per Sample : 8
Color Components : 3
Aperture : 11.0
Image Size : 300x208
Megapixels : 0.062
Scale Factor To 35 mm Equivalent : 1.5
Shutter Speed : 1/250
Create Date : 2010:07:27 18:24:25.49
Date/Time Original : 2010:07:27 18:24:25.49
Modify Date : 2011:01:01 15:10:27.49
Circle Of Confusion : 0.020 mm
Depth Of Field : 0.26 m (0.35 - 0.61 m)
Field Of View : 65.5 deg
Focal Length : 19.0 mm (35 mm equivalent: 28.0 mm)
Hyperfocal Distance : 1.61 m
Light Value : 14.9
Lens ID : Tokina AT-X 124 AF PRO DX II (AF 12-24mm f/4) or AF-S DX Zoom-Nikkor 12-24mm f/4G IF-ED