Uber Exif Photo
Make : NIKON CORPORATION
Camera Model Name : NIKON D200
Software : Ver.2.00
Modify Date : 2010:12:22 15:15:10
Exposure Time : 1/4
F Number : 4.5
Exposure Program : Program AE
ISO : 800
Sensitivity Type : Unknown
Date/Time Original : 2010:12:12 18:54:52
Create Date : 2010:12:12 18:54:52
Shutter Speed Value : 1/4
Aperture Value : 4.5
Exposure Compensation : 0
Max Aperture Value : 4.4
Subject Distance : 1.5 m
Metering Mode : Center-weighted average
Light Source : Unknown
Focal Length : 44.0 mm
Sensing Method : One-chip color area
Scene Type : Directly photographed
CFA Pattern : [Green,Red][Blue,Green]
Custom Rendered : Normal
Exposure Mode : Auto
White Balance : Auto
Digital Zoom Ratio : 1
Focal Length In 35mm Format : 66 mm
Scene Capture Type : Standard
Gain Control : Low gain up
Contrast : Normal
Saturation : Normal
Sharpness : Normal
Subject Distance Range : Unknown
Lens Info : 18-200mm f/3.5-5.6
Lens Model : 18.0-200.0 mm f/3.5-5.6
Date/Time Digitized : 2010:12:12 18:54:52.16-08:00
Exif Image Width : 669
Exif Image Height : 1000
Creator Tool : Adobe Photoshop Lightroom 3.3
Lens : 18.0-200.0 mm f/3.5-5.6
Image Number : 7640
Version : 6.3
Process Version : 5.7
Color Temperature : 5300
Tint : -6
Exposure : 0.00
Shadows : 5
Brightness : +50
Luminance Smoothing : 0
Color Noise Reduction : 25
Chromatic Aberration R : 0
Chromatic Aberration B : 0
Vignette Amount : 0
Shadow Tint : 0
Red Hue : 0
Red Saturation : 0
Green Hue : 0
Green Saturation : 0
Blue Hue : 0
Blue Saturation : 0
Fill Light : 0
Highlight Recovery : 100
Clarity : 0
Defringe : 0
Gray Mixer Red : -16
Gray Mixer Orange : -25
Gray Mixer Yellow : -29
Gray Mixer Green : -29
Gray Mixer Aqua : -7
Gray Mixer Blue : +24
Gray Mixer Purple : +22
Gray Mixer Magenta : +1
Split Toning Shadow Hue : 0
Split Toning Shadow Saturation : 0
Split Toning Highlight Hue : 0
Split Toning Highlight Saturation : 0
Split Toning Balance : 0
Parametric Shadows : 0
Parametric Darks : 0
Parametric Lights : 0
Parametric Highlights : 0
Parametric Shadow Split : 25
Parametric Midtone Split : 50
Parametric Highlight Split : 75
Sharpen Radius : +1.0
Sharpen Detail : 25
Sharpen Edge Masking : 0
Post Crop Vignette Amount : 0
Grain Amount : 0
Color Noise Reduction Detail : 50
Lens Profile Enable : 0
Lens Manual Distortion Amount : 0
Perspective Vertical : 0
Perspective Horizontal : 0
Perspective Rotate : 0.0
Perspective Scale : 100
Convert To Grayscale : True
Tone Curve Name : Medium Contrast
Camera Profile : Adobe Standard
Lens Profile Setup : LensDefaults
Has Settings : True
Has Crop : False
Already Applied : True
Flash Fired : False
Flash Return : No return detection
Flash Mode : Unknown
Flash Function : False
Flash Red Eye Mode : False
Tone Curve : 0, 0, 32, 22, 64, 56, 128, 128, 192, 196, 255, 255
Image Width : 201
Image Height : 300
Bits Per Sample : 8
Color Components : 1
Aperture : 4.5
Image Size : 201x300
Megapixels : 0.060
Scale Factor To 35 mm Equivalent : 1.5
Shutter Speed : 1/4
Create Date : 2010:12:12 18:54:52.16
Date/Time Original : 2010:12:12 18:54:52.16
Flash : No Flash
Circle Of Confusion : 0.020 mm
Depth Of Field : 0.20 m (1.40 - 1.61 m)
Field Of View : 30.5 deg
Focal Length : 44.0 mm (35 mm equivalent: 66.0 mm)
Hyperfocal Distance : 21.48 m
Light Value : 3.3
Lens ID : AF-S DX VR Zoom-Nikkor 18-200mm f/3.5-5.6G IF-ED or AF-S DX VR Zoom-Nikkor 18-200mm f/3.5-5.6G IF-ED [II]