Uber Exif Photo
Camera Model Name : NIKON D2X
Orientation : Horizontal (normal)
Software : Adobe Photoshop CS4 Macintosh
Modify Date : 2011:01:04 16:30:52
F Number : 8.0
ISO : 100
Date/Time Original : 2010:09:26 12:39:39
Aperture Value : 8.0
Focal Length : 24.0 mm
Color Space : Uncalibrated
Exif Image Width : 798
Exif Image Height : 1200
Profile Description : Adobe RGB (1998)
Method : Details Enhancer
Strength : 69.0
Color Saturation : 80.0
Luminosity : 2.1
White Clip : 0.753300
Black Clip : 0.700900
Smoothing Mode : Light
Smoothing : Very High
Microcontrast : 10.0
Microsmoothing : 13.6
Gamma : 0.8
Highlights Smoothing : 0.0
Shadows Smoothing : 37.0
Shadows Clipping : 0.0
Color Temperature : 3.6
Saturation Highlights : 0.1
Saturation Shadows : 3.6
Create Date : 2010:09:26 12:39:39-07:00
Rating : 0
Raw File Name : Hotel Meade #2 Bannack St Pk.tif
Version : 5.7
Process Version : 5.0
White Balance : Custom
Incremental Temperature : +6
Incremental Tint : 0
Exposure : +0.15
Shadows : 14
Brightness : +4
Contrast : 0
Saturation : 0
Sharpness : 0
Luminance Smoothing : 0
Color Noise Reduction : 0
Chromatic Aberration R : 0
Chromatic Aberration B : 0
Vignette Amount : 0
Shadow Tint : 0
Red Hue : 0
Red Saturation : 0
Green Hue : 0
Green Saturation : 0
Blue Hue : 0
Blue Saturation : 0
Fill Light : 0
Vibrance : +24
Highlight Recovery : 43
Clarity : 0
Defringe : 0
Hue Adjustment Red : 0
Hue Adjustment Orange : 0
Hue Adjustment Yellow : 0
Hue Adjustment Green : 0
Hue Adjustment Aqua : 0
Hue Adjustment Blue : 0
Hue Adjustment Purple : 0
Hue Adjustment Magenta : 0
Saturation Adjustment Red : 0
Saturation Adjustment Orange : 0
Saturation Adjustment Yellow : 0
Saturation Adjustment Green : 0
Saturation Adjustment Aqua : 0
Saturation Adjustment Blue : 0
Saturation Adjustment Purple : 0
Saturation Adjustment Magenta : 0
Luminance Adjustment Red : 0
Luminance Adjustment Orange : 0
Luminance Adjustment Yellow : 0
Luminance Adjustment Green : 0
Luminance Adjustment Aqua : 0
Luminance Adjustment Blue : 0
Luminance Adjustment Purple : 0
Luminance Adjustment Magenta : 0
Split Toning Shadow Hue : 0
Split Toning Shadow Saturation : 0
Split Toning Highlight Hue : 0
Split Toning Highlight Saturation : 0
Split Toning Balance : 0
Parametric Shadows : 0
Parametric Darks : 0
Parametric Lights : 0
Parametric Highlights : 0
Parametric Shadow Split : 25
Parametric Midtone Split : 50
Parametric Highlight Split : 75
Sharpen Radius : +1.0
Sharpen Detail : 25
Sharpen Edge Masking : 0
Post Crop Vignette Amount : 0
Grain Amount : 0
Convert To Grayscale : False
Tone Curve Name : Linear
Camera Profile : Embedded
Has Settings : True
Has Crop : False
Already Applied : True
Format : image/jpeg
Color Mode : RGB
ICC Profile Name : Adobe RGB (1998)
Tone Curve : 0, 0, 255, 255
Image Width : 199
Image Height : 300
Bits Per Sample : 8
Color Components : 3
Aperture : 8.0
Image Size : 199x300
Megapixels : 0.060