Uber Exif Photo
Make : NIKON CORPORATION
Camera Model Name : NIKON D2X
Orientation : Horizontal (normal)
Software : Adobe Photoshop CS4 Macintosh
Modify Date : 2011:01:04 16:41:05
Exposure Time : 1/500
F Number : 8.0
Exposure Program : Manual
ISO : 200
Date/Time Original : 2007:10:08 13:51:11
Create Date : 2007:10:08 13:51:11
Shutter Speed Value : 1/500
Aperture Value : 8.0
Exposure Compensation : 0
Max Aperture Value : 4.8
Subject Distance : 1.33 m
Metering Mode : Multi-segment
Light Source : Fine Weather
Focal Length : 60.0 mm
Color Space : Uncalibrated
Exif Image Width : 1200
Exif Image Height : 797
Sensing Method : One-chip color area
Scene Type : Directly photographed
CFA Pattern : [Red,Green][Green,Blue]
Custom Rendered : Normal
Exposure Mode : Manual
White Balance : Manual
Digital Zoom Ratio : 1
Focal Length In 35mm Format : 90 mm
Scene Capture Type : Standard
Gain Control : None
Contrast : Normal
Saturation : Normal
Sharpness : Hard
Subject Distance Range : Unknown
Profile Description : Adobe RGB (1998)
Date/Time Digitized : 2007:10:08 13:51:11.73-07:00
Creator Tool : Ver.2.00
Rating : 0
Serial Number : 5072176
Lens Info : 18-200mm f/3.5-5.6
Lens : 18.0-200.0 mm f/3.5-5.6
Image Number : 1374
Raw File Name : Lower Antelope Cyn07_097.NEF
Version : 5.7
Process Version : 5.0
Color Temperature : 5400
Tint : -1
Exposure : 0.00
Shadows : 13
Brightness : +50
Luminance Smoothing : 0
Color Noise Reduction : 25
Chromatic Aberration R : 0
Chromatic Aberration B : 0
Vignette Amount : 0
Shadow Tint : 0
Red Hue : 0
Red Saturation : 0
Green Hue : 0
Green Saturation : 0
Blue Hue : 0
Blue Saturation : 0
Fill Light : 13
Vibrance : +30
Highlight Recovery : 59
Clarity : +50
Defringe : 0
Hue Adjustment Red : 0
Hue Adjustment Orange : 0
Hue Adjustment Yellow : 0
Hue Adjustment Green : 0
Hue Adjustment Aqua : 0
Hue Adjustment Blue : 0
Hue Adjustment Purple : 0
Hue Adjustment Magenta : 0
Saturation Adjustment Red : 0
Saturation Adjustment Orange : 0
Saturation Adjustment Yellow : 0
Saturation Adjustment Green : 0
Saturation Adjustment Aqua : 0
Saturation Adjustment Blue : 0
Saturation Adjustment Purple : 0
Saturation Adjustment Magenta : 0
Luminance Adjustment Red : 0
Luminance Adjustment Orange : 0
Luminance Adjustment Yellow : 0
Luminance Adjustment Green : 0
Luminance Adjustment Aqua : 0
Luminance Adjustment Blue : 0
Luminance Adjustment Purple : 0
Luminance Adjustment Magenta : 0
Split Toning Shadow Hue : 0
Split Toning Shadow Saturation : 0
Split Toning Highlight Hue : 0
Split Toning Highlight Saturation : 0
Split Toning Balance : 0
Parametric Shadows : 0
Parametric Darks : 0
Parametric Lights : 0
Parametric Highlights : 0
Parametric Shadow Split : 25
Parametric Midtone Split : 50
Parametric Highlight Split : 75
Sharpen Radius : +1.0
Sharpen Detail : 25
Sharpen Edge Masking : 0
Post Crop Vignette Amount : 0
Grain Amount : 0
Convert To Grayscale : False
Tone Curve Name : Medium Contrast
Camera Profile : ACR 4.4
Has Settings : True
Has Crop : False
Already Applied : True
Sidecar For Extension : NEF
Color Mode : RGB
ICC Profile Name : Adobe RGB (1998)
Format : image/jpeg
Flash Fired : False
Flash Return : No return detection
Flash Mode : Unknown
Flash Function : False
Flash Red Eye Mode : False
Tone Curve : 0, 0, 32, 22, 64, 56, 128, 128, 192, 196, 255, 255
Image Width : 300
Image Height : 199
Bits Per Sample : 8
Color Components : 3
Aperture : 8.0
Image Size : 300x199
Megapixels : 0.060
Scale Factor To 35 mm Equivalent : 1.5
Shutter Speed : 1/500
Create Date : 2007:10:08 13:51:11.73
Date/Time Original : 2007:10:08 13:51:11.73
Modify Date : 2011:01:04 16:41:05.73
Flash : No Flash
Circle Of Confusion : 0.020 mm
Depth Of Field : 0.15 m (1.26 - 1.41 m)
Field Of View : 22.6 deg
Focal Length : 60.0 mm (35 mm equivalent: 90.0 mm)
Hyperfocal Distance : 22.47 m
Light Value : 14.0
Lens ID : AF-S DX VR Zoom-Nikkor 18-200mm f/3.5-5.6G IF-ED or AF-S DX VR Zoom-Nikkor 18-200mm f/3.5-5.6G IF-ED [II]