Uber Exif Photo
By-line : marino mannarini
Copyright Notice : ©marino mannarini 2010
Copyright Flag : True
URL : www.mydvaphoto.com www.marinomannarini.com
Make : NIKON CORPORATION
Camera Model Name : NIKON D700
Software : Ver.1.02
Modify Date : 2011:01:12 05:49:45
Artist : Marino Mannarini +393338562061
Copyright : (C)marino mannarini 2010
Exposure Time : 1/640
F Number : 5.6
Exposure Program : Shutter speed priority AE
ISO : 1600
Sensitivity Type : Unknown
Date/Time Original : 2010:12:31 14:51:12
Create Date : 2010:12:31 14:51:12
Shutter Speed Value : 1/640
Aperture Value : 5.6
Exposure Compensation : +1
Max Aperture Value : 5.7
Subject Distance : 15.8 m
Metering Mode : Multi-segment
Light Source : Unknown
Focal Length : 200.0 mm
User Comment : (c)Marino Mannarini mydvaphoto.com
Sensing Method : One-chip color area
Scene Type : Directly photographed
CFA Pattern : [Red,Green][Green,Blue]
Custom Rendered : Custom
Exposure Mode : Auto
White Balance : Auto
Digital Zoom Ratio : 1
Focal Length In 35mm Format : 200 mm
Scene Capture Type : Standard
Gain Control : High gain up
Contrast : High
Saturation : Normal
Sharpness : Hard
Subject Distance Range : Unknown
Serial Number : 2132043
Lens Info : 28-200mm f/3.5-5.6
Lens Model : 28.0-200.0 mm f/3.5-5.6
Profile Description : sRGB IEC61966-2.1
Date/Time Digitized : 2010:12:31 14:51:12.00+01:00
Exif Image Width : 650
Exif Image Height : 433
Creator Tool : Adobe Photoshop Lightroom 3.3
Lens : 28.0-200.0 mm f/3.5-5.6
Image Number : 22996
Approximate Focus Distance : 15.8
Marked : True
Web Statement : www.mydvaphoto.com www.marinomannarini.com
Version : 6.3
Process Version : 5.7
Color Temperature : 4350
Tint : -5
Exposure : 0.00
Shadows : 5
Brightness : +41
Luminance Smoothing : 0
Color Noise Reduction : 25
Chromatic Aberration R : 0
Chromatic Aberration B : 0
Vignette Amount : 0
Shadow Tint : 0
Red Hue : 0
Red Saturation : 0
Green Hue : 0
Green Saturation : 0
Blue Hue : 0
Blue Saturation : 0
Fill Light : 0
Highlight Recovery : 0
Clarity : +12
Defringe : 0
Gray Mixer Red : -11
Gray Mixer Orange : -20
Gray Mixer Yellow : -24
Gray Mixer Green : -28
Gray Mixer Aqua : -17
Gray Mixer Blue : +13
Gray Mixer Purple : +18
Gray Mixer Magenta : +4
Split Toning Shadow Hue : 37
Split Toning Shadow Saturation : 22
Split Toning Highlight Hue : 0
Split Toning Highlight Saturation : 0
Split Toning Balance : 0
Parametric Shadows : -43
Parametric Darks : +9
Parametric Lights : +43
Parametric Highlights : 0
Parametric Shadow Split : 25
Parametric Midtone Split : 50
Parametric Highlight Split : 75
Sharpen Radius : +1.0
Sharpen Detail : 25
Sharpen Edge Masking : 0
Post Crop Vignette Amount : 0
Grain Amount : 0
Color Noise Reduction Detail : 50
Lens Profile Enable : 0
Lens Manual Distortion Amount : 0
Perspective Vertical : 0
Perspective Horizontal : 0
Perspective Rotate : 0.0
Perspective Scale : 100
Convert To Grayscale : True
Tone Curve Name : Medium Contrast
Camera Profile : Adobe Standard
Lens Profile Setup : LensDefaults
Has Settings : True
Has Crop : False
Already Applied : True
Flash Fired : False
Flash Return : No return detection
Flash Mode : Unknown
Flash Function : False
Flash Red Eye Mode : False
Creator : marino mannarini
Rights : ©marino mannarini 2010
Creator Postal Code : I 73100
Creator Work Telephone : +380832305562
Creator City : Lecce
Creator Country : ITALY
Creator Work Email : marinomannarini@gmail.com
Creator Work URL : www.mydvaphoto.com www.marinomannarini.com
Usage Terms : all rights reserved
Tone Curve : 0, 0, 32, 22, 64, 56, 128, 128, 192, 196, 255, 255
Image Width : 300
Image Height : 200
Bits Per Sample : 8
Color Components : 3
Aperture : 5.6
Image Size : 300x200
Megapixels : 0.060
Scale Factor To 35 mm Equivalent : 1.0
Shutter Speed : 1/640
Create Date : 2010:12:31 14:51:12.00
Date/Time Original : 2010:12:31 14:51:12.00
Flash : No Flash
Circle Of Confusion : 0.030 mm
Depth Of Field : 2.08 m (14.83 - 16.91 m)
Field Of View : 10.3 deg
Focal Length : 200.0 mm (35 mm equivalent: 200.0 mm)
Hyperfocal Distance : 237.73 m
Light Value : 10.3
Lens ID : AF Zoom-Nikkor 28-200mm f/3.5-5.6D IF