Uber Exif Photo
Keywords : Bowness, Cumbria, Lake District, Lake Windermere, Windermere
By-line : Alan E Jones
Copyright Notice : Alan E Jones
Copyright Flag : True
Make : NIKON CORPORATION
Camera Model Name : NIKON D300
Software : Ver.1.00
Modify Date : 2011:01:15 18:36:46
Artist : Alan E Jones
Copyright : Alan E Jones
Exposure Time : 1/400
F Number : 4.5
Exposure Program : Aperture-priority AE
ISO : 200
Date/Time Original : 2009:03:19 16:39:49
Create Date : 2009:03:19 16:39:49
Shutter Speed Value : 1/400
Aperture Value : 4.5
Exposure Compensation : 0
Max Aperture Value : 4.4
Subject Distance : 1.41 m
Metering Mode : Multi-segment
Light Source : Unknown
Focal Length : 12.0 mm
User Comment : Copyright 2008 Alan E Jones
Sensing Method : One-chip color area
Scene Type : Directly photographed
CFA Pattern : [Red,Green][Green,Blue]
Custom Rendered : Normal
Exposure Mode : Auto
White Balance : Auto
Digital Zoom Ratio : 1
Focal Length In 35mm Format : 18 mm
Scene Capture Type : Standard
Gain Control : None
Contrast : Normal
Saturation : High
Sharpness : Normal
Subject Distance Range : Unknown
Profile Description : sRGB IEC61966-2.1
Date/Time Digitized : 2009:03:19 16:39:49.65Z
Exif Image Width : 4074
Exif Image Height : 2349
Creator Tool : Adobe Photoshop Lightroom
Serial Number : 8009146
Lens Info : 10-20mm f/4-5.6
Lens : 10.0-20.0 mm f/4.0-5.6
Image Number : 2973
Marked : True
Version : 5.7
Color Temperature : 5950
Tint : +1
Exposure : -0.67
Shadows : 0
Brightness : +50
Luminance Smoothing : 0
Color Noise Reduction : 25
Chromatic Aberration R : 0
Chromatic Aberration B : 0
Vignette Amount : 0
Shadow Tint : 0
Red Hue : 0
Red Saturation : 0
Green Hue : 0
Green Saturation : 0
Blue Hue : 0
Blue Saturation : 0
Fill Light : 0
Vibrance : 0
Highlight Recovery : 32
Clarity : +31
Defringe : 0
Hue Adjustment Red : 0
Hue Adjustment Orange : 0
Hue Adjustment Yellow : 0
Hue Adjustment Green : 0
Hue Adjustment Aqua : 0
Hue Adjustment Blue : 0
Hue Adjustment Purple : 0
Hue Adjustment Magenta : 0
Saturation Adjustment Red : 0
Saturation Adjustment Orange : +33
Saturation Adjustment Yellow : 0
Saturation Adjustment Green : 0
Saturation Adjustment Aqua : 0
Saturation Adjustment Blue : +36
Saturation Adjustment Purple : 0
Saturation Adjustment Magenta : 0
Luminance Adjustment Red : 0
Luminance Adjustment Orange : 0
Luminance Adjustment Yellow : 0
Luminance Adjustment Green : 0
Luminance Adjustment Aqua : 0
Luminance Adjustment Blue : 0
Luminance Adjustment Purple : 0
Luminance Adjustment Magenta : 0
Split Toning Shadow Hue : 0
Split Toning Shadow Saturation : 0
Split Toning Highlight Hue : 0
Split Toning Highlight Saturation : 0
Split Toning Balance : 0
Parametric Shadows : 0
Parametric Darks : 0
Parametric Lights : 0
Parametric Highlights : 0
Parametric Shadow Split : 25
Parametric Midtone Split : 50
Parametric Highlight Split : 75
Sharpen Radius : +1.0
Sharpen Detail : 25
Sharpen Edge Masking : 0
Post Crop Vignette Amount : 0
Convert To Grayscale : False
Tone Curve Name : Medium Contrast
Camera Profile : Camera Vivid
Has Settings : True
Crop Top : 0.08229
Crop Left : 0
Crop Bottom : 0.906977
Crop Right : 0.950119
Crop Angle : 0
Crop Width : 4074
Crop Height : 2349
Crop Unit : pixels
Has Crop : True
Already Applied : True
Flash Fired : False
Flash Return : No return detection
Flash Mode : Unknown
Flash Function : False
Flash Red Eye Mode : False
Usage Terms : No usage without prior written consent.
Creator : Alan E Jones
Rights : Alan E Jones
Subject : Bowness, Cumbria, Lake District, Lake Windermere, Windermere
Creator Work Email : alanejones@hotmail.com
Tone Curve : 0, 0, 32, 22, 64, 56, 128, 128, 192, 196, 255, 255
Image Width : 300
Image Height : 173
Bits Per Sample : 8
Color Components : 3
Aperture : 4.5
Image Size : 300x173
Megapixels : 0.052
Scale Factor To 35 mm Equivalent : 1.5
Shutter Speed : 1/400
Create Date : 2009:03:19 16:39:49.65
Date/Time Original : 2009:03:19 16:39:49.65
Flash : No Flash
Circle Of Confusion : 0.020 mm
Depth Of Field : 10.54 m (0.75 - 11.29 m)
Field Of View : 90.0 deg
Focal Length : 12.0 mm (35 mm equivalent: 18.0 mm)
Hyperfocal Distance : 1.60 m
Light Value : 12.0
Lens ID : Sigma 10-20mm F4-5.6 EX DC HSM