Uber Exif Photo
Camera Model Name : NIKON D300
Orientation : Horizontal (normal)
Software : Adobe Photoshop CS5 Windows
Modify Date : 2011:01:23 20:21:35
Exposure Time : 1/160
F Number : 7.1
ISO : 200
Sensitivity Type : Unknown
Date/Time Original : 2011:01:21 16:48:28
Create Date : 2011:01:21 16:48:28
Shutter Speed Value : 1/160
Aperture Value : 7.1
Focal Length : 29.0 mm
Color Space : Uncalibrated
Exif Image Width : 4050
Exif Image Height : 2774
Profile Description : Adobe RGB (1998)
Method : Details Enhancer
Strength : 100.0
Color Saturation : 56.0
Luminosity : 10.0
White Clip : 1.317800
Black Clip : 0.152900
Smoothing Mode : Light
Smoothing : High
Microcontrast : 10.0
Microsmoothing : 0.0
Gamma : 1.0
Highlights Smoothing : 50.0
Shadows Smoothing : 14.0
Shadows Clipping : 0.0
Color Temperature : 1.7
Saturation Highlights : 7.2
Saturation Shadows : 4.4
Rating : 0
Creator Tool : Adobe Photoshop CS5 Windows
Raw File Name : D30_9702And8more_tonemapped.jpg
Version : 6.3
Process Version : 5.7
White Balance : As Shot
Incremental Temperature : 0
Incremental Tint : 0
Exposure : 0.00
Shadows : 0
Brightness : -1
Contrast : +34
Saturation : 0
Sharpness : 0
Luminance Smoothing : 0
Color Noise Reduction : 0
Chromatic Aberration R : 0
Chromatic Aberration B : 0
Vignette Amount : 0
Shadow Tint : 0
Red Hue : 0
Red Saturation : 0
Green Hue : 0
Green Saturation : 0
Blue Hue : 0
Blue Saturation : 0
Fill Light : 21
Vibrance : +23
Highlight Recovery : 36
Clarity : +28
Defringe : 0
Hue Adjustment Red : 0
Hue Adjustment Orange : 0
Hue Adjustment Yellow : 0
Hue Adjustment Green : 0
Hue Adjustment Aqua : 0
Hue Adjustment Blue : 0
Hue Adjustment Purple : 0
Hue Adjustment Magenta : 0
Saturation Adjustment Red : 0
Saturation Adjustment Orange : 0
Saturation Adjustment Yellow : 0
Saturation Adjustment Green : 0
Saturation Adjustment Aqua : +18
Saturation Adjustment Blue : -65
Saturation Adjustment Purple : 0
Saturation Adjustment Magenta : 0
Luminance Adjustment Red : +13
Luminance Adjustment Orange : -7
Luminance Adjustment Yellow : -22
Luminance Adjustment Green : +25
Luminance Adjustment Aqua : +40
Luminance Adjustment Blue : +17
Luminance Adjustment Purple : 0
Luminance Adjustment Magenta : 0
Split Toning Shadow Hue : 0
Split Toning Shadow Saturation : 0
Split Toning Highlight Hue : 0
Split Toning Highlight Saturation : 0
Split Toning Balance : 0
Parametric Shadows : +56
Parametric Darks : +5
Parametric Lights : +8
Parametric Highlights : +37
Parametric Shadow Split : 11
Parametric Midtone Split : 50
Parametric Highlight Split : 90
Sharpen Radius : +1.0
Sharpen Detail : 25
Sharpen Edge Masking : 0
Post Crop Vignette Amount : 0
Grain Amount : 0
Lens Profile Enable : 1
Lens Manual Distortion Amount : 0
Perspective Vertical : 0
Perspective Horizontal : 0
Perspective Rotate : 0.0
Perspective Scale : 100
Convert To Grayscale : False
Tone Curve Name : Linear
Camera Profile : Embedded
Lens Profile Setup : Custom
Lens Profile Name : NIKON D90 - Nikon DX 18-200mm f/3.5-5.6 G ED IF
Lens Profile Filename : 7db48dff0dd9475683b0b89d100c8e66.lcp
Lens Profile Distortion Scale : 100
Lens Profile Chromatic Aberration Scale : 100
Lens Profile Vignetting Scale : 100
Has Settings : True
Has Crop : False
Already Applied : True
Format : image/jpeg
Color Mode : RGB
ICC Profile Name : Adobe RGB (1998)
Date Created : 2011:01:21 16:48:28
Tone Curve : 0, 0, 255, 255
Image Width : 300
Image Height : 206
Bits Per Sample : 8
Color Components : 3
Aperture : 7.1
Image Size : 300x206
Megapixels : 0.062
Shutter Speed : 1/160
Light Value : 12.0