Uber Exif Photo
Caption-Abstract : pair of saddlebred horses nose to nose at a watering trough
By-line : Jeffrey Banke
By-line Title : Photographer
Object Name : nose to nose
Keywords : animal, domesticated, drinking, equidae, equine, equus, herbivore, hoofed, horse, mammal, mammalia, perissodactyla, riding, smelling, sniffing, standing
Copyright Notice : Copyright © 2010 Jeff Banke all rights reserved
Copyright Flag : True
Image Description : pair of saddlebred horses nose to nose at a watering trough
Make : NIKON CORPORATION
Camera Model Name : NIKON D100
Orientation : Horizontal (normal)
Software : Adobe Photoshop CS4 Windows
Modify Date : 2010:05:11 15:21:53
Artist : Jeffrey Banke
Copyright : Copyright © 2010 Jeff Banke all rights reserved
Exposure Time : 1/320
F Number : 5.6
Exposure Program : Manual
ISO : 200
Date/Time Original : 2010:05:01 09:35:16
Create Date : 2010:05:01 09:35:16
Shutter Speed Value : 1/320
Aperture Value : 5.6
Exposure Compensation : +1/3
Max Aperture Value : 2.8
Metering Mode : Spot
Light Source : Cloudy
Focal Length : 44.0 mm
User Comment : (C) 2010 JEFF BANKE PHOTOGRAPHY
Color Space : Uncalibrated
Exif Image Width : 3008
Exif Image Height : 2000
Sensing Method : One-chip color area
Scene Type : Directly photographed
CFA Pattern : [Green,Red][Blue,Green]
Custom Rendered : Normal
Exposure Mode : Manual
White Balance : Manual
Digital Zoom Ratio : 1
Focal Length In 35mm Format : 66 mm
Scene Capture Type : Standard
Gain Control : None
Contrast : Normal
Saturation : Normal
Sharpness : Soft
Subject Distance Range : Unknown
Profile Description : Adobe RGB (1998)
Photometric Interpretation : RGB
Samples Per Pixel : 3
Date/Time Digitized : 2010:05:01 09:35:16.00-07:00
Creator Tool : Ver.2.00
Rating : 5
Lens Info : 35-70mm f/2.8
Lens : 35.0-70.0 mm f/2.8
Preserved File Name : DSC_9015.NEF
Raw File Name : 01052010-D100-horses-Mikey & Sue-019JBB.NEF
Version : 5.3
Color Temperature : 5500
Tint : +2
Exposure : +0.25
Shadows : 12
Brightness : +53
Luminance Smoothing : 0
Color Noise Reduction : 25
Chromatic Aberration R : 0
Chromatic Aberration B : 0
Vignette Amount : 0
Shadow Tint : 0
Red Hue : 0
Red Saturation : 0
Green Hue : 0
Green Saturation : 0
Blue Hue : 0
Blue Saturation : 0
Fill Light : 0
Vibrance : 0
Highlight Recovery : 14
Clarity : 0
Defringe : 0
Hue Adjustment Red : 0
Hue Adjustment Orange : 0
Hue Adjustment Yellow : 0
Hue Adjustment Green : 0
Hue Adjustment Aqua : 0
Hue Adjustment Blue : 0
Hue Adjustment Purple : 0
Hue Adjustment Magenta : 0
Saturation Adjustment Red : 0
Saturation Adjustment Orange : 0
Saturation Adjustment Yellow : 0
Saturation Adjustment Green : 0
Saturation Adjustment Aqua : 0
Saturation Adjustment Blue : 0
Saturation Adjustment Purple : 0
Saturation Adjustment Magenta : 0
Luminance Adjustment Red : 0
Luminance Adjustment Orange : 0
Luminance Adjustment Yellow : 0
Luminance Adjustment Green : 0
Luminance Adjustment Aqua : 0
Luminance Adjustment Blue : 0
Luminance Adjustment Purple : 0
Luminance Adjustment Magenta : 0
Split Toning Shadow Hue : 0
Split Toning Shadow Saturation : 0
Split Toning Highlight Hue : 0
Split Toning Highlight Saturation : 0
Split Toning Balance : 0
Parametric Shadows : 0
Parametric Darks : 0
Parametric Lights : 0
Parametric Highlights : 0
Parametric Shadow Split : 25
Parametric Midtone Split : 50
Parametric Highlight Split : 75
Sharpen Radius : +1.0
Sharpen Detail : 25
Sharpen Edge Masking : 0
Post Crop Vignette Amount : 0
Convert To Grayscale : False
Tone Curve Name : Medium Contrast
Camera Profile : Adobe Standard
Has Settings : True
Has Crop : False
Already Applied : True
Sidecar For Extension : NEF
Color Mode : RGB
ICC Profile Name : Adobe RGB (1998)
Authors Position : Photographer
Format : image/jpeg
Marked : True
Flash Fired : False
Flash Return : No return detection
Flash Mode : Unknown
Flash Function : False
Flash Red Eye Mode : False
Tone Curve : 0, 0, 32, 22, 64, 56, 128, 128, 192, 196, 255, 255
Subject : animal, domesticated, drinking, equidae, equine, equus, herbivore, hoofed, horse, mammal, mammalia, perissodactyla, riding, smelling, sniffing, standing
Creator : Jeffrey Banke
Rights : Copyright © 2010 Jeff Banke all rights reserved
Title : nose to nose
Description : pair of saddlebred horses nose to nose at a watering trough
Creator Address : 3499 La Mesa Drive
Creator City : Hayward
Creator Region : California
Creator Postal Code : 94542
Creator Country : USA
Creator Work Telephone : 510-581-0349 office, 510-501-4502 cell
Creator Work Email : j.banke@comcast.net
Creator Work URL : www.xlr8photo.com
Image Width : 300
Image Height : 200
Bits Per Sample : 8
Color Components : 3
Aperture : 5.6
Image Size : 300x200
Megapixels : 0.060
Scale Factor To 35 mm Equivalent : 1.5
Shutter Speed : 1/320
Create Date : 2010:05:01 09:35:16.00
Date/Time Original : 2010:05:01 09:35:16.00
Modify Date : 2010:05:11 15:21:53.00
Flash : No Flash
Circle Of Confusion : 0.020 mm
Field Of View : 30.5 deg
Focal Length : 44.0 mm (35 mm equivalent: 66.0 mm)
Hyperfocal Distance : 17.26 m
Light Value : 12.3
Lens ID : 35.0-70.0mm f/2.8