Uber Exif Photo
By-line : Jeff Banke
By-line Title : photographer
Keywords : boiled, close-up, closeup, cooked, cooking, delicacy, fresh, Lobster, orange, red, Seafood, shellfish
Copyright Notice : copyright (c) Jeff Banke 2009
Make : NIKON CORPORATION
Camera Model Name : NIKON D100
Orientation : Horizontal (normal)
Software : Adobe Photoshop CS4 Windows
Modify Date : 2009:09:14 22:32:34
Artist : Jeff Banke
Copyright : copyright (c) Jeff Banke 2009
Exposure Time : 1/125
Exposure Program : Manual
ISO : 320
Date/Time Original : 2009:09:13 16:48:23
Create Date : 2009:09:13 16:48:23
Shutter Speed Value : 1/125
Exposure Compensation : +1/3
Max Aperture Value : 1.0
Metering Mode : Center-weighted average
Light Source : Unknown
User Comment : (C) 2009) JEFF BANKE)
Color Space : Uncalibrated
Exif Image Width : 3008
Exif Image Height : 2000
Sensing Method : One-chip color area
Scene Type : Directly photographed
CFA Pattern : [Green,Red][Blue,Green]
Custom Rendered : Normal
Exposure Mode : Manual
White Balance : Auto
Digital Zoom Ratio : 1
Scene Capture Type : Standard
Gain Control : None
Contrast : Normal
Saturation : Normal
Sharpness : Soft
Subject Distance Range : Unknown
Profile Description : Adobe RGB (1998)
Date/Time Digitized : 2009:09:13 16:48:23.80-07:00
Creator Tool : Ver.2.00
Rating : 0
Lens Info : 0mm f/0
Lens : 0.0 mm f/0.0
Authors Position : photographer
Sidecar For Extension : NEF
Color Mode : RGB
ICC Profile Name : Adobe RGB (1998)
Format : image/jpeg
Raw File Name : DSC_5470.NEF
Version : 5.3
Color Temperature : 5600
Tint : 0
Exposure : -0.35
Shadows : 5
Brightness : +50
Luminance Smoothing : 0
Color Noise Reduction : 25
Chromatic Aberration R : 0
Chromatic Aberration B : 0
Vignette Amount : 0
Shadow Tint : 0
Red Hue : 0
Red Saturation : 0
Green Hue : 0
Green Saturation : 0
Blue Hue : 0
Blue Saturation : 0
Fill Light : 0
Vibrance : +25
Highlight Recovery : 26
Clarity : 0
Defringe : 0
Hue Adjustment Red : 0
Hue Adjustment Orange : 0
Hue Adjustment Yellow : 0
Hue Adjustment Green : 0
Hue Adjustment Aqua : 0
Hue Adjustment Blue : 0
Hue Adjustment Purple : 0
Hue Adjustment Magenta : 0
Saturation Adjustment Red : 0
Saturation Adjustment Orange : 0
Saturation Adjustment Yellow : 0
Saturation Adjustment Green : 0
Saturation Adjustment Aqua : 0
Saturation Adjustment Blue : 0
Saturation Adjustment Purple : 0
Saturation Adjustment Magenta : 0
Luminance Adjustment Red : 0
Luminance Adjustment Orange : 0
Luminance Adjustment Yellow : 0
Luminance Adjustment Green : 0
Luminance Adjustment Aqua : 0
Luminance Adjustment Blue : 0
Luminance Adjustment Purple : 0
Luminance Adjustment Magenta : 0
Split Toning Shadow Hue : 0
Split Toning Shadow Saturation : 0
Split Toning Highlight Hue : 0
Split Toning Highlight Saturation : 0
Split Toning Balance : 0
Parametric Shadows : 0
Parametric Darks : 0
Parametric Lights : 0
Parametric Highlights : 0
Parametric Shadow Split : 25
Parametric Midtone Split : 50
Parametric Highlight Split : 75
Sharpen Radius : +1.0
Sharpen Detail : 25
Sharpen Edge Masking : 0
Post Crop Vignette Amount : 0
Convert To Grayscale : False
Tone Curve Name : Medium Contrast
Camera Profile : Adobe Standard
Has Settings : True
Has Crop : False
Already Applied : True
Flash Fired : False
Flash Return : No return detection
Flash Mode : Unknown
Flash Function : False
Flash Red Eye Mode : False
Creator : Jeff Banke
Rights : copyright (c) Jeff Banke 2009
Subject : boiled, close-up, closeup, cooked, cooking, delicacy, fresh, Lobster, orange, red, Seafood, shellfish
Creator Address : 3499 La Mesa Drive
Creator City : Hayward
Creator Region : California
Creator Postal Code : 94542
Creator Country : USA
Creator Work Telephone : 510-581-0349 office, 510-501-4502 cell
Creator Work Email : j.banke@comcast.net
Creator Work URL : www.xlr8photo.com
Hierarchical Subject : Colors|orange, Colors|red, Fish|Lobster, Fish|shellfish, Food|Food|Seafood|lobster, Food, Other Keywords|close-up, Other Keywords|closeup, Food|delicacy, Food|cooking, Food|Seafood, Fish|fresh, Food|cooking|cooked, Food|cooking|boiled
Tone Curve : 0, 0, 32, 22, 64, 56, 128, 128, 192, 196, 255, 255
Image Width : 300
Image Height : 200
Bits Per Sample : 8
Color Components : 3
Image Size : 300x200
Megapixels : 0.060
Shutter Speed : 1/125
Create Date : 2009:09:13 16:48:23.80
Date/Time Original : 2009:09:13 16:48:23.80
Modify Date : 2009:09:14 22:32:34.80
Flash : No Flash
Lens ID : 0.0mm f/0.0