Uber Exif Photo
Keywords : Alexandria
By-line : Michael J. Avilez
Copyright Notice : Michael J. Avilez
Copyright Flag : True
Make : NIKON CORPORATION
Camera Model Name : NIKON D300
Software : Ver.1.10
Modify Date : 2011:02:04 18:49:38
Artist : Michael J. Avilez
Copyright : Michael J. Avilez
Exposure Time : 6
F Number : 4.5
Exposure Program : Aperture-priority AE
ISO : 200
Sensitivity Type : Unknown
Date/Time Original : 2010:11:20 01:25:36
Create Date : 2010:11:20 01:25:36
Shutter Speed Value : 6
Aperture Value : 4.5
Exposure Compensation : 0
Max Aperture Value : 2.8
Subject Distance : 4294967295 m
Metering Mode : Spot
Light Source : Tungsten (Incandescent)
Focal Length : 55.0 mm
User Comment : (C) Michael J. Avilez 2008
Sensing Method : One-chip color area
Scene Type : Directly photographed
CFA Pattern : [Red,Green][Green,Blue]
Custom Rendered : Normal
Exposure Mode : Auto
White Balance : Manual
Digital Zoom Ratio : 1
Focal Length In 35mm Format : 82 mm
Scene Capture Type : Standard
Gain Control : None
Contrast : Normal
Saturation : Normal
Sharpness : Normal
Subject Distance Range : Unknown
Serial Number : 3059647
Lens Info : 17-55mm f/2.8
Lens Model : 17.0-55.0 mm f/2.8
Profile Description : sRGB IEC61966-2.1
Date/Time Digitized : 2010:11:20 01:25:36.08-05:00
Exif Image Width : 800
Exif Image Height : 454
Creator Tool : Adobe Photoshop Lightroom 3.3
Lens : 17.0-55.0 mm f/2.8
Image Number : 24157
Approximate Focus Distance : 4294967295
Marked : True
Version : 6.3
Process Version : 5.7
Color Temperature : 2850
Tint : 0
Exposure : 0.00
Shadows : 5
Brightness : +50
Luminance Smoothing : 0
Color Noise Reduction : 25
Chromatic Aberration R : 0
Chromatic Aberration B : 0
Vignette Amount : 0
Shadow Tint : 0
Red Hue : 0
Red Saturation : 0
Green Hue : 0
Green Saturation : 0
Blue Hue : 0
Blue Saturation : 0
Fill Light : 0
Vibrance : +30
Highlight Recovery : 0
Clarity : +39
Defringe : 0
Hue Adjustment Red : 0
Hue Adjustment Orange : 0
Hue Adjustment Yellow : 0
Hue Adjustment Green : 0
Hue Adjustment Aqua : 0
Hue Adjustment Blue : 0
Hue Adjustment Purple : 0
Hue Adjustment Magenta : 0
Saturation Adjustment Red : 0
Saturation Adjustment Orange : 0
Saturation Adjustment Yellow : 0
Saturation Adjustment Green : 0
Saturation Adjustment Aqua : 0
Saturation Adjustment Blue : 0
Saturation Adjustment Purple : 0
Saturation Adjustment Magenta : 0
Luminance Adjustment Red : 0
Luminance Adjustment Orange : 0
Luminance Adjustment Yellow : 0
Luminance Adjustment Green : 0
Luminance Adjustment Aqua : 0
Luminance Adjustment Blue : 0
Luminance Adjustment Purple : 0
Luminance Adjustment Magenta : 0
Split Toning Shadow Hue : 0
Split Toning Shadow Saturation : 0
Split Toning Highlight Hue : 0
Split Toning Highlight Saturation : 0
Split Toning Balance : 0
Parametric Shadows : 0
Parametric Darks : 0
Parametric Lights : 0
Parametric Highlights : 0
Parametric Shadow Split : 25
Parametric Midtone Split : 50
Parametric Highlight Split : 75
Sharpen Radius : +1.0
Sharpen Detail : 25
Sharpen Edge Masking : 0
Post Crop Vignette Amount : 0
Grain Amount : 0
Color Noise Reduction Detail : 50
Lens Profile Enable : 0
Lens Manual Distortion Amount : 0
Perspective Vertical : 0
Perspective Horizontal : 0
Perspective Rotate : 0.0
Perspective Scale : 100
Convert To Grayscale : False
Tone Curve Name : Medium Contrast
Camera Profile : Adobe Standard
Lens Profile Setup : LensDefaults
Has Settings : True
Crop Top : 0.130877
Crop Left : 0.008391
Crop Bottom : 1
Crop Right : 0.991609
Crop Angle : 0.854744
Crop Constrain To Warp : 0
Crop Width : 800
Crop Height : 454
Crop Unit : pixels
Has Crop : True
Already Applied : True
Flash Fired : False
Flash Return : No return detection
Flash Mode : Unknown
Flash Function : False
Flash Red Eye Mode : False
Creator : Michael J. Avilez
Rights : Michael J. Avilez
Subject : Alexandria
Tone Curve : 0, 0, 32, 22, 64, 56, 128, 128, 192, 196, 255, 255
Image Width : 300
Image Height : 170
Bits Per Sample : 8
Color Components : 3
Aperture : 4.5
Image Size : 300x170
Megapixels : 0.051
Scale Factor To 35 mm Equivalent : 1.5
Shutter Speed : 6
Create Date : 2010:11:20 01:25:36.08
Date/Time Original : 2010:11:20 01:25:36.08
Flash : No Flash
Circle Of Confusion : 0.020 mm
Depth Of Field : inf (33.36 m - inf)
Field Of View : 24.8 deg
Focal Length : 55.0 mm (35 mm equivalent: 82.0 mm)
Hyperfocal Distance : 33.36 m
Light Value : 0.8
Lens ID : AF-S DX Zoom-Nikkor 17-55mm f/2.8G IF-ED