Uber Exif Photo
Caption-Abstract : Man holding a pigtail flourescent light bulb which is alight in one hand and pointing at it with the other hand suggesting this is the future
By-line : Jeff Banke
By-line Title : Photographer
Object Name : Man holding pigtail lightbulb
Keywords : man, male, hand, light, bulb, lightbulb, flourescent, pigtail, future, ecological, green, energy, savings, power, reduction, cost-saving
Copyright Notice : Copyright (C) Jeff Banke 2009 all rights reserved.
Copyright Flag : True
Image Description : Man holding a pigtail flourescent light bulb which is alight in one hand and pointing at it with the other hand suggesting this is the future
Make : NIKON CORPORATION
Camera Model Name : NIKON D300
Orientation : Horizontal (normal)
Software : Adobe Photoshop CS4 Windows
Modify Date : 2009:05:24 00:14:17
Artist : Jeff Banke
Copyright : Copyright (C) Jeff Banke 2009 all rights reserved.
Exposure Time : 1/250
F Number : 20.0
Exposure Program : Manual
ISO : 200
Date/Time Original : 2009:03:22 17:55:10
Create Date : 2009:03:22 17:55:10
Shutter Speed Value : 1/250
Aperture Value : 20.0
Exposure Compensation : 0
Max Aperture Value : 4.3
Metering Mode : Spot
Light Source : Unknown
Focal Length : 44.0 mm
Color Space : Uncalibrated
Exif Image Width : 2848
Exif Image Height : 4288
Sensing Method : One-chip color area
Scene Type : Directly photographed
CFA Pattern : [Red,Green][Green,Blue]
Custom Rendered : Normal
Exposure Mode : Manual
White Balance : Auto
Digital Zoom Ratio : 1
Focal Length In 35mm Format : 66 mm
Scene Capture Type : Standard
Gain Control : None
Contrast : Normal
Saturation : Normal
Sharpness : Normal
Subject Distance Range : Unknown
Profile Description : Adobe RGB (1998)
Date/Time Digitized : 2009:03:22 17:55:10.00-07:00
Creator Tool : Ver.1.00
Rating : 5
Serial Number : 3029064
Lens Info : 18-70mm f/3.5-4.5
Lens : 18.0-70.0 mm f/3.5-4.5
Image Number : 6051
Raw File Name : _JBB5979.NEF
Version : 5.3
Color Temperature : 5300
Tint : -17
Exposure : 0.00
Shadows : 5
Brightness : +50
Luminance Smoothing : 0
Color Noise Reduction : 25
Chromatic Aberration R : 0
Chromatic Aberration B : 0
Vignette Amount : 0
Shadow Tint : 0
Red Hue : 0
Red Saturation : 0
Green Hue : 0
Green Saturation : 0
Blue Hue : 0
Blue Saturation : 0
Fill Light : 0
Vibrance : +13
Highlight Recovery : 0
Clarity : 0
Defringe : 0
Hue Adjustment Red : 0
Hue Adjustment Orange : 0
Hue Adjustment Yellow : 0
Hue Adjustment Green : 0
Hue Adjustment Aqua : 0
Hue Adjustment Blue : 0
Hue Adjustment Purple : 0
Hue Adjustment Magenta : 0
Saturation Adjustment Red : 0
Saturation Adjustment Orange : 0
Saturation Adjustment Yellow : 0
Saturation Adjustment Green : 0
Saturation Adjustment Aqua : 0
Saturation Adjustment Blue : 0
Saturation Adjustment Purple : 0
Saturation Adjustment Magenta : 0
Luminance Adjustment Red : 0
Luminance Adjustment Orange : 0
Luminance Adjustment Yellow : 0
Luminance Adjustment Green : 0
Luminance Adjustment Aqua : 0
Luminance Adjustment Blue : 0
Luminance Adjustment Purple : 0
Luminance Adjustment Magenta : 0
Split Toning Shadow Hue : 0
Split Toning Shadow Saturation : 0
Split Toning Highlight Hue : 0
Split Toning Highlight Saturation : 0
Split Toning Balance : 0
Parametric Shadows : 0
Parametric Darks : 0
Parametric Lights : 0
Parametric Highlights : 0
Parametric Shadow Split : 25
Parametric Midtone Split : 50
Parametric Highlight Split : 75
Sharpen Radius : +1.0
Sharpen Detail : 25
Sharpen Edge Masking : 0
Post Crop Vignette Amount : 0
Convert To Grayscale : False
Tone Curve Name : Medium Contrast
Camera Profile : Adobe Standard
Has Settings : True
Has Crop : False
Already Applied : True
Sidecar For Extension : NEF
Color Mode : RGB
ICC Profile Name : Adobe RGB (1998)
Authors Position : Photographer
Format : image/jpeg
Marked : True
Flash Fired : False
Flash Return : No return detection
Flash Mode : Unknown
Flash Function : False
Flash Red Eye Mode : False
Tone Curve : 0, 0, 32, 22, 64, 56, 128, 128, 192, 196, 255, 255
Title : Man holding pigtail lightbulb
Creator : Jeff Banke
Description : Man holding a pigtail flourescent light bulb which is alight in one hand and pointing at it with the other hand suggesting this is the future
Subject : man, male, hand, light, bulb, lightbulb, flourescent, pigtail, future, ecological, green, energy, savings, power, reduction, cost-saving
Rights : Copyright (C) Jeff Banke 2009 all rights reserved.
Image Width : 199
Image Height : 300
Bits Per Sample : 8
Color Components : 3
Aperture : 20.0
Image Size : 199x300
Megapixels : 0.060
Scale Factor To 35 mm Equivalent : 1.5
Shutter Speed : 1/250
Create Date : 2009:03:22 17:55:10.00
Date/Time Original : 2009:03:22 17:55:10.00
Modify Date : 2009:05:24 00:14:17.00
Flash : No Flash
Circle Of Confusion : 0.020 mm
Field Of View : 30.5 deg
Focal Length : 44.0 mm (35 mm equivalent: 66.0 mm)
Hyperfocal Distance : 4.83 m
Light Value : 15.6
Lens ID : 18.0-70.0mm f/3.5-4.5