Uber Exif Photo
Object Name : Meachard Rock - Boscastle 2009
Copyright Flag : False
Make : NIKON CORPORATION
Camera Model Name : NIKON D200
Orientation : Horizontal (normal)
Software : Adobe Photoshop Elements 8.0 Macintosh
Modify Date : 2011:02:15 16:27:04
XP Title : Meachard Rock - Boscastle 2009
Exposure Time : 1/320
F Number : 8.0
Exposure Program : Aperture-priority AE
ISO : 100
Date/Time Original : 2009:07:19 11:09:29
Create Date : 2009:07:19 11:09:29
Shutter Speed Value : 1/320
Aperture Value : 8.0
Exposure Compensation : 0
Max Aperture Value : 4.8
Metering Mode : Multi-segment
Light Source : Unknown
Focal Length : 40.0 mm
User Comment : robert.copeland54@btinternet.com
Color Space : sRGB
Exif Image Width : 4500
Exif Image Height : 3000
Sensing Method : One-chip color area
Scene Type : Directly photographed
CFA Pattern : [Green,Red][Blue,Green]
Custom Rendered : Normal
Exposure Mode : Auto
White Balance : Auto
Digital Zoom Ratio : 1
Focal Length In 35mm Format : 60 mm
Scene Capture Type : Standard
Gain Control : None
Contrast : Normal
Saturation : Normal
Sharpness : Hard
Subject Distance Range : Unknown
Profile Description : sRGB IEC61966-2.1
Date/Time Digitized : 2009:07:19 11:09:29+01:00
Creator Tool : Adobe Photoshop Elements 5.0 Windows
Rating : 5
Lens Info : 16-85mm f/3.5-5.6
Lens : 16.0-85.0 mm f/3.5-5.6
Image Number : 15689
Raw File Name : DSC_4184.NEF
Version : 4.4.1
Color Temperature : 5250
Tint : -6
Exposure : +0.85
Shadows : 5
Brightness : +61
Luminance Smoothing : 0
Color Noise Reduction : 25
Chromatic Aberration R : 0
Chromatic Aberration B : 0
Vignette Amount : 0
Shadow Tint : 0
Red Hue : 0
Red Saturation : 0
Green Hue : 0
Green Saturation : 0
Blue Hue : 0
Blue Saturation : 0
Fill Light : 0
Vibrance : +23
Highlight Recovery : 0
Clarity : 0
Defringe : 0
Hue Adjustment Red : 0
Hue Adjustment Orange : 0
Hue Adjustment Yellow : 0
Hue Adjustment Green : 0
Hue Adjustment Aqua : 0
Hue Adjustment Blue : 0
Hue Adjustment Purple : 0
Hue Adjustment Magenta : 0
Saturation Adjustment Red : 0
Saturation Adjustment Orange : 0
Saturation Adjustment Yellow : 0
Saturation Adjustment Green : 0
Saturation Adjustment Aqua : 0
Saturation Adjustment Blue : 0
Saturation Adjustment Purple : 0
Saturation Adjustment Magenta : 0
Luminance Adjustment Red : 0
Luminance Adjustment Orange : 0
Luminance Adjustment Yellow : 0
Luminance Adjustment Green : 0
Luminance Adjustment Aqua : 0
Luminance Adjustment Blue : 0
Luminance Adjustment Purple : 0
Luminance Adjustment Magenta : 0
Split Toning Shadow Hue : 0
Split Toning Shadow Saturation : 0
Split Toning Highlight Hue : 0
Split Toning Highlight Saturation : 0
Split Toning Balance : 0
Parametric Shadows : 0
Parametric Darks : 0
Parametric Lights : 0
Parametric Highlights : 0
Parametric Shadow Split : 25
Parametric Midtone Split : 50
Parametric Highlight Split : 75
Sharpen Radius : +1.0
Sharpen Detail : 25
Sharpen Edge Masking : 0
Convert To Grayscale : False
Tone Curve Name : Medium Contrast
Camera Profile : ACR 4.4
Has Settings : True
Has Crop : False
Already Applied : True
Sidecar For Extension : NEF
Color Mode : RGB
ICC Profile Name : sRGB IEC61966-2.1
Format : image/jpeg
Rating Percent : 99
Marked : False
Flash Fired : False
Flash Return : No return detection
Flash Mode : Unknown
Flash Function : False
Flash Red Eye Mode : False
Tone Curve : 0, 0, 32, 22, 64, 56, 128, 128, 192, 196, 255, 255
Title : Meachard Rock - Boscastle 2009
Image Width : 300
Image Height : 200
Bits Per Sample : 8
Color Components : 3
Aperture : 8.0
Image Size : 300x200
Megapixels : 0.060
Scale Factor To 35 mm Equivalent : 1.5
Shutter Speed : 1/320
Create Date : 2009:07:19 11:09:29.88
Date/Time Original : 2009:07:19 11:09:29.88
Modify Date : 2011:02:15 16:27:04.88
Flash : No Flash
Circle Of Confusion : 0.020 mm
Field Of View : 33.4 deg
Focal Length : 40.0 mm (35 mm equivalent: 60.0 mm)
Hyperfocal Distance : 9.98 m
Light Value : 14.3
Lens ID : 16.0-85.0mm f/3.5-5.6