Uber Exif Photo
Copyright Notice : RC COPELAND
Make : NIKON CORPORATION
Camera Model Name : NIKON D700
Orientation : Horizontal (normal)
Software : Adobe Photoshop Elements 8.0 Macintosh
Modify Date : 2011:02:15 16:46:19
Copyright : RC COPELAND
Exposure Time : 1/500
F Number : 8.0
Exposure Program : Aperture-priority AE
ISO : 200
Date/Time Original : 2010:06:05 08:34:06
Create Date : 2010:06:05 08:34:06
Shutter Speed Value : 1/500
Aperture Value : 8.0
Exposure Compensation : 0
Max Aperture Value : 3.6
Metering Mode : Multi-segment
Light Source : Unknown
Focal Length : 31.0 mm
Color Space : sRGB
Exif Image Width : 4205
Exif Image Height : 2755
Sensing Method : One-chip color area
Scene Type : Directly photographed
CFA Pattern : [Red,Green][Green,Blue]
Custom Rendered : Normal
Exposure Mode : Auto
White Balance : Auto
Digital Zoom Ratio : 1
Focal Length In 35mm Format : 31 mm
Scene Capture Type : Standard
Gain Control : None
Contrast : Normal
Saturation : Normal
Sharpness : Normal
Subject Distance Range : Unknown
Profile Description : sRGB IEC61966-2.1
Date/Time Digitized : 2010:06:05 08:34:06.42+01:00
Creator Tool : Adobe Photoshop Elements 5.0 Windows
Rating : 0
Format : image/jpeg
Serial Number : 2174842
Lens Info : 28-105mm f/3.5-4.5
Lens : 28.0-105.0 mm f/3.5-4.5
Image Number : 5025
Raw File Name : _RCC4536.NEF
Version : 4.6
Color Temperature : 5650
Tint : -2
Exposure : +0.25
Shadows : 8
Brightness : 0
Luminance Smoothing : 0
Color Noise Reduction : 25
Chromatic Aberration R : 0
Chromatic Aberration B : 0
Vignette Amount : 0
Shadow Tint : 0
Red Hue : 0
Red Saturation : 0
Green Hue : 0
Green Saturation : 0
Blue Hue : 0
Blue Saturation : 0
Fill Light : 20
Vibrance : 0
Highlight Recovery : 11
Clarity : 0
Defringe : 0
Hue Adjustment Red : 0
Hue Adjustment Orange : 0
Hue Adjustment Yellow : 0
Hue Adjustment Green : 0
Hue Adjustment Aqua : 0
Hue Adjustment Blue : 0
Hue Adjustment Purple : 0
Hue Adjustment Magenta : 0
Saturation Adjustment Red : 0
Saturation Adjustment Orange : 0
Saturation Adjustment Yellow : 0
Saturation Adjustment Green : 0
Saturation Adjustment Aqua : 0
Saturation Adjustment Blue : 0
Saturation Adjustment Purple : 0
Saturation Adjustment Magenta : 0
Luminance Adjustment Red : 0
Luminance Adjustment Orange : 0
Luminance Adjustment Yellow : 0
Luminance Adjustment Green : 0
Luminance Adjustment Aqua : 0
Luminance Adjustment Blue : 0
Luminance Adjustment Purple : 0
Luminance Adjustment Magenta : 0
Split Toning Shadow Hue : 0
Split Toning Shadow Saturation : 0
Split Toning Highlight Hue : 0
Split Toning Highlight Saturation : 0
Split Toning Balance : 0
Parametric Shadows : 0
Parametric Darks : 0
Parametric Lights : 0
Parametric Highlights : 0
Parametric Shadow Split : 25
Parametric Midtone Split : 50
Parametric Highlight Split : 75
Sharpen Radius : +1.0
Sharpen Detail : 25
Sharpen Edge Masking : 0
Post Crop Vignette Amount : 0
Convert To Grayscale : False
Tone Curve Name : Medium Contrast
Camera Profile : ACR 4.6
Has Settings : True
Has Crop : False
Already Applied : True
Sidecar For Extension : NEF
Color Mode : RGB
ICC Profile Name : sRGB IEC61966-2.1
Flash Fired : False
Flash Return : No return detection
Flash Mode : Unknown
Flash Function : False
Flash Red Eye Mode : False
Rights : RC COPELAND
Tone Curve : 0, 0, 32, 22, 64, 56, 128, 128, 192, 196, 255, 255
Image Width : 300
Image Height : 197
Bits Per Sample : 8
Color Components : 3
Aperture : 8.0
Image Size : 300x197
Megapixels : 0.059
Scale Factor To 35 mm Equivalent : 1.0
Shutter Speed : 1/500
Create Date : 2010:06:05 08:34:06.42
Date/Time Original : 2010:06:05 08:34:06.42
Modify Date : 2011:02:15 16:46:19.42
Flash : No Flash
Circle Of Confusion : 0.030 mm
Field Of View : 60.3 deg
Focal Length : 31.0 mm (35 mm equivalent: 31.0 mm)
Hyperfocal Distance : 4.00 m
Light Value : 14.0
Lens ID : 28.0-105.0mm f/3.5-4.5