Uber Exif Photo
Make : NIKON CORPORATION
Camera Model Name : NIKON D90
Software : Ver.1.00
Modify Date : 2011:02:23 00:19:16
Exposure Time : 1/1250
F Number : 1.8
Exposure Program : Aperture-priority AE
ISO : 320
Date/Time Original : 2011:02:22 23:46:43
Create Date : 2011:02:22 23:46:43
Shutter Speed Value : 1/1250
Aperture Value : 1.8
Exposure Compensation : 0
Max Aperture Value : 1.7
Subject Distance : 0.5 m
Metering Mode : Spot
Light Source : Unknown
Focal Length : 50.0 mm
Sensing Method : One-chip color area
Scene Type : Directly photographed
CFA Pattern : [Green,Blue][Red,Green]
Custom Rendered : Normal
Exposure Mode : Auto
White Balance : Auto
Digital Zoom Ratio : 1
Focal Length In 35mm Format : 75 mm
Scene Capture Type : Standard
Gain Control : None
Contrast : Normal
Saturation : Normal
Sharpness : Normal
Subject Distance Range : Unknown
Profile Description : sRGB IEC61966-2.1
Date/Time Digitized : 2011:02:22 23:46:43.00+08:00
Exif Image Width : 1143
Exif Image Height : 1476
Creator Tool : Adobe Photoshop Lightroom
Serial Number : 6567206
Lens Info : 50mm f/1.8
Lens : 50.0 mm f/1.8
Image Number : 8785
Version : 5.7
Incremental Temperature : 0
Incremental Tint : 0
Exposure : 0.00
Shadows : 0
Brightness : 0
Luminance Smoothing : 0
Color Noise Reduction : 0
Chromatic Aberration R : 0
Chromatic Aberration B : 0
Vignette Amount : -17
Vignette Midpoint : 33
Shadow Tint : -14
Red Hue : 0
Red Saturation : 0
Green Hue : 0
Green Saturation : 0
Blue Hue : 0
Blue Saturation : 0
Fill Light : 0
Vibrance : 0
Highlight Recovery : 0
Clarity : 0
Defringe : 0
Hue Adjustment Red : 0
Hue Adjustment Orange : 0
Hue Adjustment Yellow : -55
Hue Adjustment Green : 0
Hue Adjustment Aqua : 0
Hue Adjustment Blue : +33
Hue Adjustment Purple : 0
Hue Adjustment Magenta : 0
Saturation Adjustment Red : +60
Saturation Adjustment Orange : +2
Saturation Adjustment Yellow : +33
Saturation Adjustment Green : +17
Saturation Adjustment Aqua : +38
Saturation Adjustment Blue : +40
Saturation Adjustment Purple : +69
Saturation Adjustment Magenta : -7
Luminance Adjustment Red : -21
Luminance Adjustment Orange : +12
Luminance Adjustment Yellow : +24
Luminance Adjustment Green : +2
Luminance Adjustment Aqua : +19
Luminance Adjustment Blue : +12
Luminance Adjustment Purple : +19
Luminance Adjustment Magenta : +24
Split Toning Shadow Hue : 0
Split Toning Shadow Saturation : 0
Split Toning Highlight Hue : 0
Split Toning Highlight Saturation : 0
Split Toning Balance : 0
Parametric Shadows : 0
Parametric Darks : 0
Parametric Lights : 0
Parametric Highlights : 0
Parametric Shadow Split : 25
Parametric Midtone Split : 50
Parametric Highlight Split : 75
Sharpen Radius : +0.5
Sharpen Detail : 7
Sharpen Edge Masking : 0
Post Crop Vignette Amount : -55
Post Crop Vignette Midpoint : 48
Post Crop Vignette Feather : 89
Post Crop Vignette Roundness : +17
Convert To Grayscale : False
Tone Curve Name : Linear
Camera Profile : Embedded
Has Settings : True
Crop Top : 0.071065
Crop Left : 0.373751
Crop Bottom : 0.867577
Crop Right : 0.612225
Crop Angle : 13.5
Crop Width : 1143
Crop Height : 1476
Crop Unit : pixels
Has Crop : True
Already Applied : True
Flash Fired : False
Flash Return : No return detection
Flash Mode : Unknown
Flash Function : False
Flash Red Eye Mode : False
Tone Curve : 0, 0, 255, 255
Image Width : 232
Image Height : 300
Bits Per Sample : 8
Color Components : 3
Aperture : 1.8
Image Size : 232x300
Megapixels : 0.070
Scale Factor To 35 mm Equivalent : 1.5
Shutter Speed : 1/1250
Create Date : 2011:02:22 23:46:43.00
Date/Time Original : 2011:02:22 23:46:43.00
Flash : No Flash
Circle Of Confusion : 0.020 mm
Depth Of Field : 0.006 m (0.497 - 0.503 m)
Field Of View : 27.0 deg
Focal Length : 50.0 mm (35 mm equivalent: 75.0 mm)
Hyperfocal Distance : 69.34 m
Light Value : 10.3
Lens ID : AF Nikkor 50mm f/1.8D