Uber Exif Photo
Make : NIKON CORPORATION
Camera Model Name : NIKON D90
Software : Ver.1.00
Modify Date : 2011:02:27 19:16:05
Exposure Time : 1/125
F Number : 1.8
Exposure Program : Manual
ISO : 1600
Date/Time Original : 2011:02:27 10:46:48
Create Date : 2011:02:27 10:46:48
Shutter Speed Value : 1/125
Aperture Value : 1.8
Exposure Compensation : 0
Max Aperture Value : 1.7
Subject Distance : 0.6 m
Metering Mode : Multi-segment
Light Source : Unknown
Focal Length : 50.0 mm
Sensing Method : One-chip color area
Scene Type : Directly photographed
CFA Pattern : [Green,Blue][Red,Green]
Custom Rendered : Normal
Exposure Mode : Manual
White Balance : Auto
Digital Zoom Ratio : 1
Focal Length In 35mm Format : 75 mm
Scene Capture Type : Standard
Gain Control : High gain up
Contrast : Normal
Saturation : Normal
Sharpness : Normal
Subject Distance Range : Unknown
Date/Time Digitized : 2011:02:27 10:46:48.00+08:00
Exif Image Width : 3216
Exif Image Height : 1363
Creator Tool : Adobe Photoshop Lightroom
Serial Number : 6567206
Lens Info : 50mm f/1.8
Lens : 50.0 mm f/1.8
Image Number : 9525
Version : 5.7
Incremental Temperature : +10
Incremental Tint : -26
Exposure : +0.57
Shadows : 8
Brightness : +7
Luminance Smoothing : 0
Color Noise Reduction : 0
Chromatic Aberration R : 0
Chromatic Aberration B : 0
Vignette Amount : -69
Vignette Midpoint : 43
Shadow Tint : 0
Red Hue : 0
Red Saturation : 0
Green Hue : 0
Green Saturation : 0
Blue Hue : 0
Blue Saturation : 0
Fill Light : 14
Highlight Recovery : 13
Clarity : 0
Defringe : 0
Gray Mixer Red : -10
Gray Mixer Orange : -19
Gray Mixer Yellow : -23
Gray Mixer Green : -27
Gray Mixer Aqua : -18
Gray Mixer Blue : +10
Gray Mixer Purple : +16
Gray Mixer Magenta : +4
Split Toning Shadow Hue : 0
Split Toning Shadow Saturation : 0
Split Toning Highlight Hue : 0
Split Toning Highlight Saturation : 0
Split Toning Balance : 0
Parametric Shadows : 0
Parametric Darks : 0
Parametric Lights : 0
Parametric Highlights : 0
Parametric Shadow Split : 25
Parametric Midtone Split : 50
Parametric Highlight Split : 75
Sharpen Radius : +1.0
Sharpen Detail : 25
Sharpen Edge Masking : 0
Post Crop Vignette Amount : -55
Post Crop Vignette Midpoint : 54
Post Crop Vignette Feather : 90
Post Crop Vignette Roundness : 0
Convert To Grayscale : True
Tone Curve Name : Linear
Camera Profile : Embedded
Has Settings : True
Crop Top : 0.220859
Crop Left : 0
Crop Bottom : 0.858896
Crop Right : 1
Crop Angle : 0
Crop Width : 3216
Crop Height : 1363
Crop Unit : pixels
Has Crop : True
Already Applied : True
Flash Fired : False
Flash Return : No return detection
Flash Mode : Unknown
Flash Function : False
Flash Red Eye Mode : False
Tone Curve : 0, 0, 255, 255
Image Width : 300
Image Height : 127
Bits Per Sample : 8
Color Components : 1
Aperture : 1.8
Image Size : 300x127
Megapixels : 0.038
Scale Factor To 35 mm Equivalent : 1.5
Shutter Speed : 1/125
Create Date : 2011:02:27 10:46:48.00
Date/Time Original : 2011:02:27 10:46:48.00
Flash : No Flash
Circle Of Confusion : 0.020 mm
Depth Of Field : 0.010 m (0.595 - 0.605 m)
Field Of View : 27.0 deg
Focal Length : 50.0 mm (35 mm equivalent: 75.0 mm)
Hyperfocal Distance : 69.34 m
Light Value : 4.7
Lens ID : AF Nikkor 50mm f/1.8D