Uber Exif Photo
Make : NIKON CORPORATION
Camera Model Name : NIKON D90
Software : Ver.1.00
Modify Date : 2011:02:27 19:36:55
Exposure Time : 1/320
F Number : 2.5
Exposure Program : Aperture-priority AE
ISO : 250
Date/Time Original : 2011:02:26 17:35:21
Create Date : 2011:02:26 17:35:21
Shutter Speed Value : 1/320
Aperture Value : 2.5
Exposure Compensation : 0
Max Aperture Value : 1.7
Subject Distance : 3.55 m
Metering Mode : Multi-segment
Light Source : Unknown
Focal Length : 50.0 mm
Sensing Method : One-chip color area
Scene Type : Directly photographed
CFA Pattern : [Green,Blue][Red,Green]
Custom Rendered : Normal
Exposure Mode : Auto
White Balance : Auto
Digital Zoom Ratio : 1
Focal Length In 35mm Format : 75 mm
Scene Capture Type : Standard
Gain Control : None
Contrast : Normal
Saturation : Normal
Sharpness : Normal
Subject Distance Range : Unknown
Profile Description : sRGB IEC61966-2.1
Date/Time Digitized : 2011:02:26 17:35:21.00+08:00
Exif Image Width : 2929
Exif Image Height : 627
Creator Tool : Adobe Photoshop Lightroom
Serial Number : 6567206
Lens Info : 50mm f/1.8
Lens : 50.0 mm f/1.8
Image Number : 9360
Version : 5.7
Incremental Temperature : 0
Incremental Tint : +7
Exposure : 0.00
Shadows : 13
Brightness : 0
Luminance Smoothing : 0
Color Noise Reduction : 0
Chromatic Aberration R : 0
Chromatic Aberration B : 0
Vignette Amount : 0
Shadow Tint : 0
Red Hue : 0
Red Saturation : -17
Green Hue : 0
Green Saturation : 0
Blue Hue : 0
Blue Saturation : 0
Fill Light : 0
Vibrance : +55
Highlight Recovery : 21
Clarity : -21
Defringe : 0
Hue Adjustment Red : 0
Hue Adjustment Orange : 0
Hue Adjustment Yellow : 0
Hue Adjustment Green : 0
Hue Adjustment Aqua : 0
Hue Adjustment Blue : 0
Hue Adjustment Purple : 0
Hue Adjustment Magenta : 0
Saturation Adjustment Red : 0
Saturation Adjustment Orange : 0
Saturation Adjustment Yellow : 0
Saturation Adjustment Green : 0
Saturation Adjustment Aqua : 0
Saturation Adjustment Blue : 0
Saturation Adjustment Purple : 0
Saturation Adjustment Magenta : 0
Luminance Adjustment Red : 0
Luminance Adjustment Orange : +12
Luminance Adjustment Yellow : +12
Luminance Adjustment Green : 0
Luminance Adjustment Aqua : 0
Luminance Adjustment Blue : +31
Luminance Adjustment Purple : +7
Luminance Adjustment Magenta : 0
Split Toning Shadow Hue : 0
Split Toning Shadow Saturation : 0
Split Toning Highlight Hue : 0
Split Toning Highlight Saturation : 0
Split Toning Balance : 0
Parametric Shadows : -10
Parametric Darks : -14
Parametric Lights : +43
Parametric Highlights : +21
Parametric Shadow Split : 25
Parametric Midtone Split : 50
Parametric Highlight Split : 75
Sharpen Radius : +1.0
Sharpen Detail : 25
Sharpen Edge Masking : 0
Post Crop Vignette Amount : -29
Post Crop Vignette Midpoint : 57
Post Crop Vignette Feather : 52
Post Crop Vignette Roundness : +2
Convert To Grayscale : False
Tone Curve Name : Linear
Camera Profile : Embedded
Has Settings : True
Crop Top : 0.467662
Crop Left : 0.089256
Crop Bottom : 0.761194
Crop Right : 1
Crop Angle : 0
Crop Width : 2929
Crop Height : 627
Crop Unit : pixels
Has Crop : True
Already Applied : True
Flash Fired : False
Flash Return : No return detection
Flash Mode : Unknown
Flash Function : False
Flash Red Eye Mode : False
Tone Curve : 0, 0, 255, 255
Image Width : 300
Image Height : 64
Bits Per Sample : 8
Color Components : 3
Aperture : 2.5
Image Size : 300x64
Megapixels : 0.019
Scale Factor To 35 mm Equivalent : 1.5
Shutter Speed : 1/320
Create Date : 2011:02:26 17:35:21.00
Date/Time Original : 2011:02:26 17:35:21.00
Flash : No Flash
Circle Of Confusion : 0.020 mm
Depth Of Field : 0.50 m (3.32 - 3.82 m)
Field Of View : 27.0 deg
Focal Length : 50.0 mm (35 mm equivalent: 75.0 mm)
Hyperfocal Distance : 49.92 m
Light Value : 9.6
Lens ID : AF Nikkor 50mm f/1.8D