Uber Exif Photo
Keywords : نقعة شملان 2011-03-25 kuwait
Copyright Notice : Mofeed's Photo
Make : NIKON CORPORATION
Camera Model Name : NIKON D90
Software : Ver.1.00
Modify Date : 2011:03:25 00:46:26
Copyright : Mofeed's Photo
Exposure Time : 2
F Number : 11.0
Exposure Program : Manual
ISO : 100
Date/Time Original : 2011:03:24 18:15:54
Create Date : 2011:03:24 18:15:54
Shutter Speed Value : 2
Aperture Value : 11.0
Exposure Compensation : 0
Max Aperture Value : 2.8
Subject Distance : 4294967295 m
Metering Mode : Multi-segment
Light Source : Cloudy
Focal Length : 35.0 mm
Sensing Method : One-chip color area
Scene Type : Directly photographed
CFA Pattern : [Green,Blue][Red,Green]
Custom Rendered : Normal
Exposure Mode : Manual
White Balance : Manual
Digital Zoom Ratio : 1
Focal Length In 35mm Format : 52 mm
Scene Capture Type : Standard
Gain Control : None
Contrast : Normal
Saturation : Normal
Sharpness : Normal
Subject Distance Range : Unknown
Profile Description : sRGB IEC61966-2.1
Date/Time Digitized : 2011:03:24 18:15:54.00+03:00
Exif Image Width : 4230
Exif Image Height : 2809
Creator Tool : Adobe Photoshop Lightroom
Label : Yellow
Serial Number : 8271991
Lens Info : 17-35mm f/2.8
Lens : 17.0-35.0 mm f/2.8
Image Number : 14394
Version : 6.1
Process Version : 5.7
Color Temperature : 5650
Tint : -9
Exposure : 0.00
Shadows : 0
Brightness : +50
Luminance Smoothing : 100
Color Noise Reduction : 25
Chromatic Aberration R : 0
Chromatic Aberration B : 0
Vignette Amount : 0
Shadow Tint : 0
Red Hue : 0
Red Saturation : 0
Green Hue : 0
Green Saturation : 0
Blue Hue : 0
Blue Saturation : 0
Fill Light : 0
Vibrance : 0
Highlight Recovery : 0
Clarity : -3
Defringe : 0
Hue Adjustment Red : 0
Hue Adjustment Orange : 0
Hue Adjustment Yellow : 0
Hue Adjustment Green : 0
Hue Adjustment Aqua : +12
Hue Adjustment Blue : -99
Hue Adjustment Purple : -9
Hue Adjustment Magenta : 0
Saturation Adjustment Red : +7
Saturation Adjustment Orange : +68
Saturation Adjustment Yellow : +65
Saturation Adjustment Green : 0
Saturation Adjustment Aqua : +81
Saturation Adjustment Blue : +59
Saturation Adjustment Purple : 0
Saturation Adjustment Magenta : 0
Luminance Adjustment Red : 0
Luminance Adjustment Orange : 0
Luminance Adjustment Yellow : 0
Luminance Adjustment Green : 0
Luminance Adjustment Aqua : 0
Luminance Adjustment Blue : 0
Luminance Adjustment Purple : 0
Luminance Adjustment Magenta : 0
Split Toning Shadow Hue : 0
Split Toning Shadow Saturation : 0
Split Toning Highlight Hue : 0
Split Toning Highlight Saturation : 0
Split Toning Balance : 0
Parametric Shadows : -22
Parametric Darks : +7
Parametric Lights : -56
Parametric Highlights : +100
Parametric Shadow Split : 25
Parametric Midtone Split : 50
Parametric Highlight Split : 75
Sharpen Radius : +1.0
Sharpen Detail : 25
Sharpen Edge Masking : 0
Post Crop Vignette Amount : 0
Grain Amount : 0
Luminance Noise Reduction Detail : 100
Color Noise Reduction Detail : 50
Luminance Noise Reduction Contrast : 43
Lens Profile Enable : 0
Lens Manual Distortion Amount : 0
Perspective Vertical : 0
Perspective Horizontal : 0
Perspective Rotate : 0.0
Perspective Scale : 100
Convert To Grayscale : False
Tone Curve Name : Strong Contrast
Camera Profile : Camera Landscape
Lens Profile Setup : LensDefaults
Has Settings : True
Crop Top : 0.013629
Crop Left : 0.013629
Crop Bottom : 1
Crop Right : 1
Crop Angle : 0
Crop Constrain To Warp : 0
Crop Width : 4230
Crop Height : 2809
Crop Unit : pixels
Has Crop : True
Already Applied : True
Flash Fired : False
Flash Return : No return detection
Flash Mode : Unknown
Flash Function : False
Flash Red Eye Mode : False
Rights : Mofeed's Photo
Subject : نقعة شملان 2011-03-25 kuwait
Tone Curve : 0, 0, 32, 16, 64, 50, 128, 128, 192, 202, 255, 255
Image Width : 300
Image Height : 199
Bits Per Sample : 8
Color Components : 3
Aperture : 11.0
Image Size : 300x199
Megapixels : 0.060
Scale Factor To 35 mm Equivalent : 1.5
Shutter Speed : 2
Create Date : 2011:03:24 18:15:54.00
Date/Time Original : 2011:03:24 18:15:54.00
Flash : No Flash
Circle Of Confusion : 0.020 mm
Depth Of Field : inf (5.51 m - inf)
Field Of View : 38.2 deg
Focal Length : 35.0 mm (35 mm equivalent: 52.0 mm)
Hyperfocal Distance : 5.51 m
Light Value : 5.9
Lens ID : AF-S Nikkor 17-35mm f/2.8D IF-ED