Uber Exif Photo
Make : NIKON CORPORATION
Camera Model Name : NIKON D5000
Software : Ver.1.00
Modify Date : 2011:03:28 02:43:00
Exposure Time : 5
F Number : 25.0
Exposure Program : Manual
ISO : 100
Date/Time Original : 2011:03:26 02:14:10
Create Date : 2011:03:26 02:14:10
Shutter Speed Value : 5
Aperture Value : 25.0
Exposure Compensation : 0
Max Aperture Value : 5.7
Subject Distance : 0.94 m
Metering Mode : Multi-segment
Light Source : Unknown
Focal Length : 55.0 mm
User Comment : Abdul Basit [abdulbasit17@gmail.com]
Sensing Method : One-chip color area
Scene Type : Directly photographed
CFA Pattern : [Green,Blue][Red,Green]
Custom Rendered : Normal
Exposure Mode : Manual
White Balance : Auto
Digital Zoom Ratio : 1
Focal Length In 35mm Format : 82 mm
Scene Capture Type : Standard
Gain Control : None
Contrast : Normal
Saturation : Normal
Sharpness : Hard
Subject Distance Range : Unknown
Profile Description : sRGB IEC61966-2.1
Date/Time Digitized : 2011:03:26 02:14:10.50-08:00
Exif Image Width : 2541
Exif Image Height : 2136
Creator Tool : Adobe Photoshop Lightroom
Serial Number : 2178359
Lens Info : 18-55mm f/3.5-5.6
Lens : 18.0-55.0 mm f/3.5-5.6
Image Number : 9077
Version : 6.1
Process Version : 5.7
Incremental Temperature : -10
Incremental Tint : 0
Exposure : 0.00
Shadows : 33
Brightness : 0
Luminance Smoothing : 0
Color Noise Reduction : 0
Chromatic Aberration R : 0
Chromatic Aberration B : 0
Vignette Amount : 0
Shadow Tint : 0
Red Hue : 0
Red Saturation : 0
Green Hue : 0
Green Saturation : 0
Blue Hue : 0
Blue Saturation : 0
Fill Light : 0
Vibrance : +63
Highlight Recovery : 0
Clarity : +100
Defringe : 0
Hue Adjustment Red : +2
Hue Adjustment Orange : 0
Hue Adjustment Yellow : 0
Hue Adjustment Green : 0
Hue Adjustment Aqua : 0
Hue Adjustment Blue : 0
Hue Adjustment Purple : 0
Hue Adjustment Magenta : 0
Saturation Adjustment Red : +59
Saturation Adjustment Orange : 0
Saturation Adjustment Yellow : 0
Saturation Adjustment Green : 0
Saturation Adjustment Aqua : -100
Saturation Adjustment Blue : -14
Saturation Adjustment Purple : +100
Saturation Adjustment Magenta : +100
Luminance Adjustment Red : -7
Luminance Adjustment Orange : 0
Luminance Adjustment Yellow : 0
Luminance Adjustment Green : 0
Luminance Adjustment Aqua : 0
Luminance Adjustment Blue : -11
Luminance Adjustment Purple : 0
Luminance Adjustment Magenta : 0
Split Toning Shadow Hue : 0
Split Toning Shadow Saturation : 0
Split Toning Highlight Hue : 0
Split Toning Highlight Saturation : 0
Split Toning Balance : 0
Parametric Shadows : 0
Parametric Darks : 0
Parametric Lights : 0
Parametric Highlights : 0
Parametric Shadow Split : 25
Parametric Midtone Split : 50
Parametric Highlight Split : 75
Sharpen Radius : +1.0
Sharpen Detail : 25
Sharpen Edge Masking : 0
Post Crop Vignette Amount : 0
Grain Amount : 0
Lens Profile Enable : 0
Lens Manual Distortion Amount : 0
Perspective Vertical : 0
Perspective Horizontal : 0
Perspective Rotate : 0.0
Perspective Scale : 100
Convert To Grayscale : False
Tone Curve Name : Linear
Camera Profile : Embedded
Lens Profile Setup : LensDefaults
Has Settings : True
Crop Top : 0
Crop Left : 0
Crop Bottom : 1
Crop Right : 0.79
Crop Angle : 0
Crop Constrain To Warp : 0
Crop Width : 2541
Crop Height : 2136
Crop Unit : pixels
Has Crop : True
Already Applied : True
Flash Fired : False
Flash Return : No return detection
Flash Mode : Unknown
Flash Function : False
Flash Red Eye Mode : False
Tone Curve : 0, 0, 255, 255
Image Width : 300
Image Height : 252
Bits Per Sample : 8
Color Components : 3
Aperture : 25.0
Image Size : 300x252
Megapixels : 0.076
Scale Factor To 35 mm Equivalent : 1.5
Shutter Speed : 5
Create Date : 2011:03:26 02:14:10.50
Date/Time Original : 2011:03:26 02:14:10.50
Flash : No Flash
Circle Of Confusion : 0.020 mm
Depth Of Field : 0.28 m (0.82 - 1.10 m)
Field Of View : 24.8 deg
Focal Length : 55.0 mm (35 mm equivalent: 82.0 mm)
Hyperfocal Distance : 6.00 m
Light Value : 7.0
Lens ID : AF-S DX VR Zoom-Nikkor 18-55mm f/3.5-5.6G