Uber Exif Photo
Make : NIKON CORPORATION
Camera Model Name : NIKON D5000
Software : Adobe Photoshop Lightroom 3.4
Modify Date : 2011:04:29 12:31:12
Exposure Time : 1/400
F Number : 5.6
Exposure Program : Manual
ISO : 250
Date/Time Original : 2011:04:29 12:15:07
Create Date : 2011:04:29 12:15:07
Shutter Speed Value : 1/400
Aperture Value : 5.6
Exposure Compensation : 0
Max Aperture Value : 5.7
Subject Distance : 1.41 m
Metering Mode : Center-weighted average
Light Source : Fine Weather
Focal Length : 300.0 mm
Sensing Method : One-chip color area
Scene Type : Directly photographed
CFA Pattern : [Green,Blue][Red,Green]
Custom Rendered : Normal
Exposure Mode : Manual
White Balance : Manual
Digital Zoom Ratio : 1
Focal Length In 35mm Format : 450 mm
Scene Capture Type : Standard
Gain Control : None
Contrast : Normal
Saturation : Normal
Sharpness : Normal
Subject Distance Range : Unknown
Profile Description : Adobe RGB (1998)
Creator Tool : Adobe Photoshop Lightroom 3.4
Rating : 0
Serial Number : 7451212
Lens Info : 70-300mm f/4-5.6
Lens : 70.0-300.0 mm f/4.0-5.6
Image Number : 4663
Approximate Focus Distance : 1.41
Date Created : 2011:04:29 12:15:07.00
Date/Time Digitized : 2011:04:29 12:15:07.00+01:00
Exif Image Width : 4288
Exif Image Height : 2848
Raw File Name : _DSC0005.dng
Version : 6.0
Process Version : 5.7
Color Temperature : 3786
Tint : -46
Exposure : +0.70
Shadows : 26
Brightness : +32
Luminance Smoothing : 0
Color Noise Reduction : 25
Chromatic Aberration R : 0
Chromatic Aberration B : 0
Vignette Amount : +26
Vignette Midpoint : 48
Shadow Tint : +100
Red Hue : +100
Red Saturation : +45
Green Hue : -62
Green Saturation : -33
Blue Hue : -62
Blue Saturation : -100
Fill Light : 51
Vibrance : +60
Highlight Recovery : 33
Clarity : 0
Defringe : 2
Hue Adjustment Red : -2
Hue Adjustment Orange : +5
Hue Adjustment Yellow : +5
Hue Adjustment Green : +1
Hue Adjustment Aqua : 0
Hue Adjustment Blue : 0
Hue Adjustment Purple : 0
Hue Adjustment Magenta : 0
Saturation Adjustment Red : 0
Saturation Adjustment Orange : 0
Saturation Adjustment Yellow : -83
Saturation Adjustment Green : 0
Saturation Adjustment Aqua : 0
Saturation Adjustment Blue : 0
Saturation Adjustment Purple : 0
Saturation Adjustment Magenta : +2
Luminance Adjustment Red : +2
Luminance Adjustment Orange : 0
Luminance Adjustment Yellow : 0
Luminance Adjustment Green : 0
Luminance Adjustment Aqua : 0
Luminance Adjustment Blue : 0
Luminance Adjustment Purple : 0
Luminance Adjustment Magenta : 0
Split Toning Shadow Hue : 9
Split Toning Shadow Saturation : 61
Split Toning Highlight Hue : 51
Split Toning Highlight Saturation : 49
Split Toning Balance : +26
Parametric Shadows : -20
Parametric Darks : -2
Parametric Lights : +12
Parametric Highlights : +21
Parametric Shadow Split : 25
Parametric Midtone Split : 50
Parametric Highlight Split : 75
Sharpen Radius : +1.0
Sharpen Detail : 25
Sharpen Edge Masking : 0
Post Crop Vignette Amount : -60
Post Crop Vignette Midpoint : 50
Post Crop Vignette Feather : 86
Post Crop Vignette Roundness : +71
Post Crop Vignette Style : Highlight Priority
Post Crop Vignette Highlight Contrast : 0
Grain Amount : 0
Color Noise Reduction Detail : 50
Convert To Grayscale : False
Tone Curve Name : Linear
Camera Profile : Adobe Standard
Has Settings : True
Has Crop : False
Already Applied : True
Flash Fired : False
Flash Return : No return detection
Flash Mode : Unknown
Flash Function : False
Flash Red Eye Mode : False
Tone Curve : 0, 0, 255, 255
Image Width : 300
Image Height : 199
Bits Per Sample : 8
Color Components : 3
Aperture : 5.6
Image Size : 300x199
Megapixels : 0.060
Scale Factor To 35 mm Equivalent : 1.5
Shutter Speed : 1/400
Create Date : 2011:04:29 12:15:07.00
Date/Time Original : 2011:04:29 12:15:07.00
Flash : No Flash
Circle Of Confusion : 0.020 mm
Depth Of Field : 0.004 m (1.408 - 1.412 m)
Field Of View : 4.6 deg
Focal Length : 300.0 mm (35 mm equivalent: 450.0 mm)
Hyperfocal Distance : 802.33 m
Light Value : 12.3
Lens ID : Sigma 70-300mm F4-5.6 APO Macro Super II or AF Zoom-Nikkor 70-300mm f/4-5.6D ED