Uber Exif Photo
Make : NIKON CORPORATION
Camera Model Name : NIKON D5000
Software : Ver.1.00
Modify Date : 2011:04:30 21:37:52
Exposure Time : 1/800
F Number : 4.5
Exposure Program : Aperture-priority AE
ISO : 100
Date/Time Original : 2011:04:29 15:46:01
Create Date : 2011:04:29 15:46:01
Shutter Speed Value : 1/800
Aperture Value : 4.5
Exposure Compensation : 0
Max Aperture Value : 4.0
Subject Distance : 4294967295 m
Metering Mode : Multi-segment
Light Source : Unknown
Focal Length : 22.0 mm
User Comment : Abdul Basit [abdulbasit17@gmail.com]
Sensing Method : One-chip color area
Scene Type : Directly photographed
CFA Pattern : [Green,Blue][Red,Green]
Custom Rendered : Normal
Exposure Mode : Auto
White Balance : Auto
Digital Zoom Ratio : 1
Focal Length In 35mm Format : 33 mm
Scene Capture Type : Standard
Gain Control : None
Contrast : Normal
Saturation : Normal
Sharpness : Hard
Subject Distance Range : Unknown
Profile Description : sRGB IEC61966-2.1
Date/Time Digitized : 2011:04:29 15:46:01.50+06:00
Exif Image Width : 2865
Exif Image Height : 1269
Creator Tool : Adobe Photoshop Lightroom
Serial Number : 2178359
Lens Info : 18-55mm f/3.5-5.6
Lens : 18.0-55.0 mm f/3.5-5.6
Image Number : 9353
Version : 6.1
Process Version : 5.7
Incremental Temperature : +2
Incremental Tint : -9
Exposure : 0.00
Shadows : 18
Brightness : -9
Luminance Smoothing : 27
Color Noise Reduction : 25
Chromatic Aberration R : 0
Chromatic Aberration B : 0
Vignette Amount : -55
Vignette Midpoint : 50
Shadow Tint : -2
Red Hue : +2
Red Saturation : -19
Green Hue : 0
Green Saturation : 0
Blue Hue : -19
Blue Saturation : +12
Fill Light : 11
Vibrance : +31
Highlight Recovery : 19
Clarity : +100
Defringe : 0
Hue Adjustment Red : 0
Hue Adjustment Orange : 0
Hue Adjustment Yellow : 0
Hue Adjustment Green : 0
Hue Adjustment Aqua : -23
Hue Adjustment Blue : +95
Hue Adjustment Purple : 0
Hue Adjustment Magenta : 0
Saturation Adjustment Red : 0
Saturation Adjustment Orange : 0
Saturation Adjustment Yellow : 0
Saturation Adjustment Green : 0
Saturation Adjustment Aqua : +40
Saturation Adjustment Blue : +60
Saturation Adjustment Purple : 0
Saturation Adjustment Magenta : 0
Luminance Adjustment Red : 0
Luminance Adjustment Orange : 0
Luminance Adjustment Yellow : 0
Luminance Adjustment Green : 0
Luminance Adjustment Aqua : -48
Luminance Adjustment Blue : -74
Luminance Adjustment Purple : 0
Luminance Adjustment Magenta : 0
Split Toning Shadow Hue : 0
Split Toning Shadow Saturation : 0
Split Toning Highlight Hue : 0
Split Toning Highlight Saturation : 0
Split Toning Balance : 0
Parametric Shadows : -17
Parametric Darks : +36
Parametric Lights : +24
Parametric Highlights : -36
Parametric Shadow Split : 25
Parametric Midtone Split : 50
Parametric Highlight Split : 75
Sharpen Radius : +1.0
Sharpen Detail : 25
Sharpen Edge Masking : 0
Post Crop Vignette Amount : 0
Grain Amount : 0
Luminance Noise Reduction Detail : 50
Color Noise Reduction Detail : 50
Luminance Noise Reduction Contrast : 0
Lens Profile Enable : 0
Lens Manual Distortion Amount : 0
Perspective Vertical : 0
Perspective Horizontal : 0
Perspective Rotate : 0.0
Perspective Scale : 100
Convert To Grayscale : False
Tone Curve Name : Medium Contrast
Camera Profile : ACR 4.4
Lens Profile Setup : LensDefaults
Has Settings : True
Crop Top : 0.117054
Crop Left : 0.069097
Crop Bottom : 0.706485
Crop Right : 0.961204
Crop Angle : -0.2
Crop Constrain To Warp : 0
Crop Width : 2865
Crop Height : 1269
Crop Unit : pixels
Has Crop : True
Already Applied : True
Flash Fired : False
Flash Return : No return detection
Flash Mode : Unknown
Flash Function : False
Flash Red Eye Mode : False
Tone Curve : 0, 0, 32, 22, 64, 56, 128, 128, 192, 196, 255, 255
Image Width : 300
Image Height : 133
Bits Per Sample : 8
Color Components : 3
Aperture : 4.5
Image Size : 300x133
Megapixels : 0.040
Scale Factor To 35 mm Equivalent : 1.5
Shutter Speed : 1/800
Create Date : 2011:04:29 15:46:01.50
Date/Time Original : 2011:04:29 15:46:01.50
Flash : No Flash
Circle Of Confusion : 0.020 mm
Depth Of Field : inf (5.37 m - inf)
Field Of View : 57.2 deg
Focal Length : 22.0 mm (35 mm equivalent: 33.0 mm)
Hyperfocal Distance : 5.37 m
Light Value : 14.0
Lens ID : AF-S DX VR Zoom-Nikkor 18-55mm f/3.5-5.6G