Uber Exif Photo
Copyright Notice : ROCKPORT5@GMAIL.COM
Make : NIKON CORPORATION
Camera Model Name : NIKON D3
Orientation : Horizontal (normal)
Software : Adobe Photoshop CS5 Macintosh
Modify Date : 2011:05:12 16:56:31
Copyright : ROCKPORT5@GMAIL.COM
Exposure Time : 1/800
F Number : 2.0
Exposure Program : Aperture-priority AE
ISO : 320
Sensitivity Type : Unknown
Date/Time Original : 2011:05:10 18:50:48
Create Date : 2011:05:10 18:50:48
Shutter Speed Value : 1/800
Aperture Value : 2.0
Exposure Compensation : -1/3
Max Aperture Value : 2.0
Subject Distance : 2.99 m
Metering Mode : Center-weighted average
Light Source : Cloudy
Flash : No Flash
Focal Length : 200.0 mm
User Comment : FALL.2010
Color Space : sRGB
Exif Image Width : 1300
Exif Image Height : 1003
Sensing Method : One-chip color area
Scene Type : Directly photographed
Custom Rendered : Normal
Exposure Mode : Auto
White Balance : Manual
Digital Zoom Ratio : 1
Focal Length In 35mm Format : 200 mm
Scene Capture Type : Standard
Gain Control : None
Contrast : Normal
Saturation : High
Sharpness : Normal
Subject Distance Range : Unknown
Serial Number : 2062639
Lens Info : 200mm f/2
Lens Model : 200.0 mm f/2.0
Profile Description : sRGB IEC61966-2.1
Date Created : 2011:05:10 18:50:48-05:00
Color Mode : RGB
ICC Profile Name : sRGB IEC61966-2.1
Creator Tool : Adobe Photoshop CS5 Macintosh
Rating : 0
Format : image/jpeg
Lens : 200.0 mm f/2.0
Image Number : 111432
Approximate Focus Distance : 2.99
Raw File Name : _USA8410.tif
Version : 6.3
Process Version : 5.7
Incremental Temperature : +4
Incremental Tint : +8
Exposure : 0.00
Shadows : 0
Brightness : 0
Luminance Smoothing : 0
Color Noise Reduction : 0
Chromatic Aberration R : 0
Chromatic Aberration B : 0
Vignette Amount : 0
Shadow Tint : 0
Red Hue : 0
Red Saturation : 0
Green Hue : 0
Green Saturation : 0
Blue Hue : 0
Blue Saturation : 0
Fill Light : 0
Vibrance : 0
Highlight Recovery : 0
Clarity : 0
Defringe : 0
Hue Adjustment Red : 0
Hue Adjustment Orange : 0
Hue Adjustment Yellow : 0
Hue Adjustment Green : 0
Hue Adjustment Aqua : 0
Hue Adjustment Blue : 0
Hue Adjustment Purple : 0
Hue Adjustment Magenta : 0
Saturation Adjustment Red : 0
Saturation Adjustment Orange : 0
Saturation Adjustment Yellow : 0
Saturation Adjustment Green : +24
Saturation Adjustment Aqua : 0
Saturation Adjustment Blue : 0
Saturation Adjustment Purple : 0
Saturation Adjustment Magenta : 0
Luminance Adjustment Red : 0
Luminance Adjustment Orange : 0
Luminance Adjustment Yellow : 0
Luminance Adjustment Green : -13
Luminance Adjustment Aqua : 0
Luminance Adjustment Blue : 0
Luminance Adjustment Purple : 0
Luminance Adjustment Magenta : 0
Split Toning Shadow Hue : 0
Split Toning Shadow Saturation : 0
Split Toning Highlight Hue : 0
Split Toning Highlight Saturation : 0
Split Toning Balance : 0
Parametric Shadows : 0
Parametric Darks : 0
Parametric Lights : 0
Parametric Highlights : 0
Parametric Shadow Split : 25
Parametric Midtone Split : 50
Parametric Highlight Split : 75
Sharpen Radius : +1.0
Sharpen Detail : 25
Sharpen Edge Masking : 0
Post Crop Vignette Amount : 0
Grain Amount : 0
Lens Profile Enable : 0
Lens Manual Distortion Amount : 0
Perspective Vertical : 0
Perspective Horizontal : 0
Perspective Rotate : 0.0
Perspective Scale : 100
Convert To Grayscale : False
Tone Curve Name : Linear
Camera Profile : Embedded
Lens Profile Setup : LensDefaults
Has Settings : True
Has Crop : False
Already Applied : True
Rights : ROCKPORT5@GMAIL.COM
Tone Curve : 0, 0, 255, 255
Image Width : 300
Image Height : 231
Bits Per Sample : 8
Color Components : 3
Aperture : 2.0
Image Size : 300x231
Megapixels : 0.069
Scale Factor To 35 mm Equivalent : 1.0
Shutter Speed : 1/800
Create Date : 2011:05:10 18:50:48.19
Date/Time Original : 2011:05:10 18:50:48.19
Modify Date : 2011:05:12 16:56:31.19
Circle Of Confusion : 0.030 mm
Depth Of Field : 0.03 m (2.98 - 3.00 m)
Field Of View : 10.3 deg
Focal Length : 200.0 mm (35 mm equivalent: 200.0 mm)
Hyperfocal Distance : 665.64 m
Light Value : 10.0
Lens ID : AF-S VR Nikkor 200mm f/2G IF-ED