Uber Exif Photo
Keywords : AF-S NIKKOR 24-70mm f/2.8G ED (2.9x), Flowers, Nikon D3s, Sigma 150-500MM, Sigma 150-500mm F5-6.3 APO DG OS HSM, Switzerland
By-line : Draculro
Copyright Notice : Copyright 2011 Draculro
Make : NIKON CORPORATION
Camera Model Name : NIKON D3S
Orientation : Horizontal (normal)
Software : Adobe Photoshop Lightroom 3.4
Modify Date : 2011:05:10 15:30:46
Artist : Draculro
Copyright : Copyright 2011 Draculro
Exposure Time : 1/320
F Number : 6.3
Exposure Program : Aperture-priority AE
ISO : 200
Date/Time Original : 2011:04:29 17:12:53
Create Date : 2011:04:29 17:12:53
Shutter Speed Value : 1/320
Aperture Value : 6.3
Exposure Compensation : -5/3
Max Aperture Value : 6.3
Subject Distance : 8.91 m
Metering Mode : Multi-segment
Light Source : Unknown
Flash : No Flash
Focal Length : 500.0 mm
Sensing Method : One-chip color area
Scene Type : Directly photographed
Custom Rendered : Normal
Exposure Mode : Auto
White Balance : Auto
Digital Zoom Ratio : 1
Focal Length In 35mm Format : 500 mm
Scene Capture Type : Standard
Gain Control : None
Contrast : Normal
Saturation : Normal
Sharpness : Hard
Subject Distance Range : Unknown
Serial Number : 2026054
Lens Info : 150-500mm f/5-6.3
Lens Model : 150.0-500.0 mm f/5.0-6.3
Profile Description : sRGB IEC61966-2.1
Creator Tool : Adobe Photoshop Lightroom 3.4
Rating : 5
Lens : 150.0-500.0 mm f/5.0-6.3
Image Number : 11070
Approximate Focus Distance : 8.91
Date Created : 2011:04:29 17:12:53.08
Version : 6.4
Process Version : 5.7
Incremental Temperature : 0
Incremental Tint : 0
Exposure : 0.00
Shadows : 0
Brightness : 0
Luminance Smoothing : 70
Color Noise Reduction : 0
Chromatic Aberration R : 0
Chromatic Aberration B : 0
Vignette Amount : 0
Shadow Tint : 0
Red Hue : 0
Red Saturation : 0
Green Hue : 0
Green Saturation : 0
Blue Hue : 0
Blue Saturation : 0
Fill Light : 0
Vibrance : 0
Highlight Recovery : 0
Clarity : 0
Defringe : 0
Hue Adjustment Red : 0
Hue Adjustment Orange : 0
Hue Adjustment Yellow : -5
Hue Adjustment Green : -23
Hue Adjustment Aqua : 0
Hue Adjustment Blue : 0
Hue Adjustment Purple : 0
Hue Adjustment Magenta : 0
Saturation Adjustment Red : 0
Saturation Adjustment Orange : 0
Saturation Adjustment Yellow : +14
Saturation Adjustment Green : +64
Saturation Adjustment Aqua : 0
Saturation Adjustment Blue : 0
Saturation Adjustment Purple : 0
Saturation Adjustment Magenta : 0
Luminance Adjustment Red : 0
Luminance Adjustment Orange : 0
Luminance Adjustment Yellow : -7
Luminance Adjustment Green : +9
Luminance Adjustment Aqua : 0
Luminance Adjustment Blue : 0
Luminance Adjustment Purple : 0
Luminance Adjustment Magenta : 0
Split Toning Shadow Hue : 0
Split Toning Shadow Saturation : 0
Split Toning Highlight Hue : 0
Split Toning Highlight Saturation : 0
Split Toning Balance : 0
Parametric Shadows : 0
Parametric Darks : 0
Parametric Lights : 0
Parametric Highlights : 0
Parametric Shadow Split : 25
Parametric Midtone Split : 50
Parametric Highlight Split : 75
Sharpen Radius : +1.0
Sharpen Detail : 25
Sharpen Edge Masking : 0
Post Crop Vignette Amount : 0
Grain Amount : 0
Luminance Noise Reduction Detail : 50
Luminance Noise Reduction Contrast : 0
Lens Profile Enable : 0
Lens Manual Distortion Amount : 0
Perspective Vertical : 0
Perspective Horizontal : 0
Perspective Rotate : 0.0
Perspective Scale : 100
Convert To Grayscale : False
Tone Curve Name : Linear
Camera Profile : Embedded
Lens Profile Setup : LensDefaults
Has Settings : True
Has Crop : False
Already Applied : True
Raw File Name : Rose.Yelow.04.2011.jpg
Tone Curve : 0, 0, 255, 255
Creator : Draculro
Rights : Copyright 2011 Draculro
Subject : AF-S NIKKOR 24-70mm f/2.8G ED (2.9x), Flowers, Nikon D3s, Sigma 150-500MM, Sigma 150-500mm F5-6.3 APO DG OS HSM, Switzerland
Hierarchical Subject : AF-S NIKKOR 24-70mm f/2.8G ED (2.9x), Flowers, Nikon D3s, Sigma 150-500MM, Sigma 150-500mm F5-6.3 APO DG OS HSM, Switzerland
Image Width : 300
Image Height : 216
Bits Per Sample : 8
Color Components : 3
Aperture : 6.3
Image Size : 300x216
Megapixels : 0.065
Scale Factor To 35 mm Equivalent : 1.0
Shutter Speed : 1/320
Create Date : 2011:04:29 17:12:53.08
Date/Time Original : 2011:04:29 17:12:53.08
Circle Of Confusion : 0.030 mm
Depth Of Field : 0.11 m (8.85 - 8.97 m)
Field Of View : 4.1 deg
Focal Length : 500.0 mm (35 mm equivalent: 500.0 mm)
Hyperfocal Distance : 1320.71 m
Light Value : 12.6
Lens ID : Sigma 150-500mm F5-6.3 DG OS APO HSM