Uber Exif Photo
By-line : {your name}
By-line Title : Nikon digital camera user
Keywords : Animals, Birds, Hedge Sparrow
Copyright Notice : (C)2009 {your name}, all rights reserved
Make : NIKON CORPORATION
Camera Model Name : NIKON D300S
Orientation : Horizontal (normal)
Software : Adobe Photoshop CS5 Windows
Modify Date : 2011:05:13 20:18:47
Artist : {your name}
Copyright : (C)2009 {your name}, all rights reserved
Exposure Time : 1/60
F Number : 4.0
Exposure Program : Aperture-priority AE
ISO : 200
Sensitivity Type : Unknown
Date/Time Original : 2011:05:13 17:34:04
Create Date : 2011:05:13 17:34:04
Shutter Speed Value : 1/60
Aperture Value : 4.0
Exposure Compensation : 0
Max Aperture Value : 1.7
Subject Distance : 0.45 m
Metering Mode : Spot
Light Source : Cloudy
Flash : On, Return detected
Focal Length : 50.0 mm
Color Space : Uncalibrated
Exif Image Width : 770
Exif Image Height : 578
Sensing Method : One-chip color area
Scene Type : Directly photographed
CFA Pattern : [Red,Green][Green,Blue]
Custom Rendered : Normal
Exposure Mode : Auto
White Balance : Manual
Digital Zoom Ratio : 1
Focal Length In 35mm Format : 75 mm
Scene Capture Type : Standard
Gain Control : None
Contrast : Normal
Saturation : Normal
Sharpness : Normal
Subject Distance Range : Unknown
Serial Number : 7407751
Lens Info : 50mm f/1.8
Lens Model : 50.0 mm f/1.8
Profile Description : Adobe RGB (1998)
Format : image/jpeg
Authors Position : Nikon digital camera user
Date Created : 2011:05:13 17:34:04.067
Sidecar For Extension : NEF
Color Mode : RGB
ICC Profile Name : Adobe RGB (1998)
Rating Percent : 0
Creator Tool : Nikon Transfer 1.5 W
Rating : 0
Lens : 50.0 mm f/1.8
Image Number : 3401
Approximate Focus Distance : 0.45
Raw File Name : DSC_3179.NEF
Version : 6.4
Process Version : 5.7
Color Temperature : 6500
Tint : +10
Exposure : 0.00
Shadows : 4
Brightness : +50
Luminance Smoothing : 0
Color Noise Reduction : 25
Chromatic Aberration R : 0
Chromatic Aberration B : 0
Vignette Amount : 0
Shadow Tint : 0
Red Hue : 0
Red Saturation : 0
Green Hue : 0
Green Saturation : 0
Blue Hue : 0
Blue Saturation : 0
Fill Light : 0
Vibrance : +44
Highlight Recovery : 0
Clarity : +24
Defringe : 0
Hue Adjustment Red : 0
Hue Adjustment Orange : 0
Hue Adjustment Yellow : 0
Hue Adjustment Green : 0
Hue Adjustment Aqua : 0
Hue Adjustment Blue : 0
Hue Adjustment Purple : 0
Hue Adjustment Magenta : 0
Saturation Adjustment Red : 0
Saturation Adjustment Orange : 0
Saturation Adjustment Yellow : 0
Saturation Adjustment Green : 0
Saturation Adjustment Aqua : 0
Saturation Adjustment Blue : 0
Saturation Adjustment Purple : 0
Saturation Adjustment Magenta : 0
Luminance Adjustment Red : 0
Luminance Adjustment Orange : 0
Luminance Adjustment Yellow : 0
Luminance Adjustment Green : 0
Luminance Adjustment Aqua : 0
Luminance Adjustment Blue : 0
Luminance Adjustment Purple : 0
Luminance Adjustment Magenta : 0
Split Toning Shadow Hue : 0
Split Toning Shadow Saturation : 0
Split Toning Highlight Hue : 0
Split Toning Highlight Saturation : 0
Split Toning Balance : 0
Parametric Shadows : 0
Parametric Darks : 0
Parametric Lights : 0
Parametric Highlights : 0
Parametric Shadow Split : 25
Parametric Midtone Split : 50
Parametric Highlight Split : 75
Sharpen Radius : +1.0
Sharpen Detail : 25
Sharpen Edge Masking : 0
Post Crop Vignette Amount : 0
Grain Amount : 0
Color Noise Reduction Detail : 50
Lens Profile Enable : 0
Lens Manual Distortion Amount : 0
Perspective Vertical : 0
Perspective Horizontal : 0
Perspective Rotate : 0.0
Perspective Scale : 100
Convert To Grayscale : False
Tone Curve Name : Medium Contrast
Camera Profile : Adobe Standard
Lens Profile Setup : LensDefaults
Has Settings : True
Crop Top : 0.149292
Crop Left : 0.200348
Crop Bottom : 0.825527
Crop Right : 0.799203
Crop Angle : 0
Crop Constrain To Warp : 1
Crop Width : 3
Crop Height : 4
Crop Unit : Unknown (3)
Has Crop : True
Already Applied : True
Creator : {your name}
Rights : (C)2009 {your name}, all rights reserved
Subject : Animals, Birds, Hedge Sparrow
Tone Curve : 0, 0, 32, 22, 64, 56, 128, 128, 192, 196, 255, 255
Usage Terms : For consideration only, no reproduction without prior permission
Hierarchical Subject : Animals, Animals|Birds, Animals|Hedge Sparrow
Image Width : 300
Image Height : 225
Bits Per Sample : 8
Color Components : 3
Aperture : 4.0
Image Size : 300x225
Megapixels : 0.068
Scale Factor To 35 mm Equivalent : 1.5
Shutter Speed : 1/60
Create Date : 2011:05:13 17:34:04.67
Date/Time Original : 2011:05:13 17:34:04.67
Modify Date : 2011:05:13 20:18:47.67
Circle Of Confusion : 0.020 mm
Depth Of Field : 0.012 m (0.444 - 0.456 m)
Field Of View : 27.0 deg
Focal Length : 50.0 mm (35 mm equivalent: 75.0 mm)
Hyperfocal Distance : 31.20 m
Light Value : 8.9
Lens ID : AF Nikkor 50mm f/1.8D