Uber Exif Photo
Make : NIKON CORPORATION
Camera Model Name : NIKON D7000
Software : Ver.1.01
Modify Date : 2011:03:24 21:34:40
Exposure Time : 1/250
F Number : 11.0
Exposure Program : Manual
ISO : 100
Sensitivity Type : Recommended Exposure Index
Date/Time Original : 2011:03:24 20:03:56
Create Date : 2011:03:24 20:03:56
Shutter Speed Value : 1/250
Aperture Value : 11.0
Exposure Compensation : +1/3
Max Aperture Value : 2.8
Subject Distance : 1.26 m
Metering Mode : Multi-segment
Light Source : Unknown
Focal Length : 62.0 mm
Sensing Method : One-chip color area
Scene Type : Directly photographed
CFA Pattern : [Red,Green][Green,Blue]
Custom Rendered : Normal
Exposure Mode : Manual
White Balance : Auto
Digital Zoom Ratio : 1
Focal Length In 35mm Format : 93 mm
Scene Capture Type : Standard
Gain Control : None
Contrast : Normal
Saturation : Normal
Sharpness : Normal
Subject Distance Range : Unknown
Serial Number : 3059508
Lens Info : 24-70mm f/2.8
Lens Model : 24.0-70.0 mm f/2.8
Profile Description : sRGB IEC61966-2.1
Date/Time Digitized : 2011:03:24 20:03:56.70-04:00
Exif Image Width : 4435
Exif Image Height : 2938
Creator Tool : Adobe Photoshop Lightroom 3.3
Lens : 24.0-70.0 mm f/2.8
Image Number : 3358
Approximate Focus Distance : 1.26
Version : 6.3
Process Version : 5.7
Color Temperature : 5900
Tint : +11
Exposure : 0.00
Shadows : 28
Brightness : +53
Luminance Smoothing : 11
Color Noise Reduction : 25
Chromatic Aberration R : 0
Chromatic Aberration B : 0
Vignette Amount : 0
Shadow Tint : 0
Red Hue : 0
Red Saturation : 0
Green Hue : 0
Green Saturation : 0
Blue Hue : 0
Blue Saturation : 0
Fill Light : 55
Vibrance : +10
Highlight Recovery : 15
Clarity : +38
Defringe : 0
Hue Adjustment Red : 0
Hue Adjustment Orange : 0
Hue Adjustment Yellow : 0
Hue Adjustment Green : 0
Hue Adjustment Aqua : 0
Hue Adjustment Blue : 0
Hue Adjustment Purple : 0
Hue Adjustment Magenta : 0
Saturation Adjustment Red : 0
Saturation Adjustment Orange : 0
Saturation Adjustment Yellow : 0
Saturation Adjustment Green : 0
Saturation Adjustment Aqua : 0
Saturation Adjustment Blue : 0
Saturation Adjustment Purple : 0
Saturation Adjustment Magenta : 0
Luminance Adjustment Red : 0
Luminance Adjustment Orange : 0
Luminance Adjustment Yellow : 0
Luminance Adjustment Green : 0
Luminance Adjustment Aqua : 0
Luminance Adjustment Blue : 0
Luminance Adjustment Purple : 0
Luminance Adjustment Magenta : 0
Split Toning Shadow Hue : 0
Split Toning Shadow Saturation : 0
Split Toning Highlight Hue : 0
Split Toning Highlight Saturation : 0
Split Toning Balance : 0
Parametric Shadows : 0
Parametric Darks : 0
Parametric Lights : 0
Parametric Highlights : 0
Parametric Shadow Split : 25
Parametric Midtone Split : 50
Parametric Highlight Split : 75
Sharpen Radius : +0.6
Sharpen Detail : 25
Sharpen Edge Masking : 0
Post Crop Vignette Amount : 0
Grain Amount : 0
Luminance Noise Reduction Detail : 50
Color Noise Reduction Detail : 50
Luminance Noise Reduction Contrast : 0
Lens Profile Enable : 0
Lens Manual Distortion Amount : 0
Perspective Vertical : 0
Perspective Horizontal : 0
Perspective Rotate : 0.0
Perspective Scale : 100
Convert To Grayscale : False
Tone Curve Name : Medium Contrast
Camera Profile : Adobe Standard
Lens Profile Setup : LensDefaults
Has Settings : True
Crop Top : 0.039945
Crop Left : 0.099963
Crop Bottom : 0.939982
Crop Right : 1
Crop Angle : 0
Crop Constrain To Warp : 0
Crop Width : 4435
Crop Height : 2938
Crop Unit : pixels
Has Crop : True
Already Applied : True
Flash Fired : True
Flash Return : Return not detected
Flash Mode : On
Flash Function : False
Flash Red Eye Mode : False
Tone Curve : 0, 0, 32, 22, 64, 56, 128, 128, 192, 196, 255, 255
Image Width : 300
Image Height : 199
Bits Per Sample : 8
Color Components : 3
Aperture : 11.0
Image Size : 300x199
Megapixels : 0.060
Scale Factor To 35 mm Equivalent : 1.5
Shutter Speed : 1/250
Create Date : 2011:03:24 20:03:56.70
Date/Time Original : 2011:03:24 20:03:56.70
Flash : On, Return not detected
Circle Of Confusion : 0.020 mm
Depth Of Field : 0.17 m (1.18 - 1.35 m)
Field Of View : 21.9 deg
Focal Length : 62.0 mm (35 mm equivalent: 93.0 mm)
Hyperfocal Distance : 17.45 m
Light Value : 14.9
Lens ID : AF-S Zoom-Nikkor 24-70mm f/2.8G ED