Uber Exif Photo
Keywords : 2010, Hua Hin 2010 syksy, Matkat, Matkat ulkomaille, Vuosi
Make : NIKON CORPORATION
Camera Model Name : NIKON D80
Orientation : Horizontal (normal)
Software : Adobe Photoshop Elements 8.0 Windows
Modify Date : 2011:05:16 19:19:27
Exposure Time : 1/125
F Number : 2.8
Exposure Program : Manual
ISO : 400
Date/Time Original : 2010:10:24 02:01:58
Create Date : 2010:10:24 02:01:58
Shutter Speed Value : 1/125
Aperture Value : 2.8
Exposure Compensation : -7/3
Max Aperture Value : 2.8
Subject Distance : 4294967295 m
Metering Mode : Multi-segment
Light Source : Unknown
Focal Length : 70.0 mm
Color Space : Uncalibrated
Exif Image Width : 2500
Exif Image Height : 1622
Sensing Method : One-chip color area
Scene Type : Directly photographed
CFA Pattern : [Green,Blue][Red,Green]
Custom Rendered : Normal
Exposure Mode : Manual
White Balance : Auto
Digital Zoom Ratio : 1
Focal Length In 35mm Format : 105 mm
Scene Capture Type : Standard
Gain Control : Low gain up
Contrast : High
Saturation : Normal
Sharpness : Normal
Subject Distance Range : Unknown
Serial Number : 4082623
Lens Info : 70-200mm f/2.8
Lens Model : 70.0-200.0 mm f/2.8
Profile Description : Adobe RGB (1998)
Creator Tool : Adobe Photoshop Lightroom 3.4
Lens : 70.0-200.0 mm f/2.8
Image Number : 14528
Approximate Focus Distance : 4294967295
Version : 6.4
Process Version : 5.7
Color Temperature : 6500
Tint : -3
Exposure : +1.61
Shadows : 45
Brightness : +67
Luminance Smoothing : 39
Color Noise Reduction : 47
Chromatic Aberration R : 0
Chromatic Aberration B : 0
Vignette Amount : 0
Shadow Tint : 0
Red Hue : 0
Red Saturation : 0
Green Hue : 0
Green Saturation : 0
Blue Hue : 0
Blue Saturation : 0
Fill Light : 0
Vibrance : +29
Highlight Recovery : 20
Clarity : +63
Defringe : 0
Hue Adjustment Red : 0
Hue Adjustment Orange : 0
Hue Adjustment Yellow : 0
Hue Adjustment Green : 0
Hue Adjustment Aqua : 0
Hue Adjustment Blue : 0
Hue Adjustment Purple : 0
Hue Adjustment Magenta : 0
Saturation Adjustment Red : 0
Saturation Adjustment Orange : 0
Saturation Adjustment Yellow : 0
Saturation Adjustment Green : 0
Saturation Adjustment Aqua : 0
Saturation Adjustment Blue : 0
Saturation Adjustment Purple : 0
Saturation Adjustment Magenta : 0
Luminance Adjustment Red : 0
Luminance Adjustment Orange : 0
Luminance Adjustment Yellow : 0
Luminance Adjustment Green : 0
Luminance Adjustment Aqua : 0
Luminance Adjustment Blue : 0
Luminance Adjustment Purple : 0
Luminance Adjustment Magenta : 0
Split Toning Shadow Hue : 0
Split Toning Shadow Saturation : 0
Split Toning Highlight Hue : 0
Split Toning Highlight Saturation : 0
Split Toning Balance : 0
Parametric Shadows : 0
Parametric Darks : 0
Parametric Lights : 0
Parametric Highlights : 0
Parametric Shadow Split : 25
Parametric Midtone Split : 50
Parametric Highlight Split : 75
Sharpen Radius : +1.0
Sharpen Detail : 25
Sharpen Edge Masking : 0
Post Crop Vignette Amount : 0
Grain Amount : 0
Luminance Noise Reduction Detail : 50
Color Noise Reduction Detail : 50
Luminance Noise Reduction Contrast : 0
Lens Profile Enable : 0
Lens Manual Distortion Amount : 0
Perspective Vertical : 0
Perspective Horizontal : 0
Perspective Rotate : 0.0
Perspective Scale : 100
Convert To Grayscale : False
Tone Curve Name : Medium Contrast
Camera Profile : Adobe Standard
Lens Profile Setup : LensDefaults
Has Settings : True
Crop Top : 0
Crop Left : 0.006483
Crop Bottom : 1
Crop Right : 0.993517
Crop Angle : 0.34654
Crop Constrain To Warp : 0
Crop Width : 3837
Crop Height : 2569
Crop Unit : pixels
Has Crop : True
Already Applied : True
Date Created : 2010:10:24
Color Mode : RGB
ICC Profile Name : Adobe RGB (1998)
Format : image/jpeg
Date/Time Digitized : 2010:10:24 02:01:58+03:00
Tone Curve : 0, 0, 32, 22, 64, 56, 128, 128, 192, 196, 255, 255
Subject : 2010, Hua Hin 2010 syksy, Matkat, Matkat ulkomaille, Vuosi
Flash Fired : False
Flash Return : No return detection
Flash Mode : Unknown
Flash Function : False
Flash Red Eye Mode : False
Image Width : 300
Image Height : 195
Bits Per Sample : 8
Color Components : 3
Aperture : 2.8
Image Size : 300x195
Megapixels : 0.059
Scale Factor To 35 mm Equivalent : 1.5
Shutter Speed : 1/125
Create Date : 2010:10:24 02:01:58.30
Date/Time Original : 2010:10:24 02:01:58.30
Flash : No Flash
Circle Of Confusion : 0.020 mm
Depth Of Field : inf (87.37 m - inf)
Field Of View : 19.5 deg
Focal Length : 70.0 mm (35 mm equivalent: 105.0 mm)
Hyperfocal Distance : 87.37 m
Light Value : 7.9
Lens ID : AF-S Nikkor 70-200mm f/2.8G ED VR II