Uber Exif Photo
By-line : STEPHANOS ANTONIADES
Copyright Notice : STEPHANOS & OLGA PHOTOGRAPHY
Make : NIKON CORPORATION
Camera Model Name : NIKON D300S
Orientation : Horizontal (normal)
Software : Adobe Photoshop CS5 Macintosh
Modify Date : 2011:04:25 10:28:56
Artist : STEPHANOS ANTONIADES
Copyright : STEPHANOS & OLGA PHOTOGRAPHY
Exposure Time : 1/8
F Number : 6.3
Exposure Program : Manual
ISO : 400
Sensitivity Type : Unknown
Date/Time Original : 2011:04:23 18:50:23
Create Date : 2011:04:23 18:50:23
Shutter Speed Value : 1/8
Aperture Value : 6.3
Exposure Compensation : -1/3
Max Aperture Value : 4.0
Subject Distance : 12.6 m
Metering Mode : Multi-segment
Light Source : Cloudy
Flash : No Flash
Focal Length : 40.0 mm
Color Space : Uncalibrated
Exif Image Width : 1024
Exif Image Height : 341
Sensing Method : One-chip color area
Scene Type : Directly photographed
CFA Pattern : [Red,Green][Green,Blue]
Custom Rendered : Normal
Exposure Mode : Manual
White Balance : Manual
Digital Zoom Ratio : 1
Focal Length In 35mm Format : 60 mm
Scene Capture Type : Standard
Gain Control : Low gain up
Contrast : Normal
Saturation : Normal
Sharpness : Normal
Subject Distance Range : Unknown
Serial Number : 3028251
Lens Info : 28-300mm f/3.5-5.6
Lens Model : 28.0-300.0 mm f/3.5-5.6
GPS Version ID : 2.2.0.0
GPS Latitude Ref : North
GPS Longitude Ref : West
GPS Altitude Ref : Above Sea Level
GPS Time Stamp : 01:50:15
GPS Satellites : 12
GPS Map Datum : WGS 84
GPS Date Stamp : 2011:04:24
Profile Description : Adobe RGB (1998)
Creator Tool : Adobe Photoshop CS5 Macintosh
Rating : 0
Format : image/jpeg
Lens : 28.0-300.0 mm f/3.5-5.6
Image Number : 6351
Approximate Focus Distance : 12.6
Raw File Name : DSC_6182.NEF
Version : 6.3
Process Version : 5.7
Color Temperature : 6500
Tint : +10
Exposure : +0.67
Shadows : 5
Brightness : +52
Luminance Smoothing : 0
Color Noise Reduction : 25
Chromatic Aberration R : 0
Chromatic Aberration B : 0
Vignette Amount : 0
Shadow Tint : 0
Red Hue : 0
Red Saturation : 0
Green Hue : 0
Green Saturation : 0
Blue Hue : 0
Blue Saturation : 0
Fill Light : 0
Vibrance : +30
Highlight Recovery : 10
Clarity : +50
Defringe : 0
Hue Adjustment Red : 0
Hue Adjustment Orange : 0
Hue Adjustment Yellow : 0
Hue Adjustment Green : 0
Hue Adjustment Aqua : 0
Hue Adjustment Blue : 0
Hue Adjustment Purple : 0
Hue Adjustment Magenta : 0
Saturation Adjustment Red : 0
Saturation Adjustment Orange : 0
Saturation Adjustment Yellow : 0
Saturation Adjustment Green : 0
Saturation Adjustment Aqua : 0
Saturation Adjustment Blue : 0
Saturation Adjustment Purple : 0
Saturation Adjustment Magenta : 0
Luminance Adjustment Red : 0
Luminance Adjustment Orange : 0
Luminance Adjustment Yellow : 0
Luminance Adjustment Green : 0
Luminance Adjustment Aqua : 0
Luminance Adjustment Blue : 0
Luminance Adjustment Purple : 0
Luminance Adjustment Magenta : 0
Split Toning Shadow Hue : 0
Split Toning Shadow Saturation : 0
Split Toning Highlight Hue : 0
Split Toning Highlight Saturation : 0
Split Toning Balance : 0
Parametric Shadows : 0
Parametric Darks : 0
Parametric Lights : 0
Parametric Highlights : 0
Parametric Shadow Split : 25
Parametric Midtone Split : 50
Parametric Highlight Split : 75
Sharpen Radius : +1.0
Sharpen Detail : 25
Sharpen Edge Masking : 0
Post Crop Vignette Amount : 0
Grain Amount : 0
Color Noise Reduction Detail : 50
Lens Profile Enable : 0
Lens Manual Distortion Amount : 0
Perspective Vertical : 0
Perspective Horizontal : 0
Perspective Rotate : 0.0
Perspective Scale : 100
Convert To Grayscale : False
Tone Curve Name : Medium Contrast
Camera Profile : Adobe Standard
Lens Profile Setup : LensDefaults
Has Settings : True
Has Crop : False
Already Applied : True
Color Mode : RGB
ICC Profile Name : Adobe RGB (1998)
Date Created : 2011:04:23 18:50:23.089
Creator : STEPHANOS ANTONIADES
Rights : STEPHANOS & OLGA PHOTOGRAPHY
Tone Curve : 0, 0, 32, 22, 64, 56, 128, 128, 192, 196, 255, 255
Image Width : 300
Image Height : 100
Bits Per Sample : 8
Color Components : 3
Aperture : 6.3
Image Size : 300x100
Megapixels : 0.030
Scale Factor To 35 mm Equivalent : 1.5
Shutter Speed : 1/8
Create Date : 2011:04:23 18:50:23.89
Date/Time Original : 2011:04:23 18:50:23.89
Modify Date : 2011:04:25 10:28:56.89
GPS Altitude : 1319 m Above Sea Level
GPS Date/Time : 2011:04:24 01:50:15Z
GPS Latitude : 34 deg 51' 22.88" N
GPS Longitude : 111 deg 45' 33.61" W
Circle Of Confusion : 0.020 mm
Depth Of Field : 1337.70 m (6.33 - 1344.03 m)
Field Of View : 33.4 deg
Focal Length : 40.0 mm (35 mm equivalent: 60.0 mm)
GPS Position : 34 deg 51' 22.88" N, 111 deg 45' 33.61" W
Hyperfocal Distance : 12.68 m
Light Value : 6.3
Lens ID : AF-S Nikkor 28-300mm f/3.5-5.6G ED VR