Uber Exif Photo
By-line : Tim Whalen
Copyright Notice : TimWhalen@Comcast.Net 2010
Photometric Interpretation : RGB
Make : NIKON CORPORATION
Camera Model Name : NIKON D7000
Orientation : Horizontal (normal)
Samples Per Pixel : 3
Planar Configuration : Chunky
Software : Adobe Photoshop Elements 9.0 Macintosh
Modify Date : 2011:05:19 07:32:00
Artist : Tim Whalen
Copyright : TimWhalen@Comcast.Net 2010
Exposure Time : 1/1000
F Number : 5.0
Exposure Program : Shutter speed priority AE
ISO : 4000
Sensitivity Type : Recommended Exposure Index
Date/Time Original : 2011:02:23 05:53:28
Create Date : 2011:02:23 05:53:28
Shutter Speed Value : 1/1000
Aperture Value : 5.0
Exposure Compensation : 0
Max Aperture Value : 4.9
Subject Distance : 11.9 m
Metering Mode : Multi-segment
Light Source : Unknown
Focal Length : 170.0 mm
Color Space : sRGB
Exif Image Width : 1760
Exif Image Height : 990
Sensing Method : One-chip color area
Scene Type : Directly photographed
CFA Pattern : [Red,Green][Green,Blue]
Custom Rendered : Normal
Exposure Mode : Auto
White Balance : Auto
Digital Zoom Ratio : 1
Focal Length In 35mm Format : 255 mm
Scene Capture Type : Standard
Gain Control : High gain up
Contrast : Normal
Saturation : High
Sharpness : Normal
Subject Distance Range : Unknown
Serial Number : 3004207
Lens Info : 70-300mm f/4.5-5.6
Lens Model : 70.0-300.0 mm f/4.5-5.6
Profile Description : sRGB IEC61966-2.1
Date/Time Digitized : 2011:02:23 05:53:28-05:00
Creator Tool : Ver.1.01
Rating : 0
Format : image/jpeg
Lens : 70.0-300.0 mm f/4.5-5.6
Image Number : 1801
Approximate Focus Distance : 11.9
Raw File Name : DSC_1787.NEF
Version : 6.3
Process Version : 5.7
Color Temperature : 6250
Tint : +13
Exposure : +0.65
Shadows : 10
Brightness : +46
Luminance Smoothing : 22
Color Noise Reduction : 33
Chromatic Aberration R : 0
Chromatic Aberration B : 0
Vignette Amount : 0
Shadow Tint : 0
Red Hue : 0
Red Saturation : 0
Green Hue : 0
Green Saturation : 0
Blue Hue : 0
Blue Saturation : 0
Fill Light : 9
Vibrance : +29
Highlight Recovery : 45
Clarity : +18
Defringe : 0
Hue Adjustment Red : 0
Hue Adjustment Orange : 0
Hue Adjustment Yellow : 0
Hue Adjustment Green : 0
Hue Adjustment Aqua : 0
Hue Adjustment Blue : 0
Hue Adjustment Purple : 0
Hue Adjustment Magenta : 0
Saturation Adjustment Red : 0
Saturation Adjustment Orange : 0
Saturation Adjustment Yellow : 0
Saturation Adjustment Green : 0
Saturation Adjustment Aqua : 0
Saturation Adjustment Blue : 0
Saturation Adjustment Purple : 0
Saturation Adjustment Magenta : 0
Luminance Adjustment Red : 0
Luminance Adjustment Orange : 0
Luminance Adjustment Yellow : 0
Luminance Adjustment Green : 0
Luminance Adjustment Aqua : 0
Luminance Adjustment Blue : 0
Luminance Adjustment Purple : 0
Luminance Adjustment Magenta : 0
Split Toning Shadow Hue : 0
Split Toning Shadow Saturation : 0
Split Toning Highlight Hue : 0
Split Toning Highlight Saturation : 0
Split Toning Balance : 0
Parametric Shadows : 0
Parametric Darks : 0
Parametric Lights : 0
Parametric Highlights : 0
Parametric Shadow Split : 25
Parametric Midtone Split : 50
Parametric Highlight Split : 75
Sharpen Radius : +1.0
Sharpen Detail : 51
Sharpen Edge Masking : 0
Post Crop Vignette Amount : 0
Grain Amount : 0
Luminance Noise Reduction Detail : 50
Color Noise Reduction Detail : 50
Luminance Noise Reduction Contrast : 0
Lens Profile Enable : 0
Lens Manual Distortion Amount : 0
Perspective Vertical : 0
Perspective Horizontal : 0
Perspective Rotate : 0.0
Perspective Scale : 100
Convert To Grayscale : False
Tone Curve Name : Medium Contrast
Camera Profile : Adobe Standard
Lens Profile Setup : LensDefaults
Has Settings : True
Has Crop : False
Already Applied : True
Sidecar For Extension : NEF
Color Mode : RGB
ICC Profile Name : sRGB IEC61966-2.1
Flash Fired : False
Flash Return : No return detection
Flash Mode : Off
Flash Function : False
Flash Red Eye Mode : False
Creator : Tim Whalen
Rights : TimWhalen@Comcast.Net 2010
Tone Curve : 0, 0, 32, 22, 64, 56, 128, 128, 192, 196, 255, 255
Image Width : 300
Image Height : 169
Bits Per Sample : 8
Color Components : 3
Aperture : 5.0
Image Size : 300x169
Megapixels : 0.051
Scale Factor To 35 mm Equivalent : 1.5
Shutter Speed : 1/1000
Create Date : 2011:02:23 05:53:28.30
Date/Time Original : 2011:02:23 05:53:28.30
Modify Date : 2011:05:19 07:32:00.30
Flash : Off, Did not fire
Circle Of Confusion : 0.020 mm
Depth Of Field : 0.97 m (11.44 - 12.40 m)
Field Of View : 8.1 deg
Focal Length : 170.0 mm (35 mm equivalent: 255.0 mm)
Hyperfocal Distance : 288.56 m
Light Value : 9.3
Lens ID : AF-S VR Zoom-Nikkor 70-300mm f/4.5-5.6G IF-ED