Uber Exif Photo
Keywords : Baum, Blitz, DreamsTime, Hintergrund, Leuchten, Low light, Nacht, Night, Phantasy, Philipp, Schnee, Tree, Winter, athmospheric, flash, lighting, magic, snow
Copyright Notice : Karl R. Photography (c)
Make : NIKON CORPORATION
Camera Model Name : NIKON D700
Software : Adobe Photoshop Lightroom 3.4
Modify Date : 2011:05:20 12:08:13
Copyright : Karl R. Photography (c)
Exposure Time : 4
F Number : 8.0
Exposure Program : Manual
ISO : 800
Date/Time Original : 2010:12:26 22:28:39
Create Date : 2010:12:26 22:28:39
Shutter Speed Value : 4
Aperture Value : 8.0
Exposure Compensation : 0
Max Aperture Value : 4.0
Subject Distance : 4294967295 m
Metering Mode : Multi-segment
Light Source : Unknown
Flash : On, Return not detected
Focal Length : 24.0 mm
Sensing Method : One-chip color area
Scene Type : Directly photographed
CFA Pattern : [Red,Green][Green,Blue]
Custom Rendered : Normal
Exposure Mode : Manual
White Balance : Auto
Digital Zoom Ratio : 1
Focal Length In 35mm Format : 24 mm
Scene Capture Type : Standard
Gain Control : Low gain up
Contrast : Normal
Saturation : Normal
Sharpness : Normal
Subject Distance Range : Unknown
Serial Number : 2392166
Lens Info : 24-120mm f/4
Lens Model : 24.0-120.0 mm f/4.0
Profile Description : sRGB IEC61966-2.1
Creator Tool : Adobe Photoshop Lightroom 3.4
Lens : 24.0-120.0 mm f/4.0
Image Number : 702
Approximate Focus Distance : 4294967295
Version : 6.4
Process Version : 5.7
Color Temperature : 5500
Tint : 0
Exposure : +1.00
Shadows : 6
Brightness : +10
Luminance Smoothing : 22
Color Noise Reduction : 25
Chromatic Aberration R : 0
Chromatic Aberration B : 0
Vignette Amount : 0
Shadow Tint : 0
Red Hue : 0
Red Saturation : 0
Green Hue : 0
Green Saturation : 0
Blue Hue : 0
Blue Saturation : 0
Fill Light : 40
Vibrance : +14
Highlight Recovery : 0
Clarity : +16
Defringe : 0
Hue Adjustment Red : 0
Hue Adjustment Orange : 0
Hue Adjustment Yellow : 0
Hue Adjustment Green : 0
Hue Adjustment Aqua : 0
Hue Adjustment Blue : 0
Hue Adjustment Purple : 0
Hue Adjustment Magenta : 0
Saturation Adjustment Red : 0
Saturation Adjustment Orange : 0
Saturation Adjustment Yellow : -56
Saturation Adjustment Green : -40
Saturation Adjustment Aqua : 0
Saturation Adjustment Blue : 0
Saturation Adjustment Purple : 0
Saturation Adjustment Magenta : 0
Luminance Adjustment Red : 0
Luminance Adjustment Orange : 0
Luminance Adjustment Yellow : 0
Luminance Adjustment Green : 0
Luminance Adjustment Aqua : 0
Luminance Adjustment Blue : 0
Luminance Adjustment Purple : 0
Luminance Adjustment Magenta : 0
Split Toning Shadow Hue : 0
Split Toning Shadow Saturation : 0
Split Toning Highlight Hue : 0
Split Toning Highlight Saturation : 0
Split Toning Balance : 0
Parametric Shadows : -7
Parametric Darks : -3
Parametric Lights : +3
Parametric Highlights : +9
Parametric Shadow Split : 25
Parametric Midtone Split : 50
Parametric Highlight Split : 75
Sharpen Radius : +1.0
Sharpen Detail : 60
Sharpen Edge Masking : 69
Post Crop Vignette Amount : 0
Grain Amount : 0
Luminance Noise Reduction Detail : 50
Color Noise Reduction Detail : 50
Luminance Noise Reduction Contrast : 0
Lens Profile Enable : 0
Lens Manual Distortion Amount : 0
Perspective Vertical : 0
Perspective Horizontal : 0
Perspective Rotate : 0.0
Perspective Scale : 100
Convert To Grayscale : False
Tone Curve Name : Medium Contrast
Camera Profile : Camera Standard
Lens Profile Setup : LensDefaults
Has Settings : True
Crop Top : 0
Crop Left : 0
Crop Bottom : 0.977941
Crop Right : 0.977941
Crop Angle : 0
Crop Constrain To Warp : 0
Crop Width : 2451
Crop Height : 1631
Crop Unit : pixels
Has Crop : True
Already Applied : True
Date Created : 2010:12:26 22:28:39.33+01:00
Rights : Karl R. Photography (c)
Subject : Baum, Blitz, DreamsTime, Hintergrund, Leuchten, Low light, Nacht, Night, Phantasy, Philipp, Schnee, Tree, Winter, athmospheric, flash, lighting, magic, snow
Tone Curve : 0, 0, 32, 22, 64, 56, 128, 128, 192, 196, 255, 255
Image Width : 300
Image Height : 200
Bits Per Sample : 8
Color Components : 3
Aperture : 8.0
Image Size : 300x200
Megapixels : 0.060
Scale Factor To 35 mm Equivalent : 1.0
Shutter Speed : 4
Create Date : 2010:12:26 22:28:39.33
Date/Time Original : 2010:12:26 22:28:39.33
Circle Of Confusion : 0.030 mm
Depth Of Field : inf (2.40 m - inf)
Field Of View : 73.7 deg
Focal Length : 24.0 mm (35 mm equivalent: 24.0 mm)
Hyperfocal Distance : 2.40 m
Light Value : 1.0
Lens ID : AF-S Nikkor 24-120mm f/4G ED VR