Uber Exif Photo
Copyright Flag : False
Photometric Interpretation : RGB
Make : Kodak
Camera Model Name : DCS Pro 14N
Orientation : Horizontal (normal)
Samples Per Pixel : 3
Planar Configuration : Chunky
Software : Adobe Photoshop CS3 Macintosh
Modify Date : 2011:05:20 11:39:56
Exposure Time : 1/250
F Number : 8.0
Exposure Program : Program AE
ISO : 200
Date/Time Original : 2010:04:29 12:58:32
Shutter Speed Value : 1/250
Aperture Value : 8.0
Exposure Compensation : 0
Max Aperture Value : 5.3
Metering Mode : Multi-spot
Light Source : Unknown
Focal Length : 72.0 mm
Color Space : Uncalibrated
Exif Image Width : 1622
Exif Image Height : 972
Exposure Index : 200
Sensing Method : One-chip color area
Profile Description : Adobe RGB (1998)
Create Date : 2011:05:20 11:18:37-04:00
Creator Tool : Adobe Photoshop CS3 Macintosh
Rating : 0
Serial Number : P14N-15795
Image Number : 4165
Raw File Name : D6ZP4165.DCR
Version : 4.6
White Balance : As Shot
Color Temperature : 4150
Tint : -35
Exposure : 0.00
Shadows : 1
Brightness : +13
Contrast : +43
Saturation : +14
Sharpness : 25
Luminance Smoothing : 0
Color Noise Reduction : 25
Chromatic Aberration R : 0
Chromatic Aberration B : 0
Vignette Amount : 0
Shadow Tint : 0
Red Hue : 0
Red Saturation : 0
Green Hue : 0
Green Saturation : 0
Blue Hue : 0
Blue Saturation : 0
Fill Light : 7
Vibrance : 0
Highlight Recovery : 3
Clarity : +48
Defringe : 0
Hue Adjustment Red : 0
Hue Adjustment Orange : 0
Hue Adjustment Yellow : 0
Hue Adjustment Green : 0
Hue Adjustment Aqua : 0
Hue Adjustment Blue : 0
Hue Adjustment Purple : 0
Hue Adjustment Magenta : 0
Saturation Adjustment Red : 0
Saturation Adjustment Orange : 0
Saturation Adjustment Yellow : 0
Saturation Adjustment Green : 0
Saturation Adjustment Aqua : 0
Saturation Adjustment Blue : 0
Saturation Adjustment Purple : 0
Saturation Adjustment Magenta : 0
Luminance Adjustment Red : 0
Luminance Adjustment Orange : 0
Luminance Adjustment Yellow : 0
Luminance Adjustment Green : 0
Luminance Adjustment Aqua : 0
Luminance Adjustment Blue : 0
Luminance Adjustment Purple : 0
Luminance Adjustment Magenta : 0
Split Toning Shadow Hue : 0
Split Toning Shadow Saturation : 0
Split Toning Highlight Hue : 0
Split Toning Highlight Saturation : 0
Split Toning Balance : 0
Parametric Shadows : 0
Parametric Darks : 0
Parametric Lights : 0
Parametric Highlights : 0
Parametric Shadow Split : 25
Parametric Midtone Split : 50
Parametric Highlight Split : 75
Sharpen Radius : +1.0
Sharpen Detail : 25
Sharpen Edge Masking : 0
Post Crop Vignette Amount : 0
Convert To Grayscale : False
Tone Curve Name : Medium Contrast
Camera Profile : ACR 4.4
Has Settings : True
Has Crop : False
Already Applied : True
Sidecar For Extension : DCR
Color Mode : RGB
ICC Profile Name : Adobe RGB (1998)
Format : image/jpeg
Flash Fired : False
Tone Curve : 0, 0, 32, 22, 64, 56, 128, 128, 192, 196, 255, 255
Image Width : 300
Image Height : 180
Bits Per Sample : 8
Color Components : 3
Aperture : 8.0
Image Size : 300x180
Megapixels : 0.054
Shutter Speed : 1/250
Flash : No Flash
Light Value : 13.0