Uber Exif Photo
Make : NIKON CORPORATION
Camera Model Name : NIKON D40
Software : Adobe Photoshop Lightroom 3.4
Modify Date : 2011:05:17 21:30:16
Exposure Time : 1/1600
F Number : 7.1
Exposure Program : Aperture-priority AE
ISO : 1600
Date/Time Original : 2009:05:23 14:40:37
Create Date : 2009:05:23 14:40:37
Shutter Speed Value : 1/1600
Aperture Value : 7.1
Exposure Compensation : 0
Max Aperture Value : 5.7
Subject Distance : 2 m
Metering Mode : Center-weighted average
Light Source : Unknown
Flash : No Flash
Focal Length : 300.0 mm
Sensing Method : One-chip color area
Scene Type : Directly photographed
CFA Pattern : [Blue,Green][Green,Red]
Custom Rendered : Normal
Exposure Mode : Auto
White Balance : Auto
Digital Zoom Ratio : 1
Focal Length In 35mm Format : 450 mm
Scene Capture Type : Standard
Gain Control : High gain up
Contrast : Normal
Saturation : High
Sharpness : Hard
Subject Distance Range : Unknown
Serial Number : 3487216
Lens Info : 70-300mm f/4-5.6
Lens Model : 70.0-300.0 mm f/4.0-5.6
Profile Description : sRGB IEC61966-2.1
Creator Tool : Adobe Photoshop Lightroom 3.4
Lens : 70.0-300.0 mm f/4.0-5.6
Image Number : 5819
Approximate Focus Distance : 2
Version : 6.4
Process Version : 5.7
Incremental Temperature : +10
Incremental Tint : -10
Exposure : +0.10
Shadows : 5
Brightness : 0
Luminance Smoothing : 100
Color Noise Reduction : 0
Chromatic Aberration R : 0
Chromatic Aberration B : 0
Vignette Amount : 0
Shadow Tint : 0
Red Hue : 0
Red Saturation : 0
Green Hue : 0
Green Saturation : 0
Blue Hue : 0
Blue Saturation : 0
Fill Light : 0
Vibrance : +33
Highlight Recovery : 100
Clarity : +31
Defringe : 0
Hue Adjustment Red : 0
Hue Adjustment Orange : 0
Hue Adjustment Yellow : 0
Hue Adjustment Green : 0
Hue Adjustment Aqua : 0
Hue Adjustment Blue : 0
Hue Adjustment Purple : 0
Hue Adjustment Magenta : 0
Saturation Adjustment Red : 0
Saturation Adjustment Orange : +10
Saturation Adjustment Yellow : 0
Saturation Adjustment Green : +25
Saturation Adjustment Aqua : +5
Saturation Adjustment Blue : 0
Saturation Adjustment Purple : 0
Saturation Adjustment Magenta : 0
Luminance Adjustment Red : 0
Luminance Adjustment Orange : 0
Luminance Adjustment Yellow : 0
Luminance Adjustment Green : 0
Luminance Adjustment Aqua : 0
Luminance Adjustment Blue : 0
Luminance Adjustment Purple : 0
Luminance Adjustment Magenta : 0
Split Toning Shadow Hue : 0
Split Toning Shadow Saturation : 0
Split Toning Highlight Hue : 0
Split Toning Highlight Saturation : 0
Split Toning Balance : 0
Parametric Shadows : 0
Parametric Darks : 0
Parametric Lights : 0
Parametric Highlights : -10
Parametric Shadow Split : 25
Parametric Midtone Split : 50
Parametric Highlight Split : 75
Sharpen Radius : +1.0
Sharpen Detail : 25
Sharpen Edge Masking : 0
Post Crop Vignette Amount : 0
Grain Amount : 0
Luminance Noise Reduction Detail : 50
Luminance Noise Reduction Contrast : 0
Lens Profile Enable : 0
Lens Manual Distortion Amount : 0
Perspective Vertical : 0
Perspective Horizontal : 0
Perspective Rotate : 0.0
Perspective Scale : 100
Convert To Grayscale : False
Tone Curve Name : Linear
Camera Profile : Embedded
Lens Profile Setup : LensDefaults
Has Settings : True
Crop Top : 0.032967
Crop Left : 0.248477
Crop Bottom : 0.945055
Crop Right : 0.697929
Crop Angle : 0
Crop Constrain To Warp : 0
Crop Width : 1352
Crop Height : 1824
Crop Unit : pixels
Has Crop : True
Already Applied : True
Date Created : 2009:05:23 14:40:37.30-04:00
Tone Curve : 0, 0, 255, 255
Image Width : 222
Image Height : 300
Bits Per Sample : 8
Color Components : 3
Aperture : 7.1
Image Size : 222x300
Megapixels : 0.067
Scale Factor To 35 mm Equivalent : 1.5
Shutter Speed : 1/1600
Create Date : 2009:05:23 14:40:37.30
Date/Time Original : 2009:05:23 14:40:37.30
Circle Of Confusion : 0.020 mm
Depth Of Field : 0.011 m (1.995 - 2.005 m)
Field Of View : 4.6 deg
Focal Length : 300.0 mm (35 mm equivalent: 450.0 mm)
Hyperfocal Distance : 632.83 m
Light Value : 12.3
Lens ID : Sigma 70-300mm F4-5.6 APO DG Macro HSM