Uber Exif Photo
By-line : Nickolas Iampietro
Copyright Notice : 2010 Nickolas } Iampietro
Make : NIKON CORPORATION
Camera Model Name : NIKON D300
Software : Ver.1.10
Modify Date : 2011:06:02 19:09:00
Artist : Nickolas Iampietro
Copyright : 2010 Nickolas } Iampietro
Exposure Time : 1/4000
F Number : 1.4
Exposure Program : Manual
ISO : 100
Sensitivity Type : Unknown
Date/Time Original : 2011:05:28 13:05:59
Create Date : 2011:05:28 13:05:59
Shutter Speed Value : 1/4000
Aperture Value : 1.4
Exposure Compensation : 0
Max Aperture Value : 1.4
Subject Distance : 2 m
Metering Mode : Spot
Light Source : Unknown
Focal Length : 85.0 mm
Sensing Method : One-chip color area
Scene Type : Directly photographed
CFA Pattern : [Red,Green][Green,Blue]
Custom Rendered : Normal
Exposure Mode : Manual
White Balance : Auto
Digital Zoom Ratio : 1
Focal Length In 35mm Format : 127 mm
Scene Capture Type : Standard
Gain Control : None
Contrast : Normal
Saturation : Normal
Sharpness : Normal
Subject Distance Range : Unknown
Serial Number : 4167701
Lens Info : 85mm f/1.4
Lens Model : 85.0 mm f/1.4
Date/Time Digitized : 2011:05:28 13:05:59.77-07:00
Exif Image Width : 664
Exif Image Height : 1000
Creator Tool : Adobe Photoshop Lightroom 3.3
Label : Red
Rating : 5
Lens : 85.0 mm f/1.4
Image Number : 11279
Approximate Focus Distance : 2
Version : 6.3
Process Version : 5.7
Color Temperature : 5050
Tint : -2
Exposure : +0.55
Shadows : 0
Brightness : +52
Luminance Smoothing : 0
Color Noise Reduction : 25
Chromatic Aberration R : 0
Chromatic Aberration B : 0
Vignette Amount : 0
Shadow Tint : 0
Red Hue : 0
Red Saturation : 0
Green Hue : 0
Green Saturation : 0
Blue Hue : 0
Blue Saturation : 0
Fill Light : 0
Highlight Recovery : 0
Clarity : 0
Defringe : 0
Gray Mixer Red : +18
Gray Mixer Orange : +5
Gray Mixer Yellow : +55
Gray Mixer Green : 0
Gray Mixer Aqua : -18
Gray Mixer Blue : +12
Gray Mixer Purple : -100
Gray Mixer Magenta : +14
Split Toning Shadow Hue : 0
Split Toning Shadow Saturation : 0
Split Toning Highlight Hue : 0
Split Toning Highlight Saturation : 0
Split Toning Balance : 0
Parametric Shadows : -12
Parametric Darks : +14
Parametric Lights : +14
Parametric Highlights : +20
Parametric Shadow Split : 25
Parametric Midtone Split : 50
Parametric Highlight Split : 75
Sharpen Radius : +1.0
Sharpen Detail : 25
Sharpen Edge Masking : 0
Post Crop Vignette Amount : 0
Grain Amount : 0
Color Noise Reduction Detail : 50
Lens Profile Enable : 0
Lens Manual Distortion Amount : 0
Perspective Vertical : 0
Perspective Horizontal : 0
Perspective Rotate : 0.0
Perspective Scale : 100
Convert To Grayscale : True
Tone Curve Name : Medium Contrast
Camera Profile : Adobe Standard
Lens Profile Setup : LensDefaults
Has Settings : True
Has Crop : False
Already Applied : True
Flash Fired : False
Flash Return : No return detection
Flash Mode : Unknown
Flash Function : False
Flash Red Eye Mode : False
Creator : Nickolas Iampietro
Rights : 2010 Nickolas } Iampietro
Tone Curve : 0, 0, 32, 22, 64, 56, 128, 128, 192, 196, 255, 255
Image Width : 199
Image Height : 300
Bits Per Sample : 8
Color Components : 1
Aperture : 1.4
Image Size : 199x300
Megapixels : 0.060
Scale Factor To 35 mm Equivalent : 1.5
Shutter Speed : 1/4000
Create Date : 2011:05:28 13:05:59.77
Date/Time Original : 2011:05:28 13:05:59.77
Flash : No Flash
Circle Of Confusion : 0.020 mm
Depth Of Field : 0.03 m (1.99 - 2.02 m)
Field Of View : 16.1 deg
Focal Length : 85.0 mm (35 mm equivalent: 127.0 mm)
Hyperfocal Distance : 256.63 m
Light Value : 12.9
Lens ID : AF-S Nikkor 85mm f/1.4G