Uber Exif Photo
Copyright Notice : RC COPELAND
Make : NIKON CORPORATION
Camera Model Name : NIKON D700
Orientation : Horizontal (normal)
Software : Adobe Photoshop Elements 8.0 Macintosh
Modify Date : 2011:06:05 16:19:56
Copyright : RC COPELAND
Exposure Time : 1/320
F Number : 11.0
Exposure Program : Aperture-priority AE
ISO : 200
Date/Time Original : 2011:05:12 10:30:32
Create Date : 2011:05:12 10:30:32
Shutter Speed Value : 1/320
Aperture Value : 11.0
Exposure Compensation : 0
Max Aperture Value : 4.0
Subject Distance : 4294967295 m
Metering Mode : Spot
Light Source : Unknown
Focal Length : 86.0 mm
Color Space : sRGB
Exif Image Width : 4256
Exif Image Height : 2832
Sensing Method : One-chip color area
Scene Type : Directly photographed
Custom Rendered : Normal
Exposure Mode : Auto
White Balance : Auto
Digital Zoom Ratio : 1
Focal Length In 35mm Format : 86 mm
Scene Capture Type : Standard
Gain Control : None
Contrast : Normal
Saturation : Normal
Sharpness : Normal
Subject Distance Range : Unknown
Profile Description : sRGB IEC61966-2.1
Date/Time Digitized : 2011:05:12 10:30:32.08+01:00
Creator Tool : ViewNX 2.1 M
Rating : 0
Format : image/jpeg
Serial Number : 2174842
Lens Info : 24-120mm f/4
Lens : 24.0-120.0 mm f/4.0
Image Number : 8619
Raw File Name : _RCC7804.NEF
Version : 5.5
Color Temperature : 4800
Tint : -2
Exposure : 0.00
Shadows : 3
Brightness : +50
Luminance Smoothing : 0
Color Noise Reduction : 25
Chromatic Aberration R : 0
Chromatic Aberration B : 0
Vignette Amount : 0
Shadow Tint : 0
Red Hue : 0
Red Saturation : 0
Green Hue : 0
Green Saturation : 0
Blue Hue : 0
Blue Saturation : 0
Fill Light : 0
Highlight Recovery : 22
Clarity : +13
Defringe : 0
Gray Mixer Red : -26
Gray Mixer Orange : +39
Gray Mixer Yellow : -44
Gray Mixer Green : -29
Gray Mixer Aqua : -15
Gray Mixer Blue : -42
Gray Mixer Purple : +63
Gray Mixer Magenta : -10
Split Toning Shadow Hue : 0
Split Toning Shadow Saturation : 0
Split Toning Highlight Hue : 0
Split Toning Highlight Saturation : 0
Split Toning Balance : 0
Parametric Shadows : 0
Parametric Darks : 0
Parametric Lights : 0
Parametric Highlights : 0
Parametric Shadow Split : 25
Parametric Midtone Split : 50
Parametric Highlight Split : 75
Sharpen Radius : +1.0
Sharpen Detail : 25
Sharpen Edge Masking : 0
Post Crop Vignette Amount : 0
Convert To Grayscale : True
Tone Curve Name : Medium Contrast
Camera Profile : Adobe Standard
Has Settings : True
Has Crop : False
Already Applied : True
Sidecar For Extension : NEF
Color Mode : RGB
ICC Profile Name : sRGB IEC61966-2.1
Flash Fired : False
Flash Return : No return detection
Flash Mode : Unknown
Flash Function : False
Flash Red Eye Mode : False
Rights : RC COPELAND
Tone Curve : 0, 0, 32, 22, 64, 56, 128, 128, 192, 196, 255, 255
Image Width : 300
Image Height : 200
Bits Per Sample : 8
Color Components : 3
Aperture : 11.0
Image Size : 300x200
Megapixels : 0.060
Scale Factor To 35 mm Equivalent : 1.0
Shutter Speed : 1/320
Create Date : 2011:05:12 10:30:32.08
Date/Time Original : 2011:05:12 10:30:32.08
Modify Date : 2011:06:05 16:19:56.08
Flash : No Flash
Circle Of Confusion : 0.030 mm
Depth Of Field : inf (22.38 m - inf)
Field Of View : 23.6 deg
Focal Length : 86.0 mm (35 mm equivalent: 86.0 mm)
Hyperfocal Distance : 22.38 m
Light Value : 14.2
Lens ID : AF-S Nikkor 24-120mm f/4G ED VR