Uber Exif Photo
Make : NIKON CORPORATION
Camera Model Name : NIKON D200
Software : Ver.2.01
Modify Date : 2011:05:21 14:35:42
Exposure Time : 1/320
F Number : 5.6
Exposure Program : Aperture-priority AE
ISO : 100
Sensitivity Type : Unknown
Date/Time Original : 2011:05:21 01:55:42
Create Date : 2011:05:21 01:55:42
Shutter Speed Value : 1/320
Aperture Value : 5.6
Exposure Compensation : +1/3
Max Aperture Value : 1.0
Metering Mode : Multi-segment
Light Source : Unknown
Focal Length : 50.0 mm
Sensing Method : One-chip color area
Scene Type : Directly photographed
CFA Pattern : [Green,Red][Blue,Green]
Custom Rendered : Normal
Exposure Mode : Auto
White Balance : Auto
Digital Zoom Ratio : 1
Focal Length In 35mm Format : 75 mm
Scene Capture Type : Standard
Gain Control : None
Contrast : Normal
Saturation : Normal
Sharpness : Hard
Subject Distance Range : Unknown
Lens Info : 0mm f/0
Lens Model : 0.0 mm f/0.0
Date/Time Digitized : 2011:05:21 01:55:42.24+09:00
Exif Image Width : 536
Exif Image Height : 800
Creator Tool : Adobe Photoshop Lightroom
Lens : 0.0 mm f/0.0
Image Number : 59009
Version : 6.2
Process Version : 5.7
Color Temperature : 5050
Tint : -5
Exposure : +0.55
Shadows : 19
Brightness : +72
Luminance Smoothing : 0
Color Noise Reduction : 25
Chromatic Aberration R : 0
Chromatic Aberration B : 0
Vignette Amount : 0
Shadow Tint : 0
Red Hue : 0
Red Saturation : 0
Green Hue : 0
Green Saturation : 0
Blue Hue : 0
Blue Saturation : 0
Fill Light : 9
Highlight Recovery : 77
Clarity : +5
Defringe : 0
Gray Mixer Red : -10
Gray Mixer Orange : -20
Gray Mixer Yellow : -24
Gray Mixer Green : -27
Gray Mixer Aqua : -17
Gray Mixer Blue : +11
Gray Mixer Purple : +16
Gray Mixer Magenta : +4
Split Toning Shadow Hue : 0
Split Toning Shadow Saturation : 0
Split Toning Highlight Hue : 0
Split Toning Highlight Saturation : 0
Split Toning Balance : 0
Parametric Shadows : -52
Parametric Darks : -39
Parametric Lights : -64
Parametric Highlights : +47
Parametric Shadow Split : 25
Parametric Midtone Split : 50
Parametric Highlight Split : 75
Sharpen Radius : +1.0
Sharpen Detail : 25
Sharpen Edge Masking : 0
Post Crop Vignette Amount : -18
Post Crop Vignette Midpoint : 50
Post Crop Vignette Feather : 80
Post Crop Vignette Roundness : 0
Post Crop Vignette Style : Highlight Priority
Post Crop Vignette Highlight Contrast : 100
Grain Amount : 0
Color Noise Reduction Detail : 50
Lens Profile Enable : 0
Lens Manual Distortion Amount : 0
Perspective Vertical : 0
Perspective Horizontal : 0
Perspective Rotate : 0.0
Perspective Scale : 100
Convert To Grayscale : True
Tone Curve Name : Medium Contrast
Camera Profile : Adobe Standard
Lens Profile Setup : LensDefaults
Has Settings : True
Crop Top : 0
Crop Left : 0.004163
Crop Bottom : 0.945166
Crop Right : 0.935876
Crop Angle : 0.380679
Crop Constrain To Warp : 0
Crop Width : 800
Crop Height : 536
Crop Unit : pixels
Has Crop : True
Already Applied : True
Flash Fired : False
Flash Return : No return detection
Flash Mode : Unknown
Flash Function : False
Flash Red Eye Mode : False
Tone Curve : 0, 0, 32, 22, 64, 56, 128, 128, 192, 196, 255, 255
Image Width : 201
Image Height : 300
Bits Per Sample : 8
Color Components : 1
Aperture : 5.6
Image Size : 201x300
Megapixels : 0.060
Scale Factor To 35 mm Equivalent : 1.5
Shutter Speed : 1/320
Create Date : 2011:05:21 01:55:42.24
Date/Time Original : 2011:05:21 01:55:42.24
Flash : No Flash
Circle Of Confusion : 0.020 mm
Field Of View : 27.0 deg
Focal Length : 50.0 mm (35 mm equivalent: 75.0 mm)
Hyperfocal Distance : 22.29 m
Light Value : 13.3
Lens ID : 0.0mm f/0.0