Uber Exif Photo
Copyright Notice : RC COPELAND
Make : NIKON CORPORATION
Camera Model Name : NIKON D700
Orientation : Horizontal (normal)
Software : Adobe Photoshop Elements 8.0 Macintosh
Modify Date : 2011:06:21 21:28:06
Copyright : RC COPELAND
Exposure Time : 1/50
F Number : 16.0
Exposure Program : Aperture-priority AE
ISO : 200
Date/Time Original : 2011:06:21 16:11:13
Create Date : 2011:06:21 16:11:13
Shutter Speed Value : 1/50
Aperture Value : 16.0
Exposure Compensation : 0
Max Aperture Value : 2.8
Subject Distance : 4294967295 m
Metering Mode : Multi-segment
Light Source : Unknown
Focal Length : 170.0 mm
Color Space : Uncalibrated
Exif Image Width : 4063
Exif Image Height : 2703
Sensing Method : One-chip color area
Scene Type : Directly photographed
Custom Rendered : Normal
Exposure Mode : Auto
White Balance : Auto
Digital Zoom Ratio : 1
Focal Length In 35mm Format : 170 mm
Scene Capture Type : Standard
Gain Control : None
Contrast : Normal
Saturation : Normal
Sharpness : Normal
Subject Distance Range : Unknown
Date/Time Digitized : 2011:06:21 16:11:13.48+01:00
Creator Tool : ViewNX 2.1 M
Rating : 0
Format : image/jpeg
Serial Number : 2174842
Lens Info : 80-200mm f/2.8
Lens : 80.0-200.0 mm f/2.8
Image Number : 9241
Raw File Name : _RCC8367.NEF
Version : 5.5
Color Temperature : 5150
Tint : -4
Exposure : +0.35
Shadows : 3
Brightness : 0
Luminance Smoothing : 0
Color Noise Reduction : 25
Chromatic Aberration R : 0
Chromatic Aberration B : 0
Vignette Amount : 0
Shadow Tint : 0
Red Hue : 0
Red Saturation : 0
Green Hue : 0
Green Saturation : 0
Blue Hue : 0
Blue Saturation : 0
Fill Light : 0
Highlight Recovery : 12
Clarity : 0
Defringe : 0
Gray Mixer Red : -4
Gray Mixer Orange : +37
Gray Mixer Yellow : -47
Gray Mixer Green : -30
Gray Mixer Aqua : +33
Gray Mixer Blue : +23
Gray Mixer Purple : +13
Gray Mixer Magenta : +6
Split Toning Shadow Hue : 0
Split Toning Shadow Saturation : 0
Split Toning Highlight Hue : 0
Split Toning Highlight Saturation : 0
Split Toning Balance : 0
Parametric Shadows : 0
Parametric Darks : 0
Parametric Lights : 0
Parametric Highlights : 0
Parametric Shadow Split : 25
Parametric Midtone Split : 50
Parametric Highlight Split : 75
Sharpen Radius : +1.0
Sharpen Detail : 25
Sharpen Edge Masking : 0
Post Crop Vignette Amount : 0
Convert To Grayscale : True
Tone Curve Name : Medium Contrast
Camera Profile : Adobe Standard
Has Settings : True
Crop Top : 0.045884
Crop Left : 0.012784
Crop Bottom : 0.954116
Crop Right : 0.987216
Crop Angle : -1.83284
Has Crop : True
Already Applied : True
Sidecar For Extension : NEF
Color Mode : RGB
ICC Profile Name : Adobe RGB (1998)
Flash Fired : False
Flash Return : No return detection
Flash Mode : Unknown
Flash Function : False
Flash Red Eye Mode : False
Rights : RC COPELAND
Tone Curve : 0, 0, 32, 22, 64, 56, 128, 128, 192, 196, 255, 255
Image Width : 300
Image Height : 200
Bits Per Sample : 8
Color Components : 1
Aperture : 16.0
Image Size : 300x200
Megapixels : 0.060
Scale Factor To 35 mm Equivalent : 1.0
Shutter Speed : 1/50
Create Date : 2011:06:21 16:11:13.48
Date/Time Original : 2011:06:21 16:11:13.48
Modify Date : 2011:06:21 21:28:06.48
Flash : No Flash
Circle Of Confusion : 0.030 mm
Depth Of Field : inf (60.12 m - inf)
Field Of View : 12.1 deg
Focal Length : 170.0 mm (35 mm equivalent: 170.0 mm)
Hyperfocal Distance : 60.12 m
Light Value : 12.6
Lens ID : AF Zoom-Nikkor 80-200mm f/2.8D ED