Uber Exif Photo
Caption-Abstract : Texas Creek Lillooet BC 2007
Writer-Editor : Randy & Donna Giesbrecht
Special Instructions : All Rights Reserved
By-line : Randy & Donna Giesbrecht
By-line Title : Randy & Donna Giesbrecht
Object Name : Texas Creek Lillooet BC 2007
Province-State : B.C.
Country-Primary Location Name : Canada
Original Transmission Reference : Texas Creek Lillooet BC; 2007
Keywords : Texas Creek Lillooet BC, 2007
Copyright Notice : Randy & Donna Giesbrecht © Black Knight Holdings ©
Sub-location : Texas Creek 2007
Copyright Flag : False
Image Description : Texas Creek Lillooet BC 2007
Make : NIKON CORPORATION
Camera Model Name : NIKON D2Xs
Orientation : Horizontal (normal)
Software : Adobe Photoshop CS2 Windows
Modify Date : 2008:05:28 14:05:39
Artist : Randy & Donna Giesbrecht
Copyright : Randy & Donna Giesbrecht © Black Knight Holdings ©
Exposure Time : 1/250
F Number : 7.1
Exposure Program : Manual
ISO : 320
Date/Time Original : 2007:10:07 11:59:35
Create Date : 2007:10:07 11:59:35
Shutter Speed Value : 1/250
Aperture Value : 7.1
Exposure Compensation : 0
Max Aperture Value : 4.0
Metering Mode : Multi-segment
Light Source : Unknown
Focal Length : 350.0 mm
Color Space : Uncalibrated
Exif Image Width : 600
Exif Image Height : 431
Sensing Method : One-chip color area
Scene Type : Directly photographed
CFA Pattern : [Red,Green][Green,Blue]
Custom Rendered : Normal
Exposure Mode : Manual
White Balance : Manual
Digital Zoom Ratio : 1
Focal Length In 35mm Format : 525 mm
Scene Capture Type : Standard
Gain Control : None
Contrast : Low
Saturation : Normal
Sharpness : Soft
Subject Distance Range : Unknown
Profile Description : Adobe RGB (1998)
Photometric Interpretation : RGB
Samples Per Pixel : 3
Date/Time Digitized : 2007:10:07 11:59:35.24-07:00
Flash Fired : False
Flash Return : No return detection
Flash Mode : Unknown
Flash Function : False
Flash Red Eye Mode : False
Creator Tool : Adobe Photoshop CS2 Windows
Rating : 0
Serial Number : 6005993
Lens Info : 200-400mm f/4
Lens : 200.0-400.0 mm f/4.0
Image Number : 10853
Version : 4.2
Raw File Name : _BKH0830.NEF
Color Temperature : 4650
Tint : -4
Exposure : +0.25
Shadows : 25
Brightness : +50
Luminance Smoothing : 0
Color Noise Reduction : 25
Chromatic Aberration R : 0
Chromatic Aberration B : 0
Vignette Amount : 0
Shadow Tint : 0
Red Hue : 0
Red Saturation : 0
Green Hue : 0
Green Saturation : 0
Blue Hue : 0
Blue Saturation : 0
Fill Light : 28
Vibrance : +8
Highlight Recovery : 0
Clarity : 43
Defringe : 0
Hue Adjustment Red : 0
Hue Adjustment Orange : 0
Hue Adjustment Yellow : 0
Hue Adjustment Green : 0
Hue Adjustment Aqua : 0
Hue Adjustment Blue : 0
Hue Adjustment Purple : 0
Hue Adjustment Magenta : 0
Saturation Adjustment Red : 0
Saturation Adjustment Orange : 0
Saturation Adjustment Yellow : 0
Saturation Adjustment Green : 0
Saturation Adjustment Aqua : 0
Saturation Adjustment Blue : 0
Saturation Adjustment Purple : 0
Saturation Adjustment Magenta : 0
Luminance Adjustment Red : 0
Luminance Adjustment Orange : 0
Luminance Adjustment Yellow : 0
Luminance Adjustment Green : 0
Luminance Adjustment Aqua : 0
Luminance Adjustment Blue : 0
Luminance Adjustment Purple : 0
Luminance Adjustment Magenta : 0
Split Toning Shadow Hue : 0
Split Toning Shadow Saturation : 0
Split Toning Highlight Hue : 0
Split Toning Highlight Saturation : 0
Split Toning Balance : 0
Parametric Shadows : 0
Parametric Darks : 0
Parametric Lights : 0
Parametric Highlights : 0
Parametric Shadow Split : 25
Parametric Midtone Split : 50
Parametric Highlight Split : 75
Sharpen Radius : +1.0
Sharpen Detail : 25
Sharpen Edge Masking : 0
Convert To Grayscale : False
Tone Curve Name : Medium Contrast
Camera Profile : ACR 3.1
Has Settings : True
Has Crop : False
Already Applied : True
Tone Curve : 0, 0, 32, 22, 64, 56, 128, 128, 192, 196, 255, 255
Sidecar For Extension : NEF
Color Mode : RGB
ICC Profile Name : Adobe RGB (1998)
Urgency : 5 (normal urgency)
Headline : Texas Creek Lillooet BC; 2007
Transmission Reference : Texas Creek Lillooet BC; 2007
Instructions : All Rights Reserved
Source : Black Knight Holdings © 2007
Category : BKH
Date Created : 2007:08:03
City : Lillooet BC
State : B.C.
Country : Canada
Credit : Randy & Donna Giesbrecht
Authors Position : Randy & Donna Giesbrecht
Caption Writer : Randy & Donna Giesbrecht
Supplemental Categories : Texas Creek Lillooet BC, 2007
Format : image/jpeg
Description : Texas Creek Lillooet BC 2007
Subject : Texas Creek Lillooet BC, 2007
Title : Texas Creek Lillooet BC 2007
Creator : Randy & Donna Giesbrecht, Black Knight Holdings
Rights : Randy & Donna Giesbrecht © Black Knight Holdings ©
Intellectual Genre : Texas Creek Lillooet BC 2007
Location : Texas Creek 2007
Scene : Texas Creek Lillooet BC, 2007
Creator Address : 2764 Mountview Street
Creator City : Abbotsford
Creator Region : B.C.
Creator Postal Code : V2S 3L7
Creator Country : Canada
Creator Work Telephone : 604-853-6191 Office.604-309-1738 Cell
Creator Work Email : blackknightphoto@telus.net
Creator Work URL : www.html.blackknightphoto.ca/
Usage Terms : All Rights Reserved ..Please Call Randy For Usage 604-309-1738 or Email blackknightphoto@telus.net
Image Width : 300
Image Height : 216
Bits Per Sample : 8
Color Components : 3
Aperture : 7.1
Image Size : 300x216
Megapixels : 0.065
Scale Factor To 35 mm Equivalent : 1.5
Shutter Speed : 1/250
Create Date : 2007:10:07 11:59:35.24
Date/Time Original : 2007:10:07 11:59:35.24
Modify Date : 2008:05:28 14:05:39.24
Flash : No Flash
Circle Of Confusion : 0.020 mm
Field Of View : 3.9 deg
Focal Length : 350.0 mm (35 mm equivalent: 525.0 mm)
Hyperfocal Distance : 861.35 m
Light Value : 11.9
Lens ID : 200.0-400.0mm f/4.0