Uber Exif Photo
Keywords : Japan, Kyoto, Nikkor 28 2.8 AiS, Nikon D200, Tambabashi Station, bicycle, bokeh, brakes, fence, flowers, neighbourhood, school, schoolgrounds, street, toys, train station, 丹波橋駅, 京都, 日本, 自転車, 花, 駅
Make : NIKON CORPORATION
Camera Model Name : NIKON D200
Software : Adobe Photoshop Lightroom 3.4.1
Modify Date : 2011:07:06 16:04:47
Exposure Time : 1/320
F Number : 4.0
Exposure Program : Aperture-priority AE
ISO : 200
Date/Time Original : 2011:07:06 02:24:00
Create Date : 2011:07:06 02:24:00
Shutter Speed Value : 1/320
Aperture Value : 4.0
Exposure Compensation : +1/3
Max Aperture Value : 1.0
Metering Mode : Multi-segment
Light Source : Unknown
Flash : No Flash
Focal Length : 105.0 mm
Sensing Method : One-chip color area
Scene Type : Directly photographed
CFA Pattern : [Green,Red][Blue,Green]
Custom Rendered : Normal
Exposure Mode : Auto
White Balance : Auto
Digital Zoom Ratio : 1
Focal Length In 35mm Format : 157 mm
Scene Capture Type : Standard
Gain Control : None
Contrast : Normal
Saturation : Normal
Sharpness : Normal
Subject Distance Range : Unknown
Lens Info : 0mm f/0
Lens Model : 0.0 mm f/0.0
Profile Description : sRGB IEC61966-2.1
Creator Tool : Adobe Photoshop Lightroom 3.4.1
Lens : 0.0 mm f/0.0
Image Number : 61132
Date Created : 2011:07:06 02:24:00.24
Version : 6.4.1
Process Version : 5.7
Color Temperature : 4400
Tint : +18
Exposure : 0.00
Shadows : 18
Brightness : +50
Luminance Smoothing : 40
Color Noise Reduction : 47
Chromatic Aberration R : 0
Chromatic Aberration B : 0
Vignette Amount : 0
Shadow Tint : +39
Red Hue : +48
Red Saturation : +20
Green Hue : 0
Green Saturation : +5
Blue Hue : +2
Blue Saturation : 0
Fill Light : 7
Vibrance : +5
Highlight Recovery : 0
Clarity : 0
Defringe : 0
Hue Adjustment Red : 0
Hue Adjustment Orange : 0
Hue Adjustment Yellow : 0
Hue Adjustment Green : 0
Hue Adjustment Aqua : 0
Hue Adjustment Blue : 0
Hue Adjustment Purple : 0
Hue Adjustment Magenta : 0
Saturation Adjustment Red : -2
Saturation Adjustment Orange : +58
Saturation Adjustment Yellow : 0
Saturation Adjustment Green : +6
Saturation Adjustment Aqua : -4
Saturation Adjustment Blue : +17
Saturation Adjustment Purple : +10
Saturation Adjustment Magenta : -6
Luminance Adjustment Red : -6
Luminance Adjustment Orange : 0
Luminance Adjustment Yellow : -13
Luminance Adjustment Green : 0
Luminance Adjustment Aqua : 0
Luminance Adjustment Blue : 0
Luminance Adjustment Purple : 0
Luminance Adjustment Magenta : 0
Split Toning Shadow Hue : 0
Split Toning Shadow Saturation : 0
Split Toning Highlight Hue : 0
Split Toning Highlight Saturation : 0
Split Toning Balance : 0
Parametric Shadows : 0
Parametric Darks : -7
Parametric Lights : +11
Parametric Highlights : -35
Parametric Shadow Split : 25
Parametric Midtone Split : 50
Parametric Highlight Split : 75
Sharpen Radius : +1.0
Sharpen Detail : 25
Sharpen Edge Masking : 0
Post Crop Vignette Amount : -30
Post Crop Vignette Midpoint : 26
Post Crop Vignette Feather : 100
Post Crop Vignette Roundness : 0
Post Crop Vignette Style : Highlight Priority
Post Crop Vignette Highlight Contrast : 100
Grain Amount : 0
Luminance Noise Reduction Detail : 82
Color Noise Reduction Detail : 50
Luminance Noise Reduction Contrast : 100
Lens Profile Enable : 0
Lens Manual Distortion Amount : 0
Perspective Vertical : 0
Perspective Horizontal : 0
Perspective Rotate : 0.0
Perspective Scale : 100
Convert To Grayscale : False
Tone Curve Name : Medium Contrast
Camera Profile : Adobe Standard
Lens Profile Setup : LensDefaults
Has Settings : True
Crop Top : 0.058134
Crop Left : 0.06
Crop Bottom : 0.998134
Crop Right : 1
Crop Angle : 0
Crop Constrain To Warp : 0
Crop Width : 640
Crop Height : 428
Crop Unit : pixels
Has Crop : True
Already Applied : True
Subject : Japan, Kyoto, Nikkor 28 2.8 AiS, Nikon D200, Tambabashi Station, bicycle, bokeh, brakes, fence, flowers, neighbourhood, school, schoolgrounds, street, toys, train station, 丹波橋駅, 京都, 日本, 自転車, 花, 駅
Tone Curve : 0, 0, 32, 22, 64, 56, 128, 128, 192, 196, 255, 255
Image Width : 300
Image Height : 201
Bits Per Sample : 8
Color Components : 3
Aperture : 4.0
Image Size : 300x201
Megapixels : 0.060
Scale Factor To 35 mm Equivalent : 1.5
Shutter Speed : 1/320
Create Date : 2011:07:06 02:24:00.24
Date/Time Original : 2011:07:06 02:24:00.24
Circle Of Confusion : 0.020 mm
Field Of View : 13.1 deg
Focal Length : 105.0 mm (35 mm equivalent: 157.0 mm)
Hyperfocal Distance : 137.16 m
Light Value : 11.3
Lens ID : 0.0mm f/0.0