Uber Exif Photo
Keywords : Derbyshire, Gardoms Edge, Peak District, sunset
Copyright Notice : David Guyler
Copyright Flag : True
Make : NIKON CORPORATION
Camera Model Name : NIKON D300
Software : Adobe Photoshop Lightroom 3.4.1
Modify Date : 2011:07:09 11:24:33
Copyright : David Guyler
Exposure Time : 1/30
F Number : 11.0
Exposure Program : Aperture-priority AE
ISO : 640
Date/Time Original : 2011:04:08 18:32:55
Create Date : 2011:04:08 18:32:55
Shutter Speed Value : 1/30
Aperture Value : 11.0
Exposure Compensation : 0
Max Aperture Value : 4.0
Subject Distance : 5.01 m
Metering Mode : Multi-segment
Light Source : Unknown
Flash : No Flash
Focal Length : 24.0 mm
Sensing Method : One-chip color area
Scene Type : Directly photographed
CFA Pattern : [Red,Green][Green,Blue]
Custom Rendered : Normal
Exposure Mode : Auto
White Balance : Auto
Digital Zoom Ratio : 1
Focal Length In 35mm Format : 36 mm
Scene Capture Type : Standard
Gain Control : Low gain up
Contrast : Normal
Saturation : Normal
Sharpness : Normal
Subject Distance Range : Unknown
Serial Number : 8023433
Lens Info : 16-85mm f/3.5-5.6
Lens Model : 16.0-85.0 mm f/3.5-5.6
Profile Description : sRGB IEC61966-2.1
Creator Tool : Adobe Photoshop Lightroom 3.4.1
Lens : 16.0-85.0 mm f/3.5-5.6
Image Number : 4128
Approximate Focus Distance : 5.01
Marked : True
Version : 6.4.1
Process Version : 5.7
Color Temperature : 5000
Tint : +10
Exposure : 0.00
Shadows : 17
Brightness : +50
Luminance Smoothing : 0
Color Noise Reduction : 25
Chromatic Aberration R : 0
Chromatic Aberration B : 0
Vignette Amount : 0
Shadow Tint : 0
Red Hue : 0
Red Saturation : 0
Green Hue : 0
Green Saturation : 0
Blue Hue : 0
Blue Saturation : 0
Fill Light : 0
Vibrance : +45
Highlight Recovery : 55
Clarity : +49
Defringe : 0
Hue Adjustment Red : 0
Hue Adjustment Orange : 0
Hue Adjustment Yellow : 0
Hue Adjustment Green : 0
Hue Adjustment Aqua : 0
Hue Adjustment Blue : 0
Hue Adjustment Purple : 0
Hue Adjustment Magenta : 0
Saturation Adjustment Red : 0
Saturation Adjustment Orange : 0
Saturation Adjustment Yellow : 0
Saturation Adjustment Green : 0
Saturation Adjustment Aqua : 0
Saturation Adjustment Blue : 0
Saturation Adjustment Purple : 0
Saturation Adjustment Magenta : 0
Luminance Adjustment Red : 0
Luminance Adjustment Orange : 0
Luminance Adjustment Yellow : 0
Luminance Adjustment Green : 0
Luminance Adjustment Aqua : 0
Luminance Adjustment Blue : 0
Luminance Adjustment Purple : 0
Luminance Adjustment Magenta : 0
Split Toning Shadow Hue : 0
Split Toning Shadow Saturation : 0
Split Toning Highlight Hue : 0
Split Toning Highlight Saturation : 0
Split Toning Balance : 0
Parametric Shadows : 0
Parametric Darks : 0
Parametric Lights : 0
Parametric Highlights : 0
Parametric Shadow Split : 25
Parametric Midtone Split : 50
Parametric Highlight Split : 75
Sharpen Radius : +1.0
Sharpen Detail : 25
Sharpen Edge Masking : 30
Post Crop Vignette Amount : -24
Post Crop Vignette Midpoint : 50
Post Crop Vignette Feather : 64
Post Crop Vignette Roundness : 0
Post Crop Vignette Style : Highlight Priority
Post Crop Vignette Highlight Contrast : 0
Grain Amount : 0
Color Noise Reduction Detail : 50
Lens Profile Enable : 0
Lens Manual Distortion Amount : 0
Perspective Vertical : 0
Perspective Horizontal : 0
Perspective Rotate : 0.0
Perspective Scale : 100
Convert To Grayscale : False
Tone Curve Name : Medium Contrast
Camera Profile : Adobe Standard
Lens Profile Setup : LensDefaults
Has Settings : True
Has Crop : False
Already Applied : True
Date Created : 2011:04:08 18:32:55.60+01:00
Rights : David Guyler
Subject : Derbyshire, Gardoms Edge, Peak District, sunset
Tone Curve : 0, 0, 32, 22, 64, 56, 128, 128, 192, 196, 255, 255
Gradient Based Corr What : Correction
Gradient Based Corr Amount : 1.000000
Gradient Based Corr Active : true
Gradient Based Corr Exposure : -0.382529
Gradient Based Corr Saturation : 0.341000
Gradient Based Corr Contrast : 0.000000
Gradient Based Corr Clarity : 0.000000
Gradient Based Corr Sharpness : 0.000000
Gradient Based Corr Brightness : -0.171000
Gradient Based Corr Toning Hue : 240.000000
Gradient Based Corr Toning Saturation : 0.000000
Gradient Based Corr Mask What : Mask/Gradient
Gradient Based Corr Mask Value : 1.000000
Gradient Based Corr Mask Zero X : 0.626302
Gradient Based Corr Mask Zero Y : 0.241176
Gradient Based Corr Mask Full X : 0.626302
Gradient Based Corr Mask Full Y : 0.000000
Image Width : 300
Image Height : 199
Bits Per Sample : 8
Color Components : 3
Aperture : 11.0
Image Size : 300x199
Megapixels : 0.060
Scale Factor To 35 mm Equivalent : 1.5
Shutter Speed : 1/30
Create Date : 2011:04:08 18:32:55.60
Date/Time Original : 2011:04:08 18:32:55.60
Circle Of Confusion : 0.020 mm
Depth Of Field : inf (1.72 m - inf)
Field Of View : 53.1 deg
Focal Length : 24.0 mm (35 mm equivalent: 36.0 mm)
Hyperfocal Distance : 2.61 m
Light Value : 9.1
Lens ID : AF-S DX VR Zoom-Nikkor 16-85mm f/3.5-5.6G ED