Uber Exif Photo
By-line : Andre DELHAYE
Copyright Notice : Andre DELHAYE
Make : NIKON CORPORATION
Camera Model Name : NIKON D700
Software : Adobe Photoshop Lightroom 3.4
Modify Date : 2011:05:21 14:53:14
Artist : Andre DELHAYE
Copyright : Andre DELHAYE
Exposure Time : 1/1600
F Number : 2.0
Exposure Program : Aperture-priority AE
ISO : 200
Date/Time Original : 2011:05:21 13:11:22
Create Date : 2011:05:21 13:11:22
Shutter Speed Value : 1/1600
Aperture Value : 2.0
Exposure Compensation : 0
Max Aperture Value : 1.4
Subject Distance : 3.98 m
Metering Mode : Multi-segment
Light Source : Cloudy
Flash : No Flash
Focal Length : 50.0 mm
Sensing Method : One-chip color area
Scene Type : Directly photographed
CFA Pattern : [Red,Green][Green,Blue]
Custom Rendered : Normal
Exposure Mode : Auto
White Balance : Manual
Digital Zoom Ratio : 1
Focal Length In 35mm Format : 50 mm
Scene Capture Type : Standard
Gain Control : None
Contrast : Normal
Saturation : Normal
Sharpness : Normal
Subject Distance Range : Unknown
Serial Number : 2130516
Lens Info : 50mm f/1.4
Lens Model : 50.0 mm f/1.4
Profile Description : sRGB IEC61966-2.1
Creator Tool : Adobe Photoshop Lightroom 3.4
Lens : 50.0 mm f/1.4
Image Number : 25354
Approximate Focus Distance : 3.98
Date Created : 2011:05:21 13:11:22.25
Version : 6.4
Process Version : 5.7
Color Temperature : 3650
Tint : -74
Exposure : +0.60
Shadows : 0
Brightness : +33
Luminance Smoothing : 0
Color Noise Reduction : 100
Chromatic Aberration R : 0
Chromatic Aberration B : 0
Vignette Amount : 0
Shadow Tint : -4
Red Hue : +100
Red Saturation : -100
Green Hue : +100
Green Saturation : +100
Blue Hue : -60
Blue Saturation : +3
Fill Light : 0
Vibrance : +7
Highlight Recovery : 0
Clarity : +45
Defringe : 0
Hue Adjustment Red : 0
Hue Adjustment Orange : 0
Hue Adjustment Yellow : 0
Hue Adjustment Green : 0
Hue Adjustment Aqua : 0
Hue Adjustment Blue : +2
Hue Adjustment Purple : +1
Hue Adjustment Magenta : 0
Saturation Adjustment Red : 0
Saturation Adjustment Orange : 0
Saturation Adjustment Yellow : 0
Saturation Adjustment Green : 0
Saturation Adjustment Aqua : 0
Saturation Adjustment Blue : +10
Saturation Adjustment Purple : +1
Saturation Adjustment Magenta : 0
Luminance Adjustment Red : 0
Luminance Adjustment Orange : 0
Luminance Adjustment Yellow : 0
Luminance Adjustment Green : 0
Luminance Adjustment Aqua : -6
Luminance Adjustment Blue : -44
Luminance Adjustment Purple : -3
Luminance Adjustment Magenta : 0
Split Toning Shadow Hue : 0
Split Toning Shadow Saturation : 0
Split Toning Highlight Hue : 0
Split Toning Highlight Saturation : 0
Split Toning Balance : 0
Parametric Shadows : -18
Parametric Darks : -26
Parametric Lights : +16
Parametric Highlights : -50
Parametric Shadow Split : 10
Parametric Midtone Split : 34
Parametric Highlight Split : 65
Sharpen Radius : +0.5
Sharpen Detail : 0
Sharpen Edge Masking : 0
Post Crop Vignette Amount : 0
Grain Amount : 0
Color Noise Reduction Detail : 50
Lens Profile Enable : 0
Lens Manual Distortion Amount : 0
Perspective Vertical : 0
Perspective Horizontal : 0
Perspective Rotate : 0.0
Perspective Scale : 100
Convert To Grayscale : False
Tone Curve Name : Linear
Camera Profile : Adobe Standard
Lens Profile Setup : LensDefaults
Has Settings : True
Crop Top : 0.174684
Crop Left : 0.016621
Crop Bottom : 1
Crop Right : 0.687113
Crop Angle : 0.659952
Crop Constrain To Warp : 0
Crop Width : 2880
Crop Height : 2304
Crop Unit : pixels
Has Crop : True
Already Applied : True
Creator : Andre DELHAYE
Rights : Andre DELHAYE
Tone Curve : 0, 0, 255, 255
Paint Correction What : Correction
Paint Correction Amount : 1.000000
Paint Correction Active : true
Paint Correction Exposure : -0.147059
Paint Correction Saturation : 0.000000
Paint Correction Contrast : 0.000000
Paint Correction Clarity : 0.000000
Paint Correction Sharpness : 0.000000
Paint Correction Brightness : 0.000000
Paint Correction Toning Hue : 240.000000
Paint Correction Toning Saturation : 0.000000
Paint Correction Mask What : Mask/Paint
Paint Correction Mask Value : 1.000000
Paint Correction Mask Radius : 0.020560
Paint Correction Mask Flow : 1.000000
Paint Correction Mask Center Weight : 0.005867
Gradient Based Corr What : Correction
Gradient Based Corr Amount : 1.000000
Gradient Based Corr Active : true
Gradient Based Corr Exposure : -0.037500
Gradient Based Corr Saturation : 0.149425
Gradient Based Corr Contrast : 0.149425
Gradient Based Corr Clarity : 0.346322
Gradient Based Corr Sharpness : 0.000000
Gradient Based Corr Brightness : -0.049540
Gradient Based Corr Toning Hue : 73.000000
Gradient Based Corr Toning Saturation : 0.000000
Gradient Based Corr Mask What : Mask/Gradient
Gradient Based Corr Mask Value : 1.000000
Gradient Based Corr Mask Zero X : 0.462352
Gradient Based Corr Mask Zero Y : 0.534783
Gradient Based Corr Mask Full X : 0.903321
Gradient Based Corr Mask Full Y : 0.533381
Image Width : 300
Image Height : 240
Bits Per Sample : 8
Color Components : 3
Aperture : 2.0
Image Size : 300x240
Megapixels : 0.072
Scale Factor To 35 mm Equivalent : 1.0
Shutter Speed : 1/1600
Create Date : 2011:05:21 13:11:22.25
Date/Time Original : 2011:05:21 13:11:22.25
Circle Of Confusion : 0.030 mm
Depth Of Field : 0.76 m (3.64 - 4.40 m)
Field Of View : 39.6 deg
Focal Length : 50.0 mm (35 mm equivalent: 50.0 mm)
Hyperfocal Distance : 41.60 m
Light Value : 11.6
Lens ID : AF-S Nikkor 50mm f/1.4G