Uber Exif Photo
Caption-Abstract : A female Sparrowhawk with a wood pigeon it had killed.
Writer-Editor : Iain Clyne
By-line : Iain Clyne
By-line Title : photographer
Object Name : Sparrowhawk with kill
Keywords : sparrowhawk, bird of pray, raptor, bird, kill, pigeon, water, feathers
Copyright Notice : Iain Clyne
Copyright Flag : True
Image Description : A female Sparrowhawk with a wood pigeon it had killed.
Make : NIKON CORPORATION
Camera Model Name : NIKON D2X
Orientation : Horizontal (normal)
Software : Adobe Photoshop CS5 Macintosh
Modify Date : 2011:02:01 17:24:15
Artist : Iain Clyne
Copyright : Iain Clyne
Exposure Time : 1/125
F Number : 6.3
Exposure Program : Aperture-priority AE
ISO : 640
Date/Time Original : 2011:02:01 14:56:56
Create Date : 2011:02:01 14:56:56
Shutter Speed Value : 1/125
Aperture Value : 6.3
Exposure Compensation : 0
Max Aperture Value : 6.3
Subject Distance : 15 m
Metering Mode : Center-weighted average
Light Source : Unknown
Flash : No Flash
Focal Length : 450.0 mm
Color Space : Uncalibrated
Exif Image Width : 800
Exif Image Height : 533
Sensing Method : One-chip color area
Scene Type : Directly photographed
CFA Pattern : [Red,Green][Green,Blue]
Custom Rendered : Normal
Exposure Mode : Auto
White Balance : Auto
Digital Zoom Ratio : 1.33
Focal Length In 35mm Format : 900 mm
Scene Capture Type : Standard
Gain Control : Low gain up
Contrast : Normal
Saturation : Normal
Sharpness : Normal
Subject Distance Range : Unknown
Profile Description : ProPhoto RGB
Rating : 0
Label :
Creator Tool : Ver.2.00
Approximate Focus Distance : 15
Image Number : 28528
Lens : 150.0-500.0 mm f/5.0-6.3
Lens Info : 150-500mm f/5-6.3
Serial Number : 5074939
Marked : True
Format : image/jpeg
Color Mode : RGB
ICC Profile Name : ProPhoto RGB
Date Created : 2011:02:01 14:56:56.098
Authors Position : photographer
Caption Writer : Iain Clyne
Raw File Name : DSC_9092.TIF
Version : 6.0
Process Version : 5.7
Incremental Temperature : 0
Incremental Tint : 0
Exposure : 0.00
Shadows : 2
Brightness : +34
Luminance Smoothing : 0
Color Noise Reduction : 0
Chromatic Aberration R : 0
Chromatic Aberration B : 0
Vignette Amount : 0
Shadow Tint : 0
Red Hue : 0
Red Saturation : 0
Green Hue : 0
Green Saturation : 0
Blue Hue : 0
Blue Saturation : 0
Fill Light : 0
Vibrance : +20
Highlight Recovery : 0
Clarity : +20
Defringe : 0
Hue Adjustment Red : 0
Hue Adjustment Orange : 0
Hue Adjustment Yellow : 0
Hue Adjustment Green : 0
Hue Adjustment Aqua : 0
Hue Adjustment Blue : 0
Hue Adjustment Purple : 0
Hue Adjustment Magenta : 0
Saturation Adjustment Red : 0
Saturation Adjustment Orange : 0
Saturation Adjustment Yellow : 0
Saturation Adjustment Green : 0
Saturation Adjustment Aqua : 0
Saturation Adjustment Blue : 0
Saturation Adjustment Purple : 0
Saturation Adjustment Magenta : 0
Luminance Adjustment Red : 0
Luminance Adjustment Orange : 0
Luminance Adjustment Yellow : 0
Luminance Adjustment Green : 0
Luminance Adjustment Aqua : 0
Luminance Adjustment Blue : 0
Luminance Adjustment Purple : 0
Luminance Adjustment Magenta : 0
Split Toning Shadow Hue : 0
Split Toning Shadow Saturation : 0
Split Toning Highlight Hue : 0
Split Toning Highlight Saturation : 0
Split Toning Balance : 0
Parametric Shadows : 0
Parametric Darks : 0
Parametric Lights : 0
Parametric Highlights : 0
Parametric Shadow Split : 25
Parametric Midtone Split : 50
Parametric Highlight Split : 75
Sharpen Radius : +1.0
Sharpen Detail : 25
Sharpen Edge Masking : 0
Post Crop Vignette Amount : 0
Grain Amount : 0
Convert To Grayscale : False
Tone Curve Name : Linear
Camera Profile : Embedded
Has Settings : True
Crop Top : 0
Crop Left : 0
Crop Bottom : 1
Crop Right : 1
Crop Angle : 0
Has Crop : True
Already Applied : True
Rights : Iain Clyne
Title : Sparrowhawk with kill
Creator : Iain Clyne
Description : A female Sparrowhawk with a wood pigeon it had killed.
Subject : sparrowhawk, bird of pray, raptor, bird, kill, pigeon, water, feathers
Tone Curve : 0, 0, 255, 255
Image Width : 300
Image Height : 200
Bits Per Sample : 8
Color Components : 3
Aperture : 6.3
Image Size : 300x200
Megapixels : 0.060
Scale Factor To 35 mm Equivalent : 2.0
Shutter Speed : 1/125
Create Date : 2011:02:01 14:56:56.98
Date/Time Original : 2011:02:01 14:56:56.98
Modify Date : 2011:02:01 17:24:15.98
Circle Of Confusion : 0.015 mm
Depth Of Field : 0.20 m (14.90 - 15.10 m)
Field Of View : 2.3 deg
Focal Length : 450.0 mm (35 mm equivalent: 900.0 mm)
Hyperfocal Distance : 2139.56 m
Light Value : 9.6
Lens ID : Sigma 150-500mm F5-6.3 DG OS APO HSM