Uber Exif Photo
Keywords : Cienaga Los Olivitos, Fauna, Flamencos, Flamingos, Nikon 70-300 4~5.6G
Make : NIKON CORPORATION
Camera Model Name : NIKON D3000
Orientation : Horizontal (normal)
Software : ACD Systems Digital Imaging
Modify Date : 2011:08:10 00:56:50
Exposure Time : 1/400
F Number : 4.0
Exposure Program : Shutter speed priority AE
ISO : 200
Date/Time Original : 2011:08:06 12:45:53
Create Date : 2011:08:06 12:45:53
Shutter Speed Value : 1/400
Aperture Value : 4.0
Exposure Compensation : -1/3
Max Aperture Value : 4.0
Subject Distance : 20 m
Metering Mode : Spot
Light Source : Fine Weather
Focal Length : 70.0 mm
User Comment : FRANKLIN GUERRA +584120641915
Exif Image Width : 2904
Exif Image Height : 1944
Sensing Method : One-chip color area
Scene Type : Directly photographed
CFA Pattern : [Green,Blue][Red,Green]
Custom Rendered : Normal
Exposure Mode : Auto
White Balance : Manual
Digital Zoom Ratio : 1
Focal Length In 35mm Format : 105 mm
Scene Capture Type : Standard
Gain Control : None
Contrast : Normal
Saturation : Normal
Sharpness : Normal
Subject Distance Range : Unknown
Profile Description : sRGB IEC61966-2.1
Date/Time Digitized : 2011:08:06 12:45:53.50-4:30
Flash Fired : False
Flash Return : No return detection
Flash Mode : Unknown
Flash Function : False
Flash Red Eye Mode : False
Creator Tool : Adobe Photoshop Lightroom 3.3
Serial Number : 3503187
Lens Info : 70-300mm f/4-5.6
Lens : 70.0-300.0 mm f/4.0-5.6
Image Number : 4799
Approximate Focus Distance : 20
Version : 6.3
Process Version : 5.7
Color Temperature : 5150
Tint : -3
Exposure : 0.00
Shadows : 3
Brightness : +77
Luminance Smoothing : 0
Color Noise Reduction : 25
Chromatic Aberration R : 0
Chromatic Aberration B : 0
Vignette Amount : 0
Shadow Tint : 0
Red Hue : 0
Red Saturation : 0
Green Hue : 0
Green Saturation : 0
Blue Hue : 0
Blue Saturation : 0
Fill Light : 0
Vibrance : 0
Highlight Recovery : 10
Clarity : 0
Defringe : 0
Hue Adjustment Red : 0
Hue Adjustment Orange : 0
Hue Adjustment Yellow : 0
Hue Adjustment Green : 0
Hue Adjustment Aqua : 0
Hue Adjustment Blue : 0
Hue Adjustment Purple : 0
Hue Adjustment Magenta : 0
Saturation Adjustment Red : 0
Saturation Adjustment Orange : 0
Saturation Adjustment Yellow : 0
Saturation Adjustment Green : 0
Saturation Adjustment Aqua : 0
Saturation Adjustment Blue : 0
Saturation Adjustment Purple : 0
Saturation Adjustment Magenta : 0
Luminance Adjustment Red : 0
Luminance Adjustment Orange : 0
Luminance Adjustment Yellow : 0
Luminance Adjustment Green : 0
Luminance Adjustment Aqua : 0
Luminance Adjustment Blue : 0
Luminance Adjustment Purple : 0
Luminance Adjustment Magenta : 0
Split Toning Shadow Hue : 0
Split Toning Shadow Saturation : 0
Split Toning Highlight Hue : 0
Split Toning Highlight Saturation : 0
Split Toning Balance : 0
Parametric Shadows : 0
Parametric Darks : 0
Parametric Lights : 0
Parametric Highlights : 0
Parametric Shadow Split : 25
Parametric Midtone Split : 50
Parametric Highlight Split : 75
Sharpen Radius : +1.0
Sharpen Detail : 25
Sharpen Edge Masking : 0
Post Crop Vignette Amount : 0
Grain Amount : 0
Color Noise Reduction Detail : 50
Lens Profile Enable : 0
Lens Manual Distortion Amount : 0
Perspective Vertical : 0
Perspective Horizontal : 0
Perspective Rotate : 0.0
Perspective Scale : 100
Convert To Grayscale : False
Tone Curve Name : Medium Contrast
Camera Profile : Adobe Standard
Lens Profile Setup : LensDefaults
Has Settings : True
Has Crop : False
Already Applied : True
Tone Curve : 0, 0, 32, 22, 64, 56, 128, 128, 192, 196, 255, 255
Paint Correction What : Correction
Paint Correction Amount : 1.000000
Paint Correction Active : true
Paint Correction Exposure : 0.250000
Paint Correction Saturation : 0.000000
Paint Correction Contrast : 0.000000
Paint Correction Clarity : 0.000000
Paint Correction Sharpness : 0.000000
Paint Correction Brightness : 0.000000
Paint Correction Toning Hue : 0.000000
Paint Correction Toning Saturation : 0.000000
Paint Correction Mask What : Mask/Paint
Paint Correction Mask Value : 1.000000
Paint Correction Mask Radius : 0.128210
Paint Correction Mask Flow : 1.000000
Paint Correction Mask Center Weight : 0.000000
Subject : Cienaga Los Olivitos, Fauna, Flamencos, Flamingos, Nikon 70-300 4~5.6G
Image Width : 300
Image Height : 201
Bits Per Sample : 8
Color Components : 3
Aperture : 4.0
Image Size : 300x201
Megapixels : 0.060
Scale Factor To 35 mm Equivalent : 1.5
Shutter Speed : 1/400
Create Date : 2011:08:06 12:45:53.50
Date/Time Original : 2011:08:06 12:45:53.50
Modify Date : 2011:08:10 00:56:50.139
Flash : No Flash
Circle Of Confusion : 0.020 mm
Depth Of Field : 14.58 m (15.08 - 29.67 m)
Field Of View : 19.5 deg
Focal Length : 70.0 mm (35 mm equivalent: 105.0 mm)
Hyperfocal Distance : 61.16 m
Light Value : 11.6
Lens ID : Tamron AF 70-300mm f/4-5.6 Di LD Macro 1:2 (A17N) or Tamron AF 70-300mm f/4-5.6 LD Macro 1:2 (572D/772D) or AF Zoom-Nikkor 70-300mm f/4-5.6G