Uber Exif Photo
Make : NIKON CORPORATION
Camera Model Name : NIKON D7000
Orientation : Horizontal (normal)
Software : Adobe Photoshop Elements 9.0 Windows
Modify Date : 2011:08:10 16:40:57
Exposure Time : 1/100
F Number : 2.8
Exposure Program : Manual
ISO : 1600
Sensitivity Type : Recommended Exposure Index
Date/Time Original : 2011:07:25 18:50:41
Create Date : 2011:07:25 18:50:41
Shutter Speed Value : 1/100
Aperture Value : 2.8
Exposure Compensation : 0
Max Aperture Value : 2.8
Metering Mode : Multi-segment
Light Source : Unknown
Focal Length : 11.0 mm
Color Space : sRGB
Exif Image Width : 3000
Exif Image Height : 1987
Sensing Method : One-chip color area
Scene Type : Directly photographed
CFA Pattern : [Red,Green][Green,Blue]
Custom Rendered : Normal
Exposure Mode : Manual
White Balance : Auto
Digital Zoom Ratio : 1
Focal Length In 35mm Format : 16 mm
Scene Capture Type : Standard
Gain Control : High gain up
Contrast : Normal
Saturation : Normal
Sharpness : Normal
Subject Distance Range : Unknown
Serial Number : 3139324
Lens Info : 11-16mm f/2.8
Lens Model : 11.0-16.0 mm f/2.8
Profile Description : sRGB IEC61966-2.1
Date/Time Digitized : 2011:07:25 18:50:41-04:00
Creator Tool : Ver.1.02
Rating : 0
Lens : 11.0-16.0 mm f/2.8
Image Number : 3187
Date Created : 2011:07:25
Color Mode : RGB
ICC Profile Name : sRGB IEC61966-2.1
Format : image/jpeg
Raw File Name : DSC_3423.NEF
Version : 6.4.1
Process Version : 5.7
Color Temperature : 3050
Tint : +10
Exposure : 0.00
Shadows : 6
Brightness : +66
Luminance Smoothing : 0
Color Noise Reduction : 25
Chromatic Aberration R : 0
Chromatic Aberration B : 0
Vignette Amount : 0
Shadow Tint : 0
Red Hue : 0
Red Saturation : 0
Green Hue : 0
Green Saturation : 0
Blue Hue : 0
Blue Saturation : 0
Fill Light : 0
Vibrance : +7
Highlight Recovery : 25
Clarity : 0
Defringe : 0
Hue Adjustment Red : 0
Hue Adjustment Orange : 0
Hue Adjustment Yellow : 0
Hue Adjustment Green : 0
Hue Adjustment Aqua : 0
Hue Adjustment Blue : 0
Hue Adjustment Purple : 0
Hue Adjustment Magenta : 0
Saturation Adjustment Red : 0
Saturation Adjustment Orange : 0
Saturation Adjustment Yellow : 0
Saturation Adjustment Green : 0
Saturation Adjustment Aqua : 0
Saturation Adjustment Blue : 0
Saturation Adjustment Purple : 0
Saturation Adjustment Magenta : 0
Luminance Adjustment Red : 0
Luminance Adjustment Orange : 0
Luminance Adjustment Yellow : 0
Luminance Adjustment Green : 0
Luminance Adjustment Aqua : 0
Luminance Adjustment Blue : 0
Luminance Adjustment Purple : 0
Luminance Adjustment Magenta : 0
Split Toning Shadow Hue : 0
Split Toning Shadow Saturation : 0
Split Toning Highlight Hue : 0
Split Toning Highlight Saturation : 0
Split Toning Balance : 0
Parametric Shadows : 0
Parametric Darks : 0
Parametric Lights : 0
Parametric Highlights : 0
Parametric Shadow Split : 25
Parametric Midtone Split : 50
Parametric Highlight Split : 75
Sharpen Radius : +1.0
Sharpen Detail : 25
Sharpen Edge Masking : 0
Post Crop Vignette Amount : 0
Grain Amount : 0
Color Noise Reduction Detail : 50
Lens Profile Enable : 0
Lens Manual Distortion Amount : 0
Perspective Vertical : 0
Perspective Horizontal : 0
Perspective Rotate : 0.0
Perspective Scale : 100
Convert To Grayscale : False
Tone Curve Name : Medium Contrast
Camera Profile : Adobe Standard
Lens Profile Setup : LensDefaults
Has Settings : True
Has Crop : False
Already Applied : True
Flash Fired : False
Flash Return : No return detection
Flash Mode : Off
Flash Function : False
Flash Red Eye Mode : False
Tone Curve : 0, 0, 32, 22, 64, 56, 128, 128, 192, 196, 255, 255
Image Width : 300
Image Height : 199
Bits Per Sample : 8
Color Components : 3
Aperture : 2.8
Image Size : 300x199
Megapixels : 0.060
Scale Factor To 35 mm Equivalent : 1.5
Shutter Speed : 1/100
Create Date : 2011:07:25 18:50:41.10
Date/Time Original : 2011:07:25 18:50:41.10
Modify Date : 2011:08:10 16:40:57.10
Flash : Off, Did not fire
Circle Of Confusion : 0.021 mm
Field Of View : 96.7 deg
Focal Length : 11.0 mm (35 mm equivalent: 16.0 mm)
Hyperfocal Distance : 2.09 m
Light Value : 5.6
Lens ID : 11.0-16.0mm f/2.8