Uber Exif Photo
Make : NIKON CORPORATION
Camera Model Name : NIKON D7000
Orientation : Horizontal (normal)
Software : Adobe Photoshop Elements 9.0 Windows
Modify Date : 2011:08:12 17:52:00
Exposure Time : 1/250
F Number : 5.3
Exposure Program : Manual
ISO : 100
Sensitivity Type : Recommended Exposure Index
Date/Time Original : 2011:07:23 12:03:40
Create Date : 2011:07:23 12:03:40
Shutter Speed Value : 1/250
Aperture Value : 5.3
Exposure Compensation : 0
Max Aperture Value : 5.3
Subject Distance : 150 m
Metering Mode : Multi-segment
Light Source : Unknown
Focal Length : 78.0 mm
Color Space : sRGB
Exif Image Width : 2000
Exif Image Height : 3019
Sensing Method : One-chip color area
Scene Type : Directly photographed
CFA Pattern : [Red,Green][Green,Blue]
Custom Rendered : Normal
Exposure Mode : Manual
White Balance : Auto
Digital Zoom Ratio : 1
Focal Length In 35mm Format : 117 mm
Scene Capture Type : Standard
Gain Control : None
Contrast : Normal
Saturation : Normal
Sharpness : Normal
Subject Distance Range : Unknown
Serial Number : 3139324
Lens Info : 18-270mm f/3.5-6.3
Lens Model : 18.0-270.0 mm f/3.5-6.3
Profile Description : sRGB IEC61966-2.1
Date/Time Digitized : 2011:07:23 12:03:40-04:00
Creator Tool : Ver.1.02
Rating : 0
Lens : 18.0-270.0 mm f/3.5-6.3
Image Number : 2749
Approximate Focus Distance : 150
Date Created : 2011:07:23
Color Mode : RGB
ICC Profile Name : sRGB IEC61966-2.1
Format : image/jpeg
Raw File Name : DSC_2986.NEF
Version : 6.4.1
Process Version : 5.7
Color Temperature : 5350
Tint : +13
Exposure : 0.00
Shadows : 6
Brightness : +62
Luminance Smoothing : 0
Color Noise Reduction : 25
Chromatic Aberration R : 0
Chromatic Aberration B : 0
Vignette Amount : 0
Shadow Tint : 0
Red Hue : 0
Red Saturation : 0
Green Hue : 0
Green Saturation : 0
Blue Hue : 0
Blue Saturation : 0
Fill Light : 0
Vibrance : +9
Highlight Recovery : 25
Clarity : +13
Defringe : 0
Hue Adjustment Red : 0
Hue Adjustment Orange : 0
Hue Adjustment Yellow : 0
Hue Adjustment Green : 0
Hue Adjustment Aqua : 0
Hue Adjustment Blue : 0
Hue Adjustment Purple : 0
Hue Adjustment Magenta : 0
Saturation Adjustment Red : 0
Saturation Adjustment Orange : 0
Saturation Adjustment Yellow : 0
Saturation Adjustment Green : 0
Saturation Adjustment Aqua : 0
Saturation Adjustment Blue : 0
Saturation Adjustment Purple : 0
Saturation Adjustment Magenta : 0
Luminance Adjustment Red : 0
Luminance Adjustment Orange : 0
Luminance Adjustment Yellow : 0
Luminance Adjustment Green : 0
Luminance Adjustment Aqua : 0
Luminance Adjustment Blue : 0
Luminance Adjustment Purple : 0
Luminance Adjustment Magenta : 0
Split Toning Shadow Hue : 0
Split Toning Shadow Saturation : 0
Split Toning Highlight Hue : 0
Split Toning Highlight Saturation : 0
Split Toning Balance : 0
Parametric Shadows : 0
Parametric Darks : 0
Parametric Lights : 0
Parametric Highlights : 0
Parametric Shadow Split : 25
Parametric Midtone Split : 50
Parametric Highlight Split : 75
Sharpen Radius : +1.0
Sharpen Detail : 25
Sharpen Edge Masking : 0
Post Crop Vignette Amount : 0
Grain Amount : 0
Color Noise Reduction Detail : 50
Lens Profile Enable : 0
Lens Manual Distortion Amount : 0
Perspective Vertical : 0
Perspective Horizontal : 0
Perspective Rotate : 0.0
Perspective Scale : 100
Convert To Grayscale : False
Tone Curve Name : Medium Contrast
Camera Profile : Adobe Standard
Lens Profile Setup : LensDefaults
Has Settings : True
Has Crop : False
Already Applied : True
Flash Fired : False
Flash Return : No return detection
Flash Mode : Off
Flash Function : False
Flash Red Eye Mode : False
Tone Curve : 0, 0, 32, 22, 64, 56, 128, 128, 192, 196, 255, 255
Image Width : 199
Image Height : 300
Bits Per Sample : 8
Color Components : 3
Aperture : 5.3
Image Size : 199x300
Megapixels : 0.060
Scale Factor To 35 mm Equivalent : 1.5
Shutter Speed : 1/250
Create Date : 2011:07:23 12:03:40.20
Date/Time Original : 2011:07:23 12:03:40.20
Modify Date : 2011:08:12 17:52:00.20
Flash : Off, Did not fire
Circle Of Confusion : 0.020 mm
Depth Of Field : inf (41.48 m - inf)
Field Of View : 17.5 deg
Focal Length : 78.0 mm (35 mm equivalent: 117.0 mm)
Hyperfocal Distance : 57.31 m
Light Value : 12.8
Lens ID : Tamron AF 18-270mm f/3.5-6.3 Di II VC LD Aspherical (IF) Macro (B003)