Uber Exif Photo
By-line : Michael Weaver
Country-Primary Location Name : USA
Copyright Notice : (C) 2011 Michael Weaver, All right reserved
Copyright Flag : True
Make : NIKON CORPORATION
Camera Model Name : NIKON D700
Software : Adobe Photoshop Lightroom 3.4.1
Modify Date : 2011:08:19 08:32:45
Artist : Michael Weaver
Copyright : (C) 2011 Michael Weaver, All right reserved
Exposure Time : 1/60
F Number : 8.0
Exposure Program : Program AE
ISO : 800
Date/Time Original : 2011:06:11 12:54:23
Create Date : 2011:06:11 12:54:23
Shutter Speed Value : 1/60
Aperture Value : 8.0
Exposure Compensation : 0
Max Aperture Value : 2.8
Subject Distance : 4294967295 m
Metering Mode : Multi-segment
Light Source : Unknown
Flash : No Flash
Focal Length : 14.0 mm
Sensing Method : One-chip color area
Scene Type : Directly photographed
CFA Pattern : [Red,Green][Green,Blue]
Custom Rendered : Normal
Exposure Mode : Auto
White Balance : Auto
Digital Zoom Ratio : 1
Focal Length In 35mm Format : 14 mm
Scene Capture Type : Standard
Gain Control : Low gain up
Contrast : Normal
Saturation : Normal
Sharpness : Normal
Subject Distance Range : Unknown
Serial Number : 2376330
Lens Info : 14mm f/2.8
Lens Model : 14.0 mm f/2.8
Profile Description : sRGB IEC61966-2.1
Creator Tool : Adobe Photoshop Lightroom 3.4.1
Lens : 14.0 mm f/2.8
Image Number : 5109
Approximate Focus Distance : 4294967295
Date Created : 2011:06:11 12:54:23.05
Country : USA
Credit : (C) 2011 Michael Weaver, All rights reserved
Marked : True
Version : 6.4.1
Process Version : 5.7
Color Temperature : 4750
Tint : +5
Exposure : +0.69
Shadows : 2
Brightness : +60
Luminance Smoothing : 0
Color Noise Reduction : 25
Chromatic Aberration R : 0
Chromatic Aberration B : 0
Vignette Amount : 0
Shadow Tint : 0
Red Hue : 0
Red Saturation : 0
Green Hue : 0
Green Saturation : 0
Blue Hue : 0
Blue Saturation : 0
Fill Light : 0
Highlight Recovery : 34
Clarity : +10
Defringe : 0
Gray Mixer Red : -10
Gray Mixer Orange : -19
Gray Mixer Yellow : -23
Gray Mixer Green : -27
Gray Mixer Aqua : +80
Gray Mixer Blue : +34
Gray Mixer Purple : +16
Gray Mixer Magenta : +4
Split Toning Shadow Hue : 0
Split Toning Shadow Saturation : 0
Split Toning Highlight Hue : 0
Split Toning Highlight Saturation : 0
Split Toning Balance : 0
Parametric Shadows : +40
Parametric Darks : 0
Parametric Lights : 0
Parametric Highlights : -40
Parametric Shadow Split : 25
Parametric Midtone Split : 50
Parametric Highlight Split : 75
Sharpen Radius : +1.0
Sharpen Detail : 25
Sharpen Edge Masking : 0
Post Crop Vignette Amount : 0
Grain Amount : 0
Color Noise Reduction Detail : 50
Lens Profile Enable : 0
Lens Manual Distortion Amount : 0
Perspective Vertical : 0
Perspective Horizontal : 0
Perspective Rotate : 0.0
Perspective Scale : 100
Convert To Grayscale : True
Tone Curve Name : Strong Contrast
Camera Profile : Adobe Standard
Lens Profile Setup : LensDefaults
Has Settings : True
Crop Top : 0.174502
Crop Left : 0.112261
Crop Bottom : 0.914237
Crop Right : 0.996666
Crop Angle : -1.1494
Crop Constrain To Warp : 0
Crop Width : 3721
Crop Height : 2170
Crop Unit : pixels
Has Crop : True
Already Applied : True
Creator : Michael Weaver
Rights : (C) 2011 Michael Weaver, All right reserved
Creator Postal Code : 62031
Creator Work Email : michaelrweaver@gmail.com
Creator Work Telephone : 618-376-3154
Creator Region : IL
Creator Country : USA
Creator City : Fieldon
Creator Address : 25670 Dark Hollow Road
Creator Work URL : michaelweaver.zenfolio.com
Usage Terms : No use without written permission.
Tone Curve : 0, 0, 32, 16, 64, 50, 128, 128, 192, 202, 255, 255
Paint Correction What : Correction
Paint Correction Amount : 1.000000
Paint Correction Active : true
Paint Correction Exposure : 0.268000
Paint Correction Saturation : 0.854000
Paint Correction Contrast : 1.000000
Paint Correction Clarity : 0.000000
Paint Correction Sharpness : 0.000000
Paint Correction Brightness : 0.244000
Paint Correction Toning Hue : 58.000000
Paint Correction Toning Saturation : 0.040000
Paint Correction Mask What : Mask/Paint
Paint Correction Mask Value : 0.310000
Paint Correction Mask Radius : 0.016629
Paint Correction Mask Flow : 0.705000
Paint Correction Mask Center Weight : 0.000000
Image Width : 300
Image Height : 175
Bits Per Sample : 8
Color Components : 3
Aperture : 8.0
Image Size : 300x175
Megapixels : 0.052
Scale Factor To 35 mm Equivalent : 1.0
Shutter Speed : 1/60
Create Date : 2011:06:11 12:54:23.05
Date/Time Original : 2011:06:11 12:54:23.05
Circle Of Confusion : 0.030 mm
Depth Of Field : inf (0.82 m - inf)
Field Of View : 104.3 deg
Focal Length : 14.0 mm (35 mm equivalent: 14.0 mm)
Hyperfocal Distance : 0.82 m
Light Value : 8.9
Lens ID : AF Nikkor ED 14mm f/2.8D