Uber Exif Photo
By-line : William Anderson
Copyright Notice : 2011 All Rights RESERVED
Make : NIKON CORPORATION
Camera Model Name : NIKON D7000
Software : Adobe Photoshop Lightroom 3.4.1
Modify Date : 2011:08:30 20:28:44
Artist : William Anderson
Copyright : 2011 All Rights RESERVED
Exposure Time : 1/40
Exposure Program : Manual
ISO : 200
Sensitivity Type : Recommended Exposure Index
Date/Time Original : 2011:06:25 14:21:22
Create Date : 2011:06:25 14:21:22
Shutter Speed Value : 1/40
Exposure Compensation : -13/3
Max Aperture Value : 1.0
Metering Mode : Center-weighted average
Light Source : Unknown
Flash : Off, Did not fire
Sensing Method : One-chip color area
Scene Type : Directly photographed
CFA Pattern : [Red,Green][Green,Blue]
Custom Rendered : Normal
Exposure Mode : Manual
White Balance : Auto
Digital Zoom Ratio : 1
Scene Capture Type : Standard
Gain Control : None
Contrast : Normal
Saturation : Normal
Sharpness : Normal
Subject Distance Range : Unknown
Serial Number : 3009475
Lens Info : 0mm f/0
Lens Model : 0.0 mm f/0.0
Creator Tool : Adobe Photoshop Lightroom 3.4.1
Lens : 0.0 mm f/0.0
Image Number : 9240
Date Created : 2011:06:25 14:21:22.80
Version : 6.4.1
Process Version : 5.7
Color Temperature : 10938
Tint : +10
Exposure : 0.00
Shadows : 13
Brightness : +25
Luminance Smoothing : 0
Color Noise Reduction : 0
Chromatic Aberration R : 0
Chromatic Aberration B : 0
Vignette Amount : -100
Vignette Midpoint : 20
Shadow Tint : 0
Red Hue : 0
Red Saturation : 0
Green Hue : 0
Green Saturation : 0
Blue Hue : 0
Blue Saturation : 0
Fill Light : 13
Highlight Recovery : 20
Clarity : +29
Defringe : 0
Gray Mixer Red : -13
Gray Mixer Orange : -22
Gray Mixer Yellow : -27
Gray Mixer Green : -29
Gray Mixer Aqua : -16
Gray Mixer Blue : +16
Gray Mixer Purple : +20
Gray Mixer Magenta : +4
Split Toning Shadow Hue : 0
Split Toning Shadow Saturation : 0
Split Toning Highlight Hue : 0
Split Toning Highlight Saturation : 0
Split Toning Balance : 0
Parametric Shadows : +27
Parametric Darks : +23
Parametric Lights : +58
Parametric Highlights : -38
Parametric Shadow Split : 25
Parametric Midtone Split : 50
Parametric Highlight Split : 75
Sharpen Radius : +1.0
Sharpen Detail : 25
Sharpen Edge Masking : 0
Post Crop Vignette Amount : 0
Grain Amount : 0
Lens Profile Enable : 0
Lens Manual Distortion Amount : 0
Perspective Vertical : 0
Perspective Horizontal : 0
Perspective Rotate : 0.0
Perspective Scale : 100
Convert To Grayscale : True
Tone Curve Name : Medium Contrast
Camera Profile : Embedded
Lens Profile Setup : LensDefaults
Has Settings : True
Has Crop : False
Already Applied : True
Creator : William Anderson
Rights : 2011 All Rights RESERVED
Tone Curve : 0, 0, 32, 22, 64, 56, 128, 128, 192, 196, 255, 255
Gradient Based Corr What : Correction
Gradient Based Corr Amount : 1.000000
Gradient Based Corr Active : true
Gradient Based Corr Exposure : 0.375000
Gradient Based Corr Saturation : 0.300000
Gradient Based Corr Contrast : 0.200000
Gradient Based Corr Clarity : 0.100000
Gradient Based Corr Sharpness : 0.000000
Gradient Based Corr Brightness : 0.000000
Gradient Based Corr Toning Hue : 0.000000
Gradient Based Corr Toning Saturation : 0.000000
Gradient Based Corr Mask What : Mask/Gradient
Gradient Based Corr Mask Value : 1.000000
Gradient Based Corr Mask Zero X : 0.074468
Gradient Based Corr Mask Zero Y : 0.621868
Gradient Based Corr Mask Full X : 0.935113
Gradient Based Corr Mask Full Y : 0.396253
Image Width : 199
Image Height : 300
Bits Per Sample : 8
Color Components : 1
Image Size : 199x300
Megapixels : 0.060
Shutter Speed : 1/40
Create Date : 2011:06:25 14:21:22.80
Date/Time Original : 2011:06:25 14:21:22.80
Lens ID : 0.0mm f/0.0