Uber Exif Photo
Make : NIKON CORPORATION
Camera Model Name : NIKON D5000
Software : Ver.1.00
Modify Date : 2011:09:16 00:07:30
Exposure Time : 1/50
F Number : 5.6
Exposure Program : Manual
ISO : 800
Date/Time Original : 2011:02:27 13:28:26
Create Date : 2011:02:27 13:28:26
Shutter Speed Value : 1/50
Aperture Value : 5.6
Exposure Compensation : 0
Max Aperture Value : 4.9
Subject Distance : 1.41 m
Metering Mode : Multi-segment
Light Source : Unknown
Focal Length : 34.0 mm
User Comment : Abdul Basit [abdulbasit17@gmail.com]
Sensing Method : One-chip color area
Scene Type : Directly photographed
CFA Pattern : [Green,Blue][Red,Green]
Custom Rendered : Normal
Exposure Mode : Manual
White Balance : Auto
Digital Zoom Ratio : 1
Focal Length In 35mm Format : 51 mm
Scene Capture Type : Standard
Gain Control : Low gain up
Contrast : Normal
Saturation : Normal
Sharpness : Hard
Subject Distance Range : Unknown
Profile Description : sRGB IEC61966-2.1
Date/Time Digitized : 2011:02:27 13:28:26.00+06:00
Exif Image Width : 3216
Exif Image Height : 2136
Creator Tool : Adobe Photoshop Lightroom
Serial Number : 2178359
Lens Info : 18-55mm f/3.5-5.6
Lens : 18.0-55.0 mm f/3.5-5.6
Image Number : 8841
Version : 6.1
Process Version : 5.7
Incremental Temperature : +2
Incremental Tint : +12
Exposure : 0.00
Shadows : 14
Brightness : +27
Luminance Smoothing : 0
Color Noise Reduction : 0
Chromatic Aberration R : 0
Chromatic Aberration B : 0
Vignette Amount : 0
Shadow Tint : 0
Red Hue : +49
Red Saturation : 0
Green Hue : +46
Green Saturation : 0
Blue Hue : -44
Blue Saturation : +33
Fill Light : 12
Vibrance : +22
Highlight Recovery : 0
Clarity : +36
Defringe : 0
Hue Adjustment Red : 0
Hue Adjustment Orange : 0
Hue Adjustment Yellow : 0
Hue Adjustment Green : 0
Hue Adjustment Aqua : 0
Hue Adjustment Blue : 0
Hue Adjustment Purple : 0
Hue Adjustment Magenta : 0
Saturation Adjustment Red : -12
Saturation Adjustment Orange : -12
Saturation Adjustment Yellow : -13
Saturation Adjustment Green : -14
Saturation Adjustment Aqua : -14
Saturation Adjustment Blue : -14
Saturation Adjustment Purple : -14
Saturation Adjustment Magenta : -14
Luminance Adjustment Red : 0
Luminance Adjustment Orange : 0
Luminance Adjustment Yellow : 0
Luminance Adjustment Green : 0
Luminance Adjustment Aqua : 0
Luminance Adjustment Blue : 0
Luminance Adjustment Purple : 0
Luminance Adjustment Magenta : 0
Split Toning Shadow Hue : 236
Split Toning Shadow Saturation : 31
Split Toning Highlight Hue : 78
Split Toning Highlight Saturation : 28
Split Toning Balance : 0
Parametric Shadows : 0
Parametric Darks : +52
Parametric Lights : +22
Parametric Highlights : 0
Parametric Shadow Split : 10
Parametric Midtone Split : 59
Parametric Highlight Split : 90
Sharpen Radius : +1.0
Sharpen Detail : 25
Sharpen Edge Masking : 0
Post Crop Vignette Amount : 0
Grain Amount : 0
Lens Profile Enable : 0
Lens Manual Distortion Amount : 0
Perspective Vertical : 0
Perspective Horizontal : 0
Perspective Rotate : 0.0
Perspective Scale : 100
Convert To Grayscale : False
Tone Curve Name : Linear
Camera Profile : ACR 4.4
Lens Profile Setup : LensDefaults
Has Settings : True
Has Crop : False
Already Applied : True
Flash Fired : False
Flash Return : No return detection
Flash Mode : Unknown
Flash Function : False
Flash Red Eye Mode : False
Tone Curve : 0, 0, 255, 255
Image Width : 300
Image Height : 199
Bits Per Sample : 8
Color Components : 3
Aperture : 5.6
Image Size : 300x199
Megapixels : 0.060
Scale Factor To 35 mm Equivalent : 1.5
Shutter Speed : 1/50
Create Date : 2011:02:27 13:28:26.00
Date/Time Original : 2011:02:27 13:28:26.00
Flash : No Flash
Circle Of Confusion : 0.020 mm
Depth Of Field : 0.38 m (1.24 - 1.63 m)
Field Of View : 38.9 deg
Focal Length : 34.0 mm (35 mm equivalent: 51.0 mm)
Hyperfocal Distance : 10.31 m
Light Value : 7.6
Lens ID : AF-S DX VR Zoom-Nikkor 18-55mm f/3.5-5.6G