Uber Exif Photo
Copyright Flag : False
Make : FUJIFILM
Camera Model Name : FinePix S5Pro
Orientation : Horizontal (normal)
Software : Adobe Photoshop CS3 Windows
Modify Date : 2009:05:20 21:56:43
White Point : 0 0
Primary Chromaticities : 0 0 0 0 0 0
Reference Black White : 0 0 0 0 0 0
Exposure Time : 1/160
F Number : 10.0
Exposure Program : Aperture-priority AE
ISO : 400, 400
Date/Time Original : 2009:05:14 12:37:59
Create Date : 2009:05:14 12:37:59
Compressed Bits Per Pixel : 0
Shutter Speed Value : 1/160
Aperture Value : 10.0
Brightness Value : 6.66
Exposure Compensation : -0.33
Max Aperture Value : 5.7
Subject Distance : 0 m
Metering Mode : Multi-segment
Light Source : Unknown
Focal Length : 170.0 mm
Color Space : Uncalibrated
Exif Image Width : 2848
Exif Image Height : 2704
Exposure Index : 0
Sensing Method : One-chip color area
Scene Type : Directly photographed
Profile Description : Adobe RGB (1998)
Date/Time Digitized : 2009:05:14 12:37:59+01:00
Focal Length In 35mm Format : 255 mm
Custom Rendered : Normal
Exposure Mode : Auto
White Balance : Auto
Scene Capture Type : Standard
Contrast : Normal
Saturation : Normal
Sharpness : Hard
Subject Distance Range : Unknown
Creator Tool : Adobe Photoshop CS3 Windows
Rating : 0
Lens Info : 18-200mm f/3.5-5.6
Lens : 18.0-200.0 mm f/3.5-5.6
Raw File Name : DSCF4768.JPG
Version : 4.6
Incremental Temperature : 0
Incremental Tint : 0
Exposure : 0.00
Shadows : 0
Brightness : 0
Luminance Smoothing : 0
Color Noise Reduction : 0
Chromatic Aberration R : 0
Chromatic Aberration B : 0
Vignette Amount : 0
Shadow Tint : 0
Red Hue : 0
Red Saturation : 0
Green Hue : 0
Green Saturation : 0
Blue Hue : 0
Blue Saturation : 0
Fill Light : 0
Vibrance : +15
Highlight Recovery : 0
Clarity : +35
Defringe : 0
Hue Adjustment Red : 0
Hue Adjustment Orange : 0
Hue Adjustment Yellow : 0
Hue Adjustment Green : 0
Hue Adjustment Aqua : 0
Hue Adjustment Blue : 0
Hue Adjustment Purple : 0
Hue Adjustment Magenta : 0
Saturation Adjustment Red : 0
Saturation Adjustment Orange : 0
Saturation Adjustment Yellow : 0
Saturation Adjustment Green : 0
Saturation Adjustment Aqua : 0
Saturation Adjustment Blue : 0
Saturation Adjustment Purple : 0
Saturation Adjustment Magenta : 0
Luminance Adjustment Red : 0
Luminance Adjustment Orange : 0
Luminance Adjustment Yellow : 0
Luminance Adjustment Green : 0
Luminance Adjustment Aqua : 0
Luminance Adjustment Blue : 0
Luminance Adjustment Purple : 0
Luminance Adjustment Magenta : 0
Split Toning Shadow Hue : 0
Split Toning Shadow Saturation : 0
Split Toning Highlight Hue : 0
Split Toning Highlight Saturation : 0
Split Toning Balance : 0
Parametric Shadows : 0
Parametric Darks : 0
Parametric Lights : 0
Parametric Highlights : 0
Parametric Shadow Split : 25
Parametric Midtone Split : 50
Parametric Highlight Split : 75
Sharpen Radius : +1.0
Sharpen Detail : 25
Sharpen Edge Masking : 0
Post Crop Vignette Amount : 0
Convert To Grayscale : False
Tone Curve Name : Linear
Camera Profile : Embedded
Has Settings : True
Has Crop : False
Already Applied : True
Format : image/jpeg
Color Mode : RGB
ICC Profile Name : Adobe RGB (1998)
Flash Fired : False
Flash Return : No return detection
Flash Mode : Off
Flash Function : False
Flash Red Eye Mode : False
Tone Curve : 0, 0, 255, 255
Image Width : 300
Image Height : 285
Bits Per Sample : 8
Color Components : 3
Aperture : 10.0
Image Size : 300x285
Megapixels : 0.086
Scale Factor To 35 mm Equivalent : 1.5
Shutter Speed : 1/160
Flash : Off, Did not fire
Circle Of Confusion : 0.020 mm
Field Of View : 8.1 deg
Focal Length : 170.0 mm (35 mm equivalent: 255.0 mm)
Hyperfocal Distance : 144.28 m
Light Value : 12.0
Lens ID : 18.0-200.0mm f/3.5-5.6