Uber Exif Photo
By-line : Randy Giesbrecht
Keywords : Black Knight Holdings © 2011, Grand Teetons Wyoming, Gros Venture, Mormon Row Barns, Randy Giesbrecht © 2011, Sunrise at the Gros Venture
Copyright Notice : Randy Giesbrecht © 2011
Copyright Flag : True
URL : www.randygiesbrecht.com
Photometric Interpretation : RGB
Make : NIKON CORPORATION
Camera Model Name : NIKON D3
Orientation : Horizontal (normal)
Samples Per Pixel : 3
Software : Adobe Photoshop CS5 Windows
Modify Date : 2011:10:04 10:07:32
Artist : Randy Giesbrecht
Copyright : Randy Giesbrecht © 2011
Exposure Time : 1/80
F Number : 20.0
Exposure Program : Manual
ISO : 500
Date/Time Original : 2011:09:13 06:45:13
Create Date : 2011:09:13 06:45:13
Shutter Speed Value : 1/80
Aperture Value : 20.0
Exposure Compensation : 0
Max Aperture Value : 2.8
Subject Distance : 4294967295 m
Metering Mode : Multi-segment
Light Source : Unknown
Flash : No Flash
Focal Length : 26.0 mm
Color Space : Uncalibrated
Exif Image Width : 467
Exif Image Height : 311
Sensing Method : One-chip color area
Scene Type : Directly photographed
CFA Pattern : [Red,Green][Green,Blue]
Custom Rendered : Normal
Exposure Mode : Manual
White Balance : Manual
Digital Zoom Ratio : 1
Focal Length In 35mm Format : 26 mm
Scene Capture Type : Standard
Gain Control : Low gain up
Contrast : Normal
Saturation : Normal
Sharpness : Normal
Subject Distance Range : Unknown
GPS Version ID : 2.2.0.0
GPS Latitude Ref : North
GPS Longitude Ref : West
GPS Altitude Ref : Above Sea Level
GPS Time Stamp : 13:38:42
GPS Satellites : 09
GPS Map Datum : WGS 84
GPS Date Stamp : 2011:09:13
Profile Description : ProPhoto RGB
Rating : 5
Label :
Creator Tool : Adobe Photoshop CS5 Windows
Format : image/jpeg
Approximate Focus Distance : 4294967295
Image Number : 50792
Lens : 24.0-70.0 mm f/2.8
Lens Info : 24-70mm f/2.8
Serial Number : 2022320
Web Statement : www.randygiesbrecht.com
Marked : True
Digital Source Type : http://cv.iptc.org/newscodes/digitalsourcetype/digitalCapture
Date Created : 2011:09:13 06:45:13.005
Color Mode : RGB
ICC Profile Name : ProPhoto RGB
Raw File Name : BKD_4908.JPG
Version : 6.0
Process Version : 5.7
Incremental Temperature : +9
Incremental Tint : -2
Exposure : 0.00
Shadows : 0
Brightness : 0
Luminance Smoothing : 0
Color Noise Reduction : 0
Chromatic Aberration R : 0
Chromatic Aberration B : 0
Vignette Amount : 0
Shadow Tint : 0
Red Hue : 0
Red Saturation : 0
Green Hue : 0
Green Saturation : 0
Blue Hue : 0
Blue Saturation : 0
Fill Light : 0
Vibrance : +20
Highlight Recovery : 0
Clarity : +75
Defringe : 0
Hue Adjustment Red : 0
Hue Adjustment Orange : 0
Hue Adjustment Yellow : 0
Hue Adjustment Green : 0
Hue Adjustment Aqua : 0
Hue Adjustment Blue : 0
Hue Adjustment Purple : 0
Hue Adjustment Magenta : 0
Saturation Adjustment Red : 0
Saturation Adjustment Orange : 0
Saturation Adjustment Yellow : 0
Saturation Adjustment Green : 0
Saturation Adjustment Aqua : 0
Saturation Adjustment Blue : 0
Saturation Adjustment Purple : 0
Saturation Adjustment Magenta : 0
Luminance Adjustment Red : 0
Luminance Adjustment Orange : 0
Luminance Adjustment Yellow : 0
Luminance Adjustment Green : 0
Luminance Adjustment Aqua : 0
Luminance Adjustment Blue : 0
Luminance Adjustment Purple : 0
Luminance Adjustment Magenta : 0
Split Toning Shadow Hue : 0
Split Toning Shadow Saturation : 0
Split Toning Highlight Hue : 0
Split Toning Highlight Saturation : 0
Split Toning Balance : 0
Parametric Shadows : 0
Parametric Darks : +5
Parametric Lights : +22
Parametric Highlights : +25
Parametric Shadow Split : 25
Parametric Midtone Split : 50
Parametric Highlight Split : 75
Sharpen Radius : +1.0
Sharpen Detail : 25
Sharpen Edge Masking : 0
Post Crop Vignette Amount : 0
Grain Amount : 0
Convert To Grayscale : False
Tone Curve Name : Linear
Camera Profile : Embedded
Has Settings : True
Crop Top : 0.218558
Crop Left : 0.066664
Crop Bottom : 0.821353
Crop Right : 0.872075
Crop Angle : -7.16627
Has Crop : True
Already Applied : True
Subject : Black Knight Holdings © 2011, Grand Teetons Wyoming, Gros Venture, Mormon Row Barns, Randy Giesbrecht © 2011, Sunrise at the Gros Venture
Rights : Randy Giesbrecht © 2011
Creator : Randy Giesbrecht
Tone Curve : 0, 0, 255, 255
Creator Postal Code : V2S 3L7
Creator Work Telephone : 604-309-1738
Creator Region : BC
Creator Country : Canada
Creator Work Email : randybkh@shaw.ca
Creator City : Abbotsford
Creator Address : 2764 Mountview Street
Creator Work URL : randygiesbrecht.com
Hierarchical Subject : Black Knight Holdings © 2011, Grand Teetons Wyoming, Gros Venture, Mormon Row Barns, Randy Giesbrecht © 2011, Sunrise at the Gros Venture
Image Width : 300
Image Height : 200
Bits Per Sample : 8
Color Components : 3
Aperture : 20.0
Image Size : 300x200
Megapixels : 0.060
Scale Factor To 35 mm Equivalent : 1.0
Shutter Speed : 1/80
Create Date : 2011:09:13 06:45:13.50
Date/Time Original : 2011:09:13 06:45:13.50
Modify Date : 2011:10:04 10:07:32.50
GPS Altitude : 2025 m Above Sea Level
GPS Date/Time : 2011:09:13 13:38:42Z
GPS Latitude : 43 deg 39' 37.67" N
GPS Longitude : 110 deg 39' 52.21" W
Circle Of Confusion : 0.030 mm
Depth Of Field : inf (1.12 m - inf)
Field Of View : 69.4 deg
Focal Length : 26.0 mm (35 mm equivalent: 26.0 mm)
GPS Position : 43 deg 39' 37.67" N, 110 deg 39' 52.21" W
Hyperfocal Distance : 1.12 m
Light Value : 12.6
Lens ID : AF-S Zoom-Nikkor 24-70mm f/2.8G ED