Uber Exif Photo
By-line : PHILIP.F.HIGGINS
Copyright Notice : PHILIP.F.HIGGINS@ PHIGGYS.COM
Make : NIKON CORPORATION
Camera Model Name : NIKON D3
Orientation : Horizontal (normal)
Software : Adobe Photoshop CS4 Windows
Modify Date : 2010:03:01 11:48:58
White Point : 0 0
Primary Chromaticities : 0 0 0 0 0 0
Reference Black White : 0 0 0 0 0 0
Copyright : PHILIP.F.HIGGINS@ PHIGGYS.COM
Exposure Time : 10
F Number : 22.0
Exposure Program : Aperture-priority AE
ISO : 200, 200
Date/Time Original : 2010:02:20 19:15:59
Create Date : 2010:02:20 19:15:59
Compressed Bits Per Pixel : 0
Shutter Speed Value : 10
Aperture Value : 22.0
Brightness Value : 0
Exposure Compensation : -1
Max Aperture Value : 3.5
Subject Distance : 0 m
Metering Mode : Multi-segment
Light Source : Unknown
Focal Length : 28.0 mm
Color Space : Uncalibrated
Exif Image Width : 2832
Exif Image Height : 4256
Exposure Index : 0
Sensing Method : One-chip color area
Scene Type : Directly photographed
Profile Description : Adobe RGB (1998)
Date/Time Digitized : 2010:02:20 19:15:59.00Z
Focal Length In 35mm Format : 28 mm
Custom Rendered : Normal
Exposure Mode : Auto
White Balance : Auto
Scene Capture Type : Standard
Gain Control : None
Contrast : Normal
Saturation : Normal
Sharpness : Soft
Subject Distance Range : Unknown
Digital Zoom Ratio : 1
Creator Tool : Ver.2.01
Rating : 0
Format : image/jpeg
Serial Number : 2051426
Lens Info : 28-200mm f/3.5-5.6
Lens : 28.0-200.0 mm f/3.5-5.6
Image Number : 23503
Raw File Name : PH3_3362.NEF
Version : 5.5
Color Temperature : 2850
Tint : -17
Exposure : -0.60
Shadows : 0
Brightness : +121
Luminance Smoothing : 0
Color Noise Reduction : 25
Chromatic Aberration R : 0
Chromatic Aberration B : 0
Vignette Amount : 0
Shadow Tint : 0
Red Hue : 0
Red Saturation : 0
Green Hue : 0
Green Saturation : 0
Blue Hue : 0
Blue Saturation : 0
Fill Light : 0
Vibrance : +33
Highlight Recovery : 100
Clarity : +61
Defringe : 0
Hue Adjustment Red : 0
Hue Adjustment Orange : 0
Hue Adjustment Yellow : 0
Hue Adjustment Green : 0
Hue Adjustment Aqua : 0
Hue Adjustment Blue : 0
Hue Adjustment Purple : 0
Hue Adjustment Magenta : 0
Saturation Adjustment Red : 0
Saturation Adjustment Orange : 0
Saturation Adjustment Yellow : 0
Saturation Adjustment Green : 0
Saturation Adjustment Aqua : 0
Saturation Adjustment Blue : 0
Saturation Adjustment Purple : 0
Saturation Adjustment Magenta : 0
Luminance Adjustment Red : 0
Luminance Adjustment Orange : 0
Luminance Adjustment Yellow : 0
Luminance Adjustment Green : 0
Luminance Adjustment Aqua : 0
Luminance Adjustment Blue : 0
Luminance Adjustment Purple : 0
Luminance Adjustment Magenta : 0
Split Toning Shadow Hue : 0
Split Toning Shadow Saturation : 0
Split Toning Highlight Hue : 0
Split Toning Highlight Saturation : 0
Split Toning Balance : 0
Parametric Shadows : 0
Parametric Darks : 0
Parametric Lights : 0
Parametric Highlights : 0
Parametric Shadow Split : 25
Parametric Midtone Split : 50
Parametric Highlight Split : 75
Sharpen Radius : +1.0
Sharpen Detail : 25
Sharpen Edge Masking : 0
Post Crop Vignette Amount : 0
Convert To Grayscale : False
Tone Curve Name : Medium Contrast
Camera Profile : Adobe Standard
Has Settings : True
Has Crop : False
Already Applied : True
Sidecar For Extension : NEF
Color Mode : RGB
ICC Profile Name : Adobe RGB (1998)
Flash Fired : False
Flash Return : No return detection
Flash Mode : Unknown
Flash Function : False
Flash Red Eye Mode : False
Creator : PHILIP.F.HIGGINS
Rights : PHILIP.F.HIGGINS@ PHIGGYS.COM
Tone Curve : 0, 0, 32, 22, 64, 56, 128, 128, 192, 196, 255, 255
Image Width : 200
Image Height : 300
Bits Per Sample : 8
Color Components : 3
Aperture : 22.0
Image Size : 200x300
Megapixels : 0.060
Scale Factor To 35 mm Equivalent : 1.0
Shutter Speed : 10
Flash : No Flash
Circle Of Confusion : 0.030 mm
Field Of View : 65.5 deg
Focal Length : 28.0 mm (35 mm equivalent: 28.0 mm)
Hyperfocal Distance : 1.19 m
Light Value : 4.6
Lens ID : 28.0-200.0mm f/3.5-5.6