Uber Exif Photo
Make : NIKON CORPORATION
Camera Model Name : NIKON D700
Orientation : Horizontal (normal)
Software : ViewNX 2.1 M
Modify Date : 2011:10:17 07:34:30
Exposure Time : 1/80
F Number : 8.0
Exposure Program : Aperture-priority AE
ISO : 800
Date/Time Original : 2011:09:19 11:42:02
Create Date : 2011:09:19 11:42:02
Shutter Speed Value : 0.3
Aperture Value : 8.0
Exposure Compensation : -1/3
Max Aperture Value : 2.8
Subject Distance : 6.31 m
Metering Mode : Multi-segment
Light Source : Unknown
Flash : No Flash
Focal Length : 155.0 mm
Maker Note Version : 2.10
Image Data Size : 595463
Nikon Capture Version : ViewNX 2.1 M
IFD0 Offset : 1106
Preview IFD Offset : 1006
NEF Bit Depth : n/a (JPEG)
Color Space : Uncalibrated
Exif Image Width : 1000
Exif Image Height : 750
Sensing Method : One-chip color area
Scene Type : Directly photographed
CFA Pattern : [Red,Green][Green,Blue]
Custom Rendered : Normal
Exposure Mode : Auto
White Balance : Auto
Digital Zoom Ratio : 1
Focal Length In 35mm Format : 155 mm
Scene Capture Type : Standard
Gain Control : Low gain up
Contrast : Normal
Saturation : Normal
Sharpness : Normal
Subject Distance Range : Unknown
Profile Description : sRGB IEC61966-2.1
Rating Percent : 0
Creator Tool : Nikon Transfer 2.1 M
Rating : 0
Serial Number : 2002014
Lens Info : 70-200mm f/2.8
Lens : 70.0-200.0 mm f/2.8
Image Number : 20213
Raw File Name : DSC_0097.NEF
Version : 6.0
Process Version : 5.7
Color Temperature : 4400
Tint : +27
Exposure : +0.25
Shadows : 8
Brightness : +50
Luminance Smoothing : 0
Color Noise Reduction : 25
Chromatic Aberration R : 0
Chromatic Aberration B : 0
Vignette Amount : 0
Shadow Tint : 0
Red Hue : 0
Red Saturation : 0
Green Hue : 0
Green Saturation : 0
Blue Hue : 0
Blue Saturation : 0
Fill Light : 0
Vibrance : +6
Highlight Recovery : 0
Clarity : +18
Defringe : 0
Hue Adjustment Red : 0
Hue Adjustment Orange : 0
Hue Adjustment Yellow : 0
Hue Adjustment Green : 0
Hue Adjustment Aqua : 0
Hue Adjustment Blue : 0
Hue Adjustment Purple : 0
Hue Adjustment Magenta : 0
Saturation Adjustment Red : 0
Saturation Adjustment Orange : 0
Saturation Adjustment Yellow : 0
Saturation Adjustment Green : 0
Saturation Adjustment Aqua : 0
Saturation Adjustment Blue : 0
Saturation Adjustment Purple : 0
Saturation Adjustment Magenta : 0
Luminance Adjustment Red : 0
Luminance Adjustment Orange : 0
Luminance Adjustment Yellow : 0
Luminance Adjustment Green : 0
Luminance Adjustment Aqua : 0
Luminance Adjustment Blue : 0
Luminance Adjustment Purple : 0
Luminance Adjustment Magenta : 0
Split Toning Shadow Hue : 0
Split Toning Shadow Saturation : 0
Split Toning Highlight Hue : 0
Split Toning Highlight Saturation : 0
Split Toning Balance : 0
Parametric Shadows : 0
Parametric Darks : 0
Parametric Lights : -16
Parametric Highlights : 0
Parametric Shadow Split : 25
Parametric Midtone Split : 50
Parametric Highlight Split : 75
Sharpen Radius : +1.0
Sharpen Detail : 25
Sharpen Edge Masking : 0
Post Crop Vignette Amount : 0
Grain Amount : 0
Color Noise Reduction Detail : 50
Convert To Grayscale : False
Tone Curve Name : Medium Contrast
Camera Profile : Adobe Standard
Has Settings : True
Has Crop : False
Already Applied : True
Sidecar For Extension : NEF
Color Mode : RGB
ICC Profile Name : sRGB IEC61966-2.1
Date Created : 2011:09:19 11:42:02.03
Format : image/jpeg
Tone Curve : 0, 0, 32, 22, 64, 56, 128, 128, 192, 196, 255, 255
Image Width : 300
Image Height : 225
Bits Per Sample : 8
Color Components : 3
Aperture : 8.0
Image Size : 300x225
Megapixels : 0.068
Scale Factor To 35 mm Equivalent : 1.0
Shutter Speed : 1/80
Create Date : 2011:09:19 11:42:02.30
Date/Time Original : 2011:09:19 11:42:02.30
Modify Date : 2011:10:17 07:34:30.30
Circle Of Confusion : 0.030 mm
Depth Of Field : 0.78 m (5.94 - 6.72 m)
Field Of View : 13.2 deg
Focal Length : 155.0 mm (35 mm equivalent: 155.0 mm)
Hyperfocal Distance : 99.95 m
Light Value : 9.3
Lens ID : AF-S Nikkor 70-200mm f/2.8G ED VR II