Uber Exif Photo
By-line : VidalSmithJr
Copyright Notice : VidalSmithJr
Make : NIKON CORPORATION
Camera Model Name : NIKON D7000
Orientation : Horizontal (normal)
Software : Adobe Photoshop CS5 Macintosh
Modify Date : 2011:10:27 11:34:43
Artist : VidalSmithJr
Copyright : VidalSmithJr
Exposure Time : 1/60
F Number : 5.6
Exposure Program : Aperture-priority AE
ISO : 320
Sensitivity Type : Recommended Exposure Index
Date/Time Original : 2011:10:26 15:22:52
Create Date : 2011:10:26 15:22:52
Shutter Speed Value : 1/60
Aperture Value : 5.6
Exposure Compensation : 0
Max Aperture Value : 5.7
Subject Distance : 4294967295 m
Metering Mode : Multi-segment
Light Source : Unknown
Flash : Off, Did not fire
Focal Length : 105.0 mm
User Comment : (c)VidalSmithJr
Color Space : Uncalibrated
Exif Image Width : 889
Exif Image Height : 1000
Sensing Method : One-chip color area
Scene Type : Directly photographed
CFA Pattern : [Red,Green][Green,Blue]
Custom Rendered : Normal
Exposure Mode : Auto
White Balance : Auto
Digital Zoom Ratio : 1
Focal Length In 35mm Format : 157 mm
Scene Capture Type : Standard
Gain Control : None
Contrast : Normal
Saturation : Normal
Sharpness : Hard
Subject Distance Range : Unknown
Serial Number : 3081225
Lens Info : 18-105mm f/3.5-5.6
Lens Model : 18.0-105.0 mm f/3.5-5.6
Profile Description : Adobe RGB (1998)
Format : image/jpeg
Creator Tool : Adobe Photoshop CS5 Macintosh
Rating : 0
Lens : 18.0-105.0 mm f/3.5-5.6
Image Number : 3191
Approximate Focus Distance : 4294967295
Date Created : 2011:10:26 15:22:52.003
Color Mode : RGB
ICC Profile Name : Adobe RGB (1998)
Raw File Name : DSC_3132.NEF
Version : 6.5
Process Version : 5.7
Color Temperature : 4950
Tint : +23
Exposure : +0.40
Shadows : 19
Brightness : +30
Luminance Smoothing : 0
Color Noise Reduction : 25
Chromatic Aberration R : 0
Chromatic Aberration B : 0
Vignette Amount : 0
Shadow Tint : 0
Red Hue : 0
Red Saturation : 0
Green Hue : 0
Green Saturation : 0
Blue Hue : 0
Blue Saturation : 0
Fill Light : 29
Vibrance : +21
Highlight Recovery : 0
Clarity : +46
Defringe : 0
Hue Adjustment Red : 0
Hue Adjustment Orange : 0
Hue Adjustment Yellow : 0
Hue Adjustment Green : 0
Hue Adjustment Aqua : 0
Hue Adjustment Blue : 0
Hue Adjustment Purple : 0
Hue Adjustment Magenta : 0
Saturation Adjustment Red : 0
Saturation Adjustment Orange : 0
Saturation Adjustment Yellow : 0
Saturation Adjustment Green : 0
Saturation Adjustment Aqua : 0
Saturation Adjustment Blue : 0
Saturation Adjustment Purple : 0
Saturation Adjustment Magenta : 0
Luminance Adjustment Red : 0
Luminance Adjustment Orange : 0
Luminance Adjustment Yellow : 0
Luminance Adjustment Green : 0
Luminance Adjustment Aqua : 0
Luminance Adjustment Blue : 0
Luminance Adjustment Purple : 0
Luminance Adjustment Magenta : 0
Split Toning Shadow Hue : 0
Split Toning Shadow Saturation : 0
Split Toning Highlight Hue : 0
Split Toning Highlight Saturation : 0
Split Toning Balance : 0
Parametric Shadows : 0
Parametric Darks : 0
Parametric Lights : 0
Parametric Highlights : 0
Parametric Shadow Split : 25
Parametric Midtone Split : 50
Parametric Highlight Split : 75
Sharpen Radius : +1.0
Sharpen Detail : 25
Sharpen Edge Masking : 0
Post Crop Vignette Amount : 0
Grain Amount : 0
Color Noise Reduction Detail : 50
Lens Profile Enable : 0
Lens Manual Distortion Amount : 0
Perspective Vertical : 0
Perspective Horizontal : 0
Perspective Rotate : 0.0
Perspective Scale : 100
Convert To Grayscale : False
Tone Curve Name : Medium Contrast
Camera Profile : Adobe Standard
Lens Profile Setup : LensDefaults
Has Settings : True
Has Crop : False
Already Applied : True
Creator : VidalSmithJr
Rights : VidalSmithJr
Tone Curve : 0, 0, 32, 22, 64, 56, 128, 128, 192, 196, 255, 255
Image Width : 267
Image Height : 300
Bits Per Sample : 8
Color Components : 3
Aperture : 5.6
Image Size : 267x300
Megapixels : 0.080
Scale Factor To 35 mm Equivalent : 1.5
Shutter Speed : 1/60
Create Date : 2011:10:26 15:22:52.30
Date/Time Original : 2011:10:26 15:22:52.30
Modify Date : 2011:10:27 11:34:43.30
Circle Of Confusion : 0.020 mm
Depth Of Field : inf (97.97 m - inf)
Field Of View : 13.1 deg
Focal Length : 105.0 mm (35 mm equivalent: 157.0 mm)
Hyperfocal Distance : 97.97 m
Light Value : 9.2
Lens ID : AF-S DX VR Zoom-Nikkor 18-105mm f/3.5-5.6G ED